BEGIN:VCALENDAR
VERSION:2.0
PRODID:-//CRSN - ECPv6.15.20//NONSGML v1.0//EN
CALSCALE:GREGORIAN
METHOD:PUBLISH
X-ORIGINAL-URL:https://classicalreception.org
X-WR-CALDESC:Events for CRSN
REFRESH-INTERVAL;VALUE=DURATION:PT1H
X-Robots-Tag:noindex
X-PUBLISHED-TTL:PT1H
BEGIN:VTIMEZONE
TZID:UTC
BEGIN:STANDARD
TZOFFSETFROM:+0000
TZOFFSETTO:+0000
TZNAME:UTC
DTSTART:20250101T000000
END:STANDARD
END:VTIMEZONE
BEGIN:VEVENT
DTSTART;VALUE=DATE:20261022
DTEND;VALUE=DATE:20261024
DTSTAMP:20260423T064655
CREATED:20260227T142805Z
LAST-MODIFIED:20260227T142805Z
UID:4187-1792627200-1792799999@classicalreception.org
SUMMARY:So(cially) Ancient! Representing Ancient and Early Medieval Social\, Ethnic and Religious Realities in Video Games
DESCRIPTION:Register: https://forms.gle/jWQyg7EuKFqaDCiJA "Novel Classics" - 1:00-2:00 Tolkien’s The Bovadium Fragments: A Metareception of Classics with… Continue reading Antiquity in Media Studies March Event
URL:https://classicalreception.org/event/socially-ancient-representing-ancient-and-early-medieval-social-ethnic-and-religious-realities-in-video-games/
LOCATION:Finnish Institute at Athens
CATEGORIES:Conference
END:VEVENT
END:VCALENDAR