BEGIN:VCALENDAR
VERSION:2.0
PRODID:-//CRSN - ECPv6.15.20//NONSGML v1.0//EN
CALSCALE:GREGORIAN
METHOD:PUBLISH
X-WR-CALNAME:CRSN
X-ORIGINAL-URL:https://classicalreception.org
X-WR-CALDESC:Events for CRSN
REFRESH-INTERVAL;VALUE=DURATION:PT1H
X-Robots-Tag:noindex
X-PUBLISHED-TTL:PT1H
BEGIN:VTIMEZONE
TZID:UTC
BEGIN:STANDARD
TZOFFSETFROM:+0000
TZOFFSETTO:+0000
TZNAME:UTC
DTSTART:20250101T000000
END:STANDARD
END:VTIMEZONE
BEGIN:VEVENT
DTSTART;TZID=UTC:20260329T130000
DTEND;TZID=UTC:20260329T163000
DTSTAMP:20260423T111203
CREATED:20260317T124402Z
LAST-MODIFIED:20260317T124402Z
UID:4256-1774789200-1774801800@classicalreception.org
SUMMARY:Antiquity in Media Studies March Event
DESCRIPTION:Register: https://forms.gle/jWQyg7EuKFqaDCiJA "Novel Classics" - 1:00-2:00 Tolkien’s The Bovadium Fragments: A Metareception of Classics with… Continue reading Antiquity in Media Studies March Event
URL:https://classicalreception.org/event/antiquity-in-media-studies-march-event/
CATEGORIES:Conference
END:VEVENT
END:VCALENDAR