BEGIN:VCALENDAR
VERSION:2.0
PRODID:-//CRSN - ECPv6.15.20//NONSGML v1.0//EN
CALSCALE:GREGORIAN
METHOD:PUBLISH
X-WR-CALNAME:CRSN
X-ORIGINAL-URL:https://classicalreception.org
X-WR-CALDESC:Events for CRSN
REFRESH-INTERVAL;VALUE=DURATION:PT1H
X-Robots-Tag:noindex
X-PUBLISHED-TTL:PT1H
BEGIN:VTIMEZONE
TZID:UTC
BEGIN:STANDARD
TZOFFSETFROM:+0000
TZOFFSETTO:+0000
TZNAME:UTC
DTSTART:20250101T000000
END:STANDARD
END:VTIMEZONE
BEGIN:VEVENT
DTSTART;TZID=UTC:20260509T180000
DTEND;TZID=UTC:20260509T203000
DTSTAMP:20260423T053117
CREATED:20260309T104218Z
LAST-MODIFIED:20260309T104218Z
UID:4203-1778349600-1778358600@classicalreception.org
SUMMARY:Experiencing the last days of Pompeii through silent cinema
DESCRIPTION:A one-off screening of the rarely seen silent epic film Jone o Gli ultimi giorni di Pompei (Jone or The Last Days of… Continue reading Experiencing the last days of Pompeii through silent cinema
URL:https://classicalreception.org/event/experiencing-the-last-days-of-pompeii-through-silent-cinema/
LOCATION:The Bloomsbury Theatre\, 15 Gordon Street\, London\, London WC1H0AH\, United Kingdom
CATEGORIES:Film/TV screening,Public Event
ATTACH;FMTTYPE=image/jpeg:https://classicalreception.org/wp-content/uploads/2026/03/Image-1.jpg
END:VEVENT
END:VCALENDAR