BEGIN:VCALENDAR
VERSION:2.0
PRODID:-//CRSN - ECPv6.15.20//NONSGML v1.0//EN
CALSCALE:GREGORIAN
METHOD:PUBLISH
X-WR-CALNAME:CRSN
X-ORIGINAL-URL:https://classicalreception.org
X-WR-CALDESC:Events for CRSN
REFRESH-INTERVAL;VALUE=DURATION:PT1H
X-Robots-Tag:noindex
X-PUBLISHED-TTL:PT1H
BEGIN:VTIMEZONE
TZID:UTC
BEGIN:STANDARD
TZOFFSETFROM:+0000
TZOFFSETTO:+0000
TZNAME:UTC
DTSTART:20240101T000000
END:STANDARD
END:VTIMEZONE
BEGIN:VEVENT
DTSTART;TZID=UTC:20250925T180000
DTEND;TZID=UTC:20250925T190000
DTSTAMP:20260423T182115
CREATED:20250911T123545Z
LAST-MODIFIED:20250911T123545Z
UID:3864-1758823200-1758826800@classicalreception.org
SUMMARY:STARR: Stefano Parrinello (St Andrews)
DESCRIPTION:*title TBC" [on the reception of poetry in ancient philosophy] For access to the online… Continue reading STARR: Stefano Parrinello (St Andrews)
URL:https://classicalreception.org/event/starr-stefano-parrinello-st-andrews/
LOCATION:Swallowgate\, St Andrews
CATEGORIES:Seminar
END:VEVENT
END:VCALENDAR