BEGIN:VCALENDAR
VERSION:2.0
PRODID:-//CRSN - ECPv6.15.20//NONSGML v1.0//EN
CALSCALE:GREGORIAN
METHOD:PUBLISH
X-ORIGINAL-URL:https://classicalreception.org
X-WR-CALDESC:Events for CRSN
REFRESH-INTERVAL;VALUE=DURATION:PT1H
X-Robots-Tag:noindex
X-PUBLISHED-TTL:PT1H
BEGIN:VTIMEZONE
TZID:UTC
BEGIN:STANDARD
TZOFFSETFROM:+0000
TZOFFSETTO:+0000
TZNAME:UTC
DTSTART:20250101T000000
END:STANDARD
END:VTIMEZONE
BEGIN:VEVENT
DTSTART;VALUE=DATE:20260515
DTEND;VALUE=DATE:20260516
DTSTAMP:20260423T051332
CREATED:20260329T175139Z
LAST-MODIFIED:20260329T175139Z
UID:4277-1778803200-1778889599@classicalreception.org
SUMMARY:CfP 4th International Classics Conference in Ghana
DESCRIPTION:Classics at the Crossroads University of Ghana\, Legon 3–4 September 2026 Over the past decade\,… Continue reading CfP 4th International Classics Conference in Ghana
URL:https://classicalreception.org/event/cfp-4th-international-classics-conference-in-ghana/
CATEGORIES:Conference
ATTACH;FMTTYPE=image/jpeg:https://classicalreception.org/wp-content/uploads/2026/03/OIP-e1774805687988.jpg
END:VEVENT
BEGIN:VEVENT
DTSTART;VALUE=DATE:20260903
DTEND;VALUE=DATE:20260905
DTSTAMP:20260423T051332
CREATED:20260329T174539Z
LAST-MODIFIED:20260329T174556Z
UID:4275-1788393600-1788566399@classicalreception.org
SUMMARY:4th International Classics Conference in Ghana (ICCG)
DESCRIPTION:Classics at the Crossroads University of Ghana\, Legon 3–4 September 2026 Over the past decade\,… Continue reading CfP 4th International Classics Conference in Ghana
URL:https://classicalreception.org/event/4th-international-classics-conference-in-ghana-iccg/
CATEGORIES:Conference
ATTACH;FMTTYPE=image/jpeg:https://classicalreception.org/wp-content/uploads/2026/03/OIP-e1774805687988.jpg
END:VEVENT
END:VCALENDAR