BEGIN:VCALENDAR
VERSION:2.0
PRODID:-//CRSN - ECPv6.15.20//NONSGML v1.0//EN
CALSCALE:GREGORIAN
METHOD:PUBLISH
X-ORIGINAL-URL:https://classicalreception.org
X-WR-CALDESC:Events for CRSN
REFRESH-INTERVAL;VALUE=DURATION:PT1H
X-Robots-Tag:noindex
X-PUBLISHED-TTL:PT1H
BEGIN:VTIMEZONE
TZID:UTC
BEGIN:STANDARD
TZOFFSETFROM:+0000
TZOFFSETTO:+0000
TZNAME:UTC
DTSTART:20250101T000000
END:STANDARD
END:VTIMEZONE
BEGIN:VEVENT
DTSTART;VALUE=DATE:20261119
DTEND;VALUE=DATE:20261122
DTSTAMP:20260423T041114
CREATED:20260401T104538Z
LAST-MODIFIED:20260401T105416Z
UID:4282-1795046400-1795305599@classicalreception.org
SUMMARY:Reimagining Futures\, Reinventing Pasts: Classical Antiquity and the Making of Imagined Worlds (AMPRAW 2026)
DESCRIPTION:Annual Meeting of Postgraduates in the Reception of the Ancient World 2026 About the Conference… Continue reading Reimagining Futures\, Reinventing Pasts: Classical Antiquity and the Making of Imagined Worlds (AMPRAW 2026)
URL:https://classicalreception.org/event/reimagining-futures-reinventing-pasts-classical-antiquity-and-the-making-of-imagined-worlds-ampraw-2026/
CATEGORIES:Conference
END:VEVENT
END:VCALENDAR