BEGIN:VCALENDAR
VERSION:2.0
PRODID:-//CRSN - ECPv6.15.20//NONSGML v1.0//EN
CALSCALE:GREGORIAN
METHOD:PUBLISH
X-ORIGINAL-URL:https://classicalreception.org
X-WR-CALDESC:Events for CRSN
REFRESH-INTERVAL;VALUE=DURATION:PT1H
X-Robots-Tag:noindex
X-PUBLISHED-TTL:PT1H
BEGIN:VTIMEZONE
TZID:UTC
BEGIN:STANDARD
TZOFFSETFROM:+0000
TZOFFSETTO:+0000
TZNAME:UTC
DTSTART:20250101T000000
END:STANDARD
END:VTIMEZONE
BEGIN:VEVENT
DTSTART;TZID=UTC:20260511T120000
DTEND;TZID=UTC:20260511T130000
DTSTAMP:20260423T081437
CREATED:20260313T125004Z
LAST-MODIFIED:20260315T125304Z
UID:4231-1778500800-1778504400@classicalreception.org
SUMMARY:Reimena Yee (in conversation with Dr Leslie Wong) - Becoming A Death Doula for the Alexander Romance
DESCRIPTION:As a chronicle of one of history’s greatest conquerors\, the Alexander Romance’s travels across time… Continue reading Reimena Yee (in conversation with Dr Leslie Wong) – Becoming A Death Doula for the Alexander Romance
URL:https://classicalreception.org/event/reimena-yee-in-conversation-with-dr-leslie-wong-becoming-a-death-doula-for-the-alexander-romance/
CATEGORIES:Seminar
ATTACH;FMTTYPE=image/jpeg:https://classicalreception.org/wp-content/uploads/2026/03/INSEXTS008-Cover-FIN-e1773578835375.jpg
END:VEVENT
END:VCALENDAR