BEGIN:VCALENDAR
VERSION:2.0
PRODID:-//CRSN - ECPv6.15.20//NONSGML v1.0//EN
CALSCALE:GREGORIAN
METHOD:PUBLISH
X-ORIGINAL-URL:https://classicalreception.org
X-WR-CALDESC:Events for CRSN
REFRESH-INTERVAL;VALUE=DURATION:PT1H
X-Robots-Tag:noindex
X-PUBLISHED-TTL:PT1H
BEGIN:VTIMEZONE
TZID:UTC
BEGIN:STANDARD
TZOFFSETFROM:+0000
TZOFFSETTO:+0000
TZNAME:UTC
DTSTART:20240101T000000
END:STANDARD
END:VTIMEZONE
BEGIN:VEVENT
DTSTART;TZID=UTC:20250609T153000
DTEND;TZID=UTC:20250609T170000
DTSTAMP:20260424T003324
CREATED:20250227T165544Z
LAST-MODIFIED:20250410T134801Z
UID:3757-1749483000-1749488400@classicalreception.org
SUMMARY:CRSN/ICS Classical Reception Summer Seminar Series
DESCRIPTION:Annual Meeting of Postgraduates in the Reception of the Ancient World 2026 About the Conference… Continue reading Reimagining Futures\, Reinventing Pasts: Classical Antiquity and the Making of Imagined Worlds (AMPRAW 2026)
URL:https://classicalreception.org/event/crsn-ics-classical-reception-summer-seminar-series-5/
CATEGORIES:Seminar
END:VEVENT
END:VCALENDAR