BEGIN:VCALENDAR
VERSION:2.0
PRODID:-//CRSN - ECPv6.15.20//NONSGML v1.0//EN
CALSCALE:GREGORIAN
METHOD:PUBLISH
X-WR-CALNAME:CRSN
X-ORIGINAL-URL:https://classicalreception.org
X-WR-CALDESC:Events for CRSN
REFRESH-INTERVAL;VALUE=DURATION:PT1H
X-Robots-Tag:noindex
X-PUBLISHED-TTL:PT1H
BEGIN:VTIMEZONE
TZID:UTC
BEGIN:STANDARD
TZOFFSETFROM:+0000
TZOFFSETTO:+0000
TZNAME:UTC
DTSTART:20240101T000000
END:STANDARD
END:VTIMEZONE
BEGIN:VEVENT
DTSTART;TZID=UTC:20251113T180000
DTEND;TZID=UTC:20251113T190000
DTSTAMP:20260423T171347
CREATED:20250911T124708Z
LAST-MODIFIED:20250911T124708Z
UID:3877-1763056800-1763060400@classicalreception.org
SUMMARY:STARR: Sebastian Marshall (St Andrews)
DESCRIPTION:"Relief in the Round: Terracotta Classicism and the Homeric Friezes of Ickworth House" For access… Continue reading STARR: Sebastian Marshall (St Andrews)
URL:https://classicalreception.org/event/starr-sebastian-marshall-st-andrews/
LOCATION:Swallowgate\, St Andrews
CATEGORIES:Seminar
END:VEVENT
END:VCALENDAR