BEGIN:VCALENDAR
VERSION:2.0
PRODID:-//CRSN - ECPv6.15.20//NONSGML v1.0//EN
CALSCALE:GREGORIAN
METHOD:PUBLISH
X-ORIGINAL-URL:https://classicalreception.org
X-WR-CALDESC:Events for CRSN
REFRESH-INTERVAL;VALUE=DURATION:PT1H
X-Robots-Tag:noindex
X-PUBLISHED-TTL:PT1H
BEGIN:VTIMEZONE
TZID:UTC
BEGIN:STANDARD
TZOFFSETFROM:+0000
TZOFFSETTO:+0000
TZNAME:UTC
DTSTART:20250101T000000
END:STANDARD
END:VTIMEZONE
BEGIN:VEVENT
DTSTART;VALUE=DATE:20260615
DTEND;VALUE=DATE:20260616
DTSTAMP:20260423T080130
CREATED:20260401T104447Z
LAST-MODIFIED:20260401T104447Z
UID:4286-1781481600-1781567999@classicalreception.org
SUMMARY:CfP: Reimagining Futures\, Reinventing Pasts: Classical Antiquity and the Making of Imagined Worlds (AMPRAW 2026)
DESCRIPTION:Annual Meeting of Postgraduates in the Reception of the Ancient World 2026 About the Conference… Continue reading Reimagining Futures\, Reinventing Pasts: Classical Antiquity and the Making of Imagined Worlds (AMPRAW 2026)
URL:https://classicalreception.org/event/cfp-reimagining-futures-reinventing-pasts-classical-antiquity-and-the-making-of-imagined-worlds-ampraw-2026/
ATTACH;FMTTYPE=image/png:https://classicalreception.org/wp-content/uploads/2026/03/AMPRAW-Image.png
END:VEVENT
END:VCALENDAR