BEGIN:VCALENDAR
VERSION:2.0
PRODID:-//CRSN - ECPv6.15.20//NONSGML v1.0//EN
CALSCALE:GREGORIAN
METHOD:PUBLISH
X-WR-CALNAME:CRSN
X-ORIGINAL-URL:https://classicalreception.org
X-WR-CALDESC:Events for CRSN
REFRESH-INTERVAL;VALUE=DURATION:PT1H
X-Robots-Tag:noindex
X-PUBLISHED-TTL:PT1H
BEGIN:VTIMEZONE
TZID:UTC
BEGIN:STANDARD
TZOFFSETFROM:+0000
TZOFFSETTO:+0000
TZNAME:UTC
DTSTART:20170101T000000
END:STANDARD
END:VTIMEZONE
BEGIN:VEVENT
DTSTART;TZID=UTC:20190305T170000
DTEND;TZID=UTC:20190305T170000
DTSTAMP:20260424T004115
CREATED:20190205T141059Z
LAST-MODIFIED:20190205T141059Z
UID:1291-1551805200-1551805200@classicalreception.org
SUMMARY:Laura Jansen\,  ‘Readers of Classical Absences: Italo Calvino and Alberto Manguel’
DESCRIPTION:The Maynooth University Department of Ancient Classics is pleased to announce the following programme of… Continue reading David Scourfield\, ‘From The Ides of March to Augustus: Literary Form\, Historical “Reality”\, and Philosophical Exploration in Two Novels of Ancient Rome’
URL:https://classicalreception.org/event/laura-jansen-readers-of-classical-absences-italo-calvino-and-alberto-manguel/
LOCATION:University of Liverpool
CATEGORIES:Seminar
END:VEVENT
BEGIN:VEVENT
DTSTART;TZID=UTC:20190301T170000
DTEND;TZID=UTC:20190301T183000
DTSTAMP:20260424T004115
CREATED:20190103T203619Z
LAST-MODIFIED:20190103T203619Z
UID:1222-1551459600-1551465000@classicalreception.org
SUMMARY:Mathias Hanses\, 'Black Cicero: (Re-)Reading the Classics with W. E. B. Du Bois'
DESCRIPTION:The Maynooth University Department of Ancient Classics is pleased to announce the following programme of… Continue reading David Scourfield\, ‘From The Ides of March to Augustus: Literary Form\, Historical “Reality”\, and Philosophical Exploration in Two Novels of Ancient Rome’
URL:https://classicalreception.org/event/mathias-hanses-black-cicero-re-reading-the-classics-with-w-e-b-du-bois/
LOCATION:University of Warwick\, Coventry\, CV4 7AL
CATEGORIES:Seminar
END:VEVENT
BEGIN:VEVENT
DTSTART;TZID=UTC:20190228T153000
DTEND;TZID=UTC:20190228T173000
DTSTAMP:20260424T004115
CREATED:20181109T130627Z
LAST-MODIFIED:20190114T113324Z
UID:1181-1551367800-1551375000@classicalreception.org
SUMMARY:Sex\, Sexuality and Classical Reception
DESCRIPTION:The Maynooth University Department of Ancient Classics is pleased to announce the following programme of… Continue reading David Scourfield\, ‘From The Ides of March to Augustus: Literary Form\, Historical “Reality”\, and Philosophical Exploration in Two Novels of Ancient Rome’
URL:https://classicalreception.org/event/sex-sexuality-and-classical-reception/
LOCATION:University of Exeter\, Exeter\, EX4 4QD\, United Kingdom
CATEGORIES:Seminar
END:VEVENT
BEGIN:VEVENT
DTSTART;TZID=UTC:20190219T170000
DTEND;TZID=UTC:20190219T170000
DTSTAMP:20260424T004115
CREATED:20190129T212212Z
LAST-MODIFIED:20190129T212212Z
UID:1260-1550595600-1550595600@classicalreception.org
SUMMARY:Martin Revermann\, 'The Greek Presence in Brecht's 'Small Organon for the Theatre''
DESCRIPTION:The Maynooth University Department of Ancient Classics is pleased to announce the following programme of… Continue reading David Scourfield\, ‘From The Ides of March to Augustus: Literary Form\, Historical “Reality”\, and Philosophical Exploration in Two Novels of Ancient Rome’
URL:https://classicalreception.org/event/martin-revermann-the-greek-presence-in-brechts-small-organon-for-the-theatre/
LOCATION:University of Nottingham\, Nottingham\, NG7 2RD\, United Kingdom
CATEGORIES:Seminar
END:VEVENT
BEGIN:VEVENT
DTSTART;TZID=UTC:20190213T160000
DTEND;TZID=UTC:20190213T160000
DTSTAMP:20260424T004115
CREATED:20190109T124438Z
LAST-MODIFIED:20190109T124438Z
UID:1236-1550073600-1550073600@classicalreception.org
SUMMARY:Stephanie Moser\, 'Birmingham's classical treasures: the extraordinary artist's archive of Lawrence Alma-Tadema'
DESCRIPTION:The Maynooth University Department of Ancient Classics is pleased to announce the following programme of… Continue reading David Scourfield\, ‘From The Ides of March to Augustus: Literary Form\, Historical “Reality”\, and Philosophical Exploration in Two Novels of Ancient Rome’
URL:https://classicalreception.org/event/stephanie-moser-birminghams-classical-treasures-the-extraordinary-artists-archive-of-lawrence-alma-tadema/
LOCATION:University of Birmingham\, Edgbaston\, Birmingham\, B15 2TT\, United Kingdom
CATEGORIES:Seminar
END:VEVENT
BEGIN:VEVENT
DTSTART;TZID=UTC:20190207T170000
DTEND;TZID=UTC:20190207T170000
DTSTAMP:20260424T004115
CREATED:20190129T211528Z
LAST-MODIFIED:20190129T211528Z
UID:1257-1549558800-1549558800@classicalreception.org
SUMMARY:Tom Phillips\, ‘Unapprehended Relations: Shelley’s Antiquities’
DESCRIPTION:The Maynooth University Department of Ancient Classics is pleased to announce the following programme of… Continue reading David Scourfield\, ‘From The Ides of March to Augustus: Literary Form\, Historical “Reality”\, and Philosophical Exploration in Two Novels of Ancient Rome’
URL:https://classicalreception.org/event/tom-phillips-unapprehended-relations-shelleys-antiquities/
LOCATION:University of Manchester\, Manchester\, M13 9PL\, United Kingdom
CATEGORIES:Seminar
END:VEVENT
BEGIN:VEVENT
DTSTART;TZID=UTC:20190206T160000
DTEND;TZID=UTC:20190206T160000
DTSTAMP:20260424T004115
CREATED:20190109T124603Z
LAST-MODIFIED:20190109T124617Z
UID:1238-1549468800-1549468800@classicalreception.org
SUMMARY:Katherine Harloe\, 'Winckelmann's love letters: epistolarity\, sexuality and classical reception’
DESCRIPTION:The Maynooth University Department of Ancient Classics is pleased to announce the following programme of… Continue reading David Scourfield\, ‘From The Ides of March to Augustus: Literary Form\, Historical “Reality”\, and Philosophical Exploration in Two Novels of Ancient Rome’
URL:https://classicalreception.org/event/katherine-harloe-winckelmanns-love-letters-epistolarity-sexuality-and-classical-reception-2/
LOCATION:University of Birmingham\, Edgbaston\, Birmingham\, B15 2TT\, United Kingdom
CATEGORIES:Seminar
END:VEVENT
BEGIN:VEVENT
DTSTART;TZID=UTC:20190131T130000
DTEND;TZID=UTC:20190131T140000
DTSTAMP:20260424T004115
CREATED:20190129T214633Z
LAST-MODIFIED:20190129T214633Z
UID:1279-1548939600-1548943200@classicalreception.org
SUMMARY:Anactoria Clarke\, 'Patterns of Empire: Disrupting the Influence of the East in Victorian Reception'
DESCRIPTION:The Maynooth University Department of Ancient Classics is pleased to announce the following programme of… Continue reading David Scourfield\, ‘From The Ides of March to Augustus: Literary Form\, Historical “Reality”\, and Philosophical Exploration in Two Novels of Ancient Rome’
URL:https://classicalreception.org/event/anactoria-clarke-patterns-of-empire-disrupting-the-influence-of-the-east-in-victorian-reception/
LOCATION:University of Liverpool
CATEGORIES:Seminar
END:VEVENT
BEGIN:VEVENT
DTSTART;TZID=UTC:20190124T160000
DTEND;TZID=UTC:20190124T160000
DTSTAMP:20260424T004115
CREATED:20190109T120656Z
LAST-MODIFIED:20190109T120656Z
UID:1231-1548345600-1548345600@classicalreception.org
SUMMARY:Katherine Harloe\, 'Winckelmann’s love letters: epistolarity\, sexuality and classical reception'
DESCRIPTION:The Maynooth University Department of Ancient Classics is pleased to announce the following programme of… Continue reading David Scourfield\, ‘From The Ides of March to Augustus: Literary Form\, Historical “Reality”\, and Philosophical Exploration in Two Novels of Ancient Rome’
URL:https://classicalreception.org/event/katherine-harloe-winckelmanns-love-letters-epistolarity-sexuality-and-classical-reception/
LOCATION:Classics Department\, University of Durham\, 38 North Bailey\, Durham\, DH1 3EU\, United Kingdom
CATEGORIES:Seminar
END:VEVENT
BEGIN:VEVENT
DTSTART;TZID=UTC:20190111T170000
DTEND;TZID=UTC:20190111T180000
DTSTAMP:20260424T004115
CREATED:20181218T214418Z
LAST-MODIFIED:20181218T214418Z
UID:1200-1547226000-1547229600@classicalreception.org
SUMMARY:Tom Phillips\, 'Shelley's Plastic Hellenism'
DESCRIPTION:The Maynooth University Department of Ancient Classics is pleased to announce the following programme of… Continue reading David Scourfield\, ‘From The Ides of March to Augustus: Literary Form\, Historical “Reality”\, and Philosophical Exploration in Two Novels of Ancient Rome’
URL:https://classicalreception.org/event/tom-phillips-shelleys-plastic-hellenism/
LOCATION:University of Warwick\, Coventry\, CV4 7AL
CATEGORIES:Seminar
END:VEVENT
BEGIN:VEVENT
DTSTART;TZID=UTC:20181210T181500
DTEND;TZID=UTC:20181210T203000
DTSTAMP:20260424T004115
CREATED:20180919T130751Z
LAST-MODIFIED:20180919T130751Z
UID:1055-1544465700-1544473800@classicalreception.org
SUMMARY:Ancient and Popular Reception of the Ancient Near East seminar
DESCRIPTION:The Maynooth University Department of Ancient Classics is pleased to announce the following programme of… Continue reading David Scourfield\, ‘From The Ides of March to Augustus: Literary Form\, Historical “Reality”\, and Philosophical Exploration in Two Novels of Ancient Rome’
URL:https://classicalreception.org/event/ancient-and-popular-reception-of-the-ancient-near-east-seminar-5/
LOCATION:SOAS\, Bloomsbury\, London\, WC1H 0XG\, United Kingdom
CATEGORIES:Seminar
END:VEVENT
BEGIN:VEVENT
DTSTART;TZID=UTC:20181203T173000
DTEND;TZID=UTC:20181203T190000
DTSTAMP:20260424T004115
CREATED:20180924T095039Z
LAST-MODIFIED:20180924T095039Z
UID:1060-1543858200-1543863600@classicalreception.org
SUMMARY:'Antipodean Antigones'\, Anastasia Bakogianni
DESCRIPTION:The Maynooth University Department of Ancient Classics is pleased to announce the following programme of… Continue reading David Scourfield\, ‘From The Ides of March to Augustus: Literary Form\, Historical “Reality”\, and Philosophical Exploration in Two Novels of Ancient Rome’
URL:https://classicalreception.org/event/antipodean-antigones-anastasia-bakogianni/
LOCATION:University of Roehampton\, SW15 5PU\, United Kingdom
CATEGORIES:Seminar
END:VEVENT
BEGIN:VEVENT
DTSTART;TZID=UTC:20181130T160000
DTEND;TZID=UTC:20181130T160000
DTSTAMP:20260424T004115
CREATED:20181002T162448Z
LAST-MODIFIED:20181002T162448Z
UID:1078-1543593600-1543593600@classicalreception.org
SUMMARY:Christine Morris\, ‘“Cretomania”: The Representation and Use of the Minoans in Modern Culture’
DESCRIPTION:The Maynooth University Department of Ancient Classics is pleased to announce the following programme of… Continue reading David Scourfield\, ‘From The Ides of March to Augustus: Literary Form\, Historical “Reality”\, and Philosophical Exploration in Two Novels of Ancient Rome’
URL:https://classicalreception.org/event/christine-morris-cretomania-the-representation-and-use-of-the-minoans-in-modern-culture/
LOCATION:Maynooth University\, Maynooth\, County Kildare\, Ireland
CATEGORIES:Seminar
END:VEVENT
BEGIN:VEVENT
DTSTART;TZID=UTC:20181128T160000
DTEND;TZID=UTC:20181128T160000
DTSTAMP:20260424T004115
CREATED:20181008T095357Z
LAST-MODIFIED:20181008T095357Z
UID:1100-1543420800-1543420800@classicalreception.org
SUMMARY:Naoise MacSweeney\, '‘Classics in contemporary political discourse - a global vision?’
DESCRIPTION:The Maynooth University Department of Ancient Classics is pleased to announce the following programme of… Continue reading David Scourfield\, ‘From The Ides of March to Augustus: Literary Form\, Historical “Reality”\, and Philosophical Exploration in Two Novels of Ancient Rome’
URL:https://classicalreception.org/event/naoise-macsweeney-classics-in-contemporary-political-discourse-a-global-vision/
LOCATION:University of Reading\, Reading\, United Kingdom
CATEGORIES:Seminar
END:VEVENT
BEGIN:VEVENT
DTSTART;TZID=UTC:20181126T181500
DTEND;TZID=UTC:20181126T203000
DTSTAMP:20260424T004115
CREATED:20180919T130631Z
LAST-MODIFIED:20180919T130631Z
UID:1053-1543256100-1543264200@classicalreception.org
SUMMARY:Ancient and Popular Reception of the Ancient Near East seminar
DESCRIPTION:The Maynooth University Department of Ancient Classics is pleased to announce the following programme of… Continue reading David Scourfield\, ‘From The Ides of March to Augustus: Literary Form\, Historical “Reality”\, and Philosophical Exploration in Two Novels of Ancient Rome’
URL:https://classicalreception.org/event/ancient-and-popular-reception-of-the-ancient-near-east-seminar-4/
LOCATION:SOAS\, Bloomsbury\, London\, WC1H 0XG\, United Kingdom
CATEGORIES:Seminar
END:VEVENT
BEGIN:VEVENT
DTSTART;TZID=UTC:20181126T113000
DTEND;TZID=UTC:20181126T130000
DTSTAMP:20260424T004115
CREATED:20181008T105602Z
LAST-MODIFIED:20181008T105602Z
UID:1124-1543231800-1543237200@classicalreception.org
SUMMARY:Classics and the Now: 'Reflections / Refractions'
DESCRIPTION:The Maynooth University Department of Ancient Classics is pleased to announce the following programme of… Continue reading David Scourfield\, ‘From The Ides of March to Augustus: Literary Form\, Historical “Reality”\, and Philosophical Exploration in Two Novels of Ancient Rome’
URL:https://classicalreception.org/event/classics-and-the-now-reflections-refractions/
LOCATION:Classics Faculty\, University of Oxford\, 66 St Giles'\, Oxford\, OX1 3LU\, United Kingdom
CATEGORIES:Seminar
END:VEVENT
BEGIN:VEVENT
DTSTART;TZID=UTC:20181120T171500
DTEND;TZID=UTC:20181120T171500
DTSTAMP:20260424T004115
CREATED:20181008T100131Z
LAST-MODIFIED:20181008T100131Z
UID:1108-1542734100-1542734100@classicalreception.org
SUMMARY:Maxine Lewis\, 'Censoring Juventius? The reception of Catullus’ homoerotic poems by Tiffany Atkinson\, Nathaniel Moore and C. K. Stead'
DESCRIPTION:The Maynooth University Department of Ancient Classics is pleased to announce the following programme of… Continue reading David Scourfield\, ‘From The Ides of March to Augustus: Literary Form\, Historical “Reality”\, and Philosophical Exploration in Two Novels of Ancient Rome’
URL:https://classicalreception.org/event/maxine-lewis-censoring-juventius-the-reception-of-catullus-homoerotic-poems-by-tiffany-atkinson-nathaniel-moore-and-c-k-stead/
LOCATION:Classics Faculty\, Cambridge\, Sidgwick Avenue\, Cambridge\, United Kingdom
CATEGORIES:Seminar
END:VEVENT
BEGIN:VEVENT
DTSTART;TZID=UTC:20181119T113000
DTEND;TZID=UTC:20181119T130000
DTSTAMP:20260424T004115
CREATED:20181008T105500Z
LAST-MODIFIED:20181008T105500Z
UID:1122-1542627000-1542632400@classicalreception.org
SUMMARY:Classics and the Now: 'Zeus Panomphaios'
DESCRIPTION:The Maynooth University Department of Ancient Classics is pleased to announce the following programme of… Continue reading David Scourfield\, ‘From The Ides of March to Augustus: Literary Form\, Historical “Reality”\, and Philosophical Exploration in Two Novels of Ancient Rome’
URL:https://classicalreception.org/event/classics-and-the-now-zeus-panomphaios/
LOCATION:Classics Faculty\, University of Oxford\, 66 St Giles'\, Oxford\, OX1 3LU\, United Kingdom
CATEGORIES:Seminar
END:VEVENT
BEGIN:VEVENT
DTSTART;TZID=UTC:20181112T181500
DTEND;TZID=UTC:20181112T203000
DTSTAMP:20260424T004115
CREATED:20180919T130521Z
LAST-MODIFIED:20180919T130521Z
UID:1051-1542046500-1542054600@classicalreception.org
SUMMARY:Ancient and Popular Reception of the Ancient Near East seminar
DESCRIPTION:The Maynooth University Department of Ancient Classics is pleased to announce the following programme of… Continue reading David Scourfield\, ‘From The Ides of March to Augustus: Literary Form\, Historical “Reality”\, and Philosophical Exploration in Two Novels of Ancient Rome’
URL:https://classicalreception.org/event/ancient-and-popular-reception-of-the-ancient-near-east-seminar-3/
LOCATION:SOAS\, Bloomsbury\, London\, WC1H 0XG\, United Kingdom
CATEGORIES:Seminar
END:VEVENT
BEGIN:VEVENT
DTSTART;TZID=UTC:20181112T113000
DTEND;TZID=UTC:20181112T130000
DTSTAMP:20260424T004115
CREATED:20181008T105352Z
LAST-MODIFIED:20181008T105352Z
UID:1120-1542022200-1542027600@classicalreception.org
SUMMARY:Classics and the Now: 'Trans* Historicity: The Past - Queer and Now'
DESCRIPTION:The Maynooth University Department of Ancient Classics is pleased to announce the following programme of… Continue reading David Scourfield\, ‘From The Ides of March to Augustus: Literary Form\, Historical “Reality”\, and Philosophical Exploration in Two Novels of Ancient Rome’
URL:https://classicalreception.org/event/classics-and-the-now-trans-historicity-the-past-queer-and-now/
LOCATION:Classics Faculty\, University of Oxford\, 66 St Giles'\, Oxford\, OX1 3LU\, United Kingdom
CATEGORIES:Seminar
END:VEVENT
BEGIN:VEVENT
DTSTART;TZID=UTC:20181106T160000
DTEND;TZID=UTC:20181106T160000
DTSTAMP:20260424T004115
CREATED:20181024T112414Z
LAST-MODIFIED:20181024T112414Z
UID:1133-1541520000-1541520000@classicalreception.org
SUMMARY:'Classical Reception for Historians'\, Nicholas Cole
DESCRIPTION:The Maynooth University Department of Ancient Classics is pleased to announce the following programme of… Continue reading David Scourfield\, ‘From The Ides of March to Augustus: Literary Form\, Historical “Reality”\, and Philosophical Exploration in Two Novels of Ancient Rome’
URL:https://classicalreception.org/event/classical-reception-for-historians-nicholas-cole/
LOCATION:Classics Faculty\, University of Oxford\, 66 St Giles'\, Oxford\, OX1 3LU\, United Kingdom
CATEGORIES:Seminar
END:VEVENT
BEGIN:VEVENT
DTSTART;TZID=UTC:20181105T113000
DTEND;TZID=UTC:20181105T130000
DTSTAMP:20260424T004115
CREATED:20181008T105235Z
LAST-MODIFIED:20181008T105235Z
UID:1118-1541417400-1541422800@classicalreception.org
SUMMARY:Classics and the Now: 'Epic and the Podcast'
DESCRIPTION:The Maynooth University Department of Ancient Classics is pleased to announce the following programme of… Continue reading David Scourfield\, ‘From The Ides of March to Augustus: Literary Form\, Historical “Reality”\, and Philosophical Exploration in Two Novels of Ancient Rome’
URL:https://classicalreception.org/event/classics-and-the-now-epic-and-the-podcast/
LOCATION:Classics Faculty\, University of Oxford\, 66 St Giles'\, Oxford\, OX1 3LU\, United Kingdom
CATEGORIES:Seminar
END:VEVENT
BEGIN:VEVENT
DTSTART;TZID=UTC:20181031T160000
DTEND;TZID=UTC:20181031T160000
DTSTAMP:20260424T004115
CREATED:20181008T095224Z
LAST-MODIFIED:20181008T095224Z
UID:1098-1541001600-1541001600@classicalreception.org
SUMMARY:Amanda Wrigley\, 'Oral Poetry and the Aural Imagination: Homer\, Modern Poets and Radio'
DESCRIPTION:The Maynooth University Department of Ancient Classics is pleased to announce the following programme of… Continue reading David Scourfield\, ‘From The Ides of March to Augustus: Literary Form\, Historical “Reality”\, and Philosophical Exploration in Two Novels of Ancient Rome’
URL:https://classicalreception.org/event/amanda-wrigley-oral-poetry-and-the-aural-imagination-homer-modern-poets-and-radio/
LOCATION:University of Reading\, Reading\, United Kingdom
CATEGORIES:Seminar
END:VEVENT
BEGIN:VEVENT
DTSTART;TZID=UTC:20181029T113000
DTEND;TZID=UTC:20181029T130000
DTSTAMP:20260424T004115
CREATED:20181008T105117Z
LAST-MODIFIED:20181008T105117Z
UID:1116-1540812600-1540818000@classicalreception.org
SUMMARY:Classics and the Now: 'Untimeliness and Theatre'
DESCRIPTION:The Maynooth University Department of Ancient Classics is pleased to announce the following programme of… Continue reading David Scourfield\, ‘From The Ides of March to Augustus: Literary Form\, Historical “Reality”\, and Philosophical Exploration in Two Novels of Ancient Rome’
URL:https://classicalreception.org/event/classics-and-the-now-untimeliness-and-theatre/
LOCATION:Classics Faculty\, University of Oxford\, 66 St Giles'\, Oxford\, OX1 3LU\, United Kingdom
CATEGORIES:Seminar
END:VEVENT
BEGIN:VEVENT
DTSTART;TZID=UTC:20181025T180000
DTEND;TZID=UTC:20181025T180000
DTSTAMP:20260424T004115
CREATED:20180906T102711Z
LAST-MODIFIED:20180906T102711Z
UID:1029-1540490400-1540490400@classicalreception.org
SUMMARY:MANIAS: Modern Desires for Greek Pasts
DESCRIPTION:The Maynooth University Department of Ancient Classics is pleased to announce the following programme of… Continue reading David Scourfield\, ‘From The Ides of March to Augustus: Literary Form\, Historical “Reality”\, and Philosophical Exploration in Two Novels of Ancient Rome’
URL:https://classicalreception.org/event/manias-modern-desires-for-greek-pasts/
LOCATION:British Academy\, 10 Carlton House Terrace\, London\, SW1Y 5AH\, United Kingdom
CATEGORIES:Public Event,Seminar
END:VEVENT
BEGIN:VEVENT
DTSTART;TZID=UTC:20181025T170000
DTEND;TZID=UTC:20181025T183000
DTSTAMP:20260424T004115
CREATED:20180926T124747Z
LAST-MODIFIED:20180926T124747Z
UID:1068-1540486800-1540492200@classicalreception.org
SUMMARY:Sarah Derbew\, 'The Metatheater of Blackness: Danaids\, Dunbar\, and Ellison'
DESCRIPTION:The Maynooth University Department of Ancient Classics is pleased to announce the following programme of… Continue reading David Scourfield\, ‘From The Ides of March to Augustus: Literary Form\, Historical “Reality”\, and Philosophical Exploration in Two Novels of Ancient Rome’
URL:https://classicalreception.org/event/sarah-derbew-the-metatheater-of-blackness-danaids-dunbar-and-ellison/
LOCATION:University of Warwick\, Coventry\, CV4 7AL
CATEGORIES:Seminar
END:VEVENT
BEGIN:VEVENT
DTSTART;TZID=UTC:20181024T160000
DTEND;TZID=UTC:20181024T160000
DTSTAMP:20260424T004115
CREATED:20181008T094910Z
LAST-MODIFIED:20181008T094910Z
UID:1096-1540396800-1540396800@classicalreception.org
SUMMARY:Jen Grove\, 'From EP Warren to Alfred Kinsey: Collecting Classical Erotica and Theorising Sexuality in the first half of the 20th century'
DESCRIPTION:The Maynooth University Department of Ancient Classics is pleased to announce the following programme of… Continue reading David Scourfield\, ‘From The Ides of March to Augustus: Literary Form\, Historical “Reality”\, and Philosophical Exploration in Two Novels of Ancient Rome’
URL:https://classicalreception.org/event/jen-grove-from-ep-warren-to-alfred-kinsey-collecting-classical-erotica-and-theorising-sexuality-in-the-first-half-of-the-20th-century/
LOCATION:University of Reading\, Reading\, United Kingdom
CATEGORIES:Seminar
END:VEVENT
BEGIN:VEVENT
DTSTART;TZID=UTC:20181024T160000
DTEND;TZID=UTC:20181024T160000
DTSTAMP:20260424T004115
CREATED:20180924T095751Z
LAST-MODIFIED:20180924T095751Z
UID:1066-1540396800-1540396800@classicalreception.org
SUMMARY:'On Translating Sappho'\, Josephine Balmer
DESCRIPTION:The Maynooth University Department of Ancient Classics is pleased to announce the following programme of… Continue reading David Scourfield\, ‘From The Ides of March to Augustus: Literary Form\, Historical “Reality”\, and Philosophical Exploration in Two Novels of Ancient Rome’
URL:https://classicalreception.org/event/on-translating-sappho-josephine-balmer/
LOCATION:University of Birmingham\, Edgbaston\, Birmingham\, B15 2TT\, United Kingdom
CATEGORIES:Seminar
END:VEVENT
BEGIN:VEVENT
DTSTART;TZID=UTC:20181024T130000
DTEND;TZID=UTC:20181024T140000
DTSTAMP:20260424T004115
CREATED:20181008T095736Z
LAST-MODIFIED:20181008T095736Z
UID:1104-1540386000-1540389600@classicalreception.org
SUMMARY:Liz Pender\, 'Classics and Classicists in WW1'
DESCRIPTION:The Maynooth University Department of Ancient Classics is pleased to announce the following programme of… Continue reading David Scourfield\, ‘From The Ides of March to Augustus: Literary Form\, Historical “Reality”\, and Philosophical Exploration in Two Novels of Ancient Rome’
URL:https://classicalreception.org/event/liz-pender-classics-and-classicists-in-ww1/
LOCATION:Institute of Classical Studies\, Senate House\, London\, WC1E 7HU\, United Kingdom
CATEGORIES:Seminar
END:VEVENT
BEGIN:VEVENT
DTSTART;TZID=UTC:20181022T181500
DTEND;TZID=UTC:20181022T203000
DTSTAMP:20260424T004115
CREATED:20180919T130404Z
LAST-MODIFIED:20180919T130404Z
UID:1049-1540232100-1540240200@classicalreception.org
SUMMARY:Ancient and Popular Reception of the Ancient Near East seminar
DESCRIPTION:The Maynooth University Department of Ancient Classics is pleased to announce the following programme of… Continue reading David Scourfield\, ‘From The Ides of March to Augustus: Literary Form\, Historical “Reality”\, and Philosophical Exploration in Two Novels of Ancient Rome’
URL:https://classicalreception.org/event/ancient-and-popular-reception-of-the-ancient-near-east-seminar-2/
LOCATION:SOAS\, Bloomsbury\, London\, WC1H 0XG\, United Kingdom
CATEGORIES:Seminar
END:VEVENT
END:VCALENDAR