BEGIN:VCALENDAR
VERSION:2.0
PRODID:-//CRSN - ECPv6.15.20//NONSGML v1.0//EN
CALSCALE:GREGORIAN
METHOD:PUBLISH
X-WR-CALNAME:CRSN
X-ORIGINAL-URL:https://classicalreception.org
X-WR-CALDESC:Events for CRSN
REFRESH-INTERVAL;VALUE=DURATION:PT1H
X-Robots-Tag:noindex
X-PUBLISHED-TTL:PT1H
BEGIN:VTIMEZONE
TZID:UTC
BEGIN:STANDARD
TZOFFSETFROM:+0000
TZOFFSETTO:+0000
TZNAME:UTC
DTSTART:20180101T000000
END:STANDARD
END:VTIMEZONE
BEGIN:VEVENT
DTSTART;TZID=UTC:20190520T170000
DTEND;TZID=UTC:20190520T170000
DTSTAMP:20260423T172842
CREATED:20190418T153435Z
LAST-MODIFIED:20190418T153435Z
UID:1362-1558371600-1558371600@classicalreception.org
SUMMARY:Lorna Hardwick\, 'Scholarship as reception: horizons and aspirations'
DESCRIPTION:CLASSICS AND ARCHAEOLOGY RESEARCH WORKSHOPS\, University of Nottingham   Humanities Building A02\, University Park All… Continue reading Elena Theodorakopoulos\, ‘Helen’s eidolon in the poetry and prose of Laura Riding’
URL:https://classicalreception.org/event/lorna-hardwick-scholarship-as-reception-horizons-and-aspirations/
LOCATION:Senate House\, University of London\, Malet Street\, London
CATEGORIES:Seminar
END:VEVENT
BEGIN:VEVENT
DTSTART;TZID=UTC:20190516T180000
DTEND;TZID=UTC:20190516T180000
DTSTAMP:20260423T172842
CREATED:20190405T154616Z
LAST-MODIFIED:20190405T154616Z
UID:1344-1558029600-1558029600@classicalreception.org
SUMMARY:Petrie\, Pendlebury\, and Hogarth in Greece and Egypt – A panel discussion
DESCRIPTION:CLASSICS AND ARCHAEOLOGY RESEARCH WORKSHOPS\, University of Nottingham   Humanities Building A02\, University Park All… Continue reading Elena Theodorakopoulos\, ‘Helen’s eidolon in the poetry and prose of Laura Riding’
URL:https://classicalreception.org/event/petrie-pendlebury-and-hogarth-in-greece-and-egypt-a-panel-discussion/
LOCATION:British Academy\, 10 Carlton House Terrace\, London\, SW1Y 5AH\, United Kingdom
CATEGORIES:Seminar
END:VEVENT
BEGIN:VEVENT
DTSTART;TZID=UTC:20190514T171500
DTEND;TZID=UTC:20190514T171500
DTSTAMP:20260423T172842
CREATED:20190307T133654Z
LAST-MODIFIED:20190307T133654Z
UID:1335-1557854100-1557854100@classicalreception.org
SUMMARY:Kathleen Riley\, 'Returning to Salamanca: a Telemachan Odyssey'
DESCRIPTION:CLASSICS AND ARCHAEOLOGY RESEARCH WORKSHOPS\, University of Nottingham   Humanities Building A02\, University Park All… Continue reading Elena Theodorakopoulos\, ‘Helen’s eidolon in the poetry and prose of Laura Riding’
URL:https://classicalreception.org/event/kathleen-riley-returning-to-salamanca-a-telemachan-odyssey/
LOCATION:Classics Faculty\, Cambridge\, Sidgwick Avenue\, Cambridge\, United Kingdom
CATEGORIES:Seminar
END:VEVENT
BEGIN:VEVENT
DTSTART;TZID=UTC:20190513T170000
DTEND;TZID=UTC:20190513T170000
DTSTAMP:20260423T172842
CREATED:20190418T153208Z
LAST-MODIFIED:20190418T153208Z
UID:1358-1557766800-1557766800@classicalreception.org
SUMMARY:Margaret Malamud\, 'Antiquity\, Abolition\, and Activism in Nineteenth Century American Visual Arts'
DESCRIPTION:CLASSICS AND ARCHAEOLOGY RESEARCH WORKSHOPS\, University of Nottingham   Humanities Building A02\, University Park All… Continue reading Elena Theodorakopoulos\, ‘Helen’s eidolon in the poetry and prose of Laura Riding’
URL:https://classicalreception.org/event/margaret-malamud-antiquity-abolition-and-activism-in-nineteenth-century-american-visual-arts/
LOCATION:Senate House\, University of London\, Malet Street\, London
CATEGORIES:Seminar
END:VEVENT
BEGIN:VEVENT
DTSTART;TZID=UTC:20190508T130000
DTEND;TZID=UTC:20190508T130000
DTSTAMP:20260423T172842
CREATED:20190417T135518Z
LAST-MODIFIED:20190417T135518Z
UID:1352-1557320400-1557320400@classicalreception.org
SUMMARY:Martin Reverman\, 'Translation and Performance'
DESCRIPTION:CLASSICS AND ARCHAEOLOGY RESEARCH WORKSHOPS\, University of Nottingham   Humanities Building A02\, University Park All… Continue reading Elena Theodorakopoulos\, ‘Helen’s eidolon in the poetry and prose of Laura Riding’
URL:https://classicalreception.org/event/martin-reverman-translation-and-performance/
LOCATION:Royal Holloway University of London\, Egham\, TW20 0EX\, United Kingdom
CATEGORIES:Seminar
END:VEVENT
BEGIN:VEVENT
DTSTART;TZID=UTC:20190502T180000
DTEND;TZID=UTC:20190502T190000
DTSTAMP:20260423T172842
CREATED:20190418T163245Z
LAST-MODIFIED:20190418T163245Z
UID:1376-1556820000-1556823600@classicalreception.org
SUMMARY:Michael Okyere Asante (Stellenbosch) "Facing Reality: The Future of "African Classics" from a Ghanaian Perspective"
DESCRIPTION:CLASSICS AND ARCHAEOLOGY RESEARCH WORKSHOPS\, University of Nottingham   Humanities Building A02\, University Park All… Continue reading Elena Theodorakopoulos\, ‘Helen’s eidolon in the poetry and prose of Laura Riding’
URL:https://classicalreception.org/event/michael-okyere-asante-stellenbosch-facing-reality-the-future-of-african-classics-from-a-ghanaian-perspective/
LOCATION:University of Warwick\, Coventry\, CV4 7AL
CATEGORIES:Seminar
END:VEVENT
BEGIN:VEVENT
DTSTART;TZID=UTC:20190502T171500
DTEND;TZID=UTC:20190502T171500
DTSTAMP:20260423T172842
CREATED:20190307T133203Z
LAST-MODIFIED:20190307T133203Z
UID:1333-1556817300-1556817300@classicalreception.org
SUMMARY:Adam Lecznar\, ‘Dionysus after Nietzsche: the birth of tragedy in twentieth-century literature and thought’
DESCRIPTION:CLASSICS AND ARCHAEOLOGY RESEARCH WORKSHOPS\, University of Nottingham   Humanities Building A02\, University Park All… Continue reading Elena Theodorakopoulos\, ‘Helen’s eidolon in the poetry and prose of Laura Riding’
URL:https://classicalreception.org/event/adam-lecznar-dionysus-after-nietzsche-the-birth-of-tragedy-in-twentieth-century-literature-and-thought/
LOCATION:Classics Faculty\, Cambridge\, Sidgwick Avenue\, Cambridge\, United Kingdom
CATEGORIES:Seminar
END:VEVENT
BEGIN:VEVENT
DTSTART;TZID=UTC:20190501T130000
DTEND;TZID=UTC:20190501T130000
DTSTAMP:20260423T172842
CREATED:20190417T135358Z
LAST-MODIFIED:20190417T135358Z
UID:1350-1556715600-1556715600@classicalreception.org
SUMMARY:Margaret Malamud\, 'Figuring Classical Heroism: African American Uses of the Classical Tradition'
DESCRIPTION:CLASSICS AND ARCHAEOLOGY RESEARCH WORKSHOPS\, University of Nottingham   Humanities Building A02\, University Park All… Continue reading Elena Theodorakopoulos\, ‘Helen’s eidolon in the poetry and prose of Laura Riding’
URL:https://classicalreception.org/event/margaret-malamud-figuring-classical-heroism-african-american-uses-of-the-classical-tradition/
LOCATION:Royal Holloway University of London\, Egham\, TW20 0EX\, United Kingdom
CATEGORIES:Seminar
END:VEVENT
BEGIN:VEVENT
DTSTART;TZID=UTC:20190409T170000
DTEND;TZID=UTC:20190409T170000
DTSTAMP:20260423T172842
CREATED:20190129T212413Z
LAST-MODIFIED:20190129T212413Z
UID:1264-1554829200-1554829200@classicalreception.org
SUMMARY:Margaret Malamud\, 'Figuring Classical Heroism: African American Uses of Antiquity in the Fight for Emancipation and Social Justice'
DESCRIPTION:CLASSICS AND ARCHAEOLOGY RESEARCH WORKSHOPS\, University of Nottingham   Humanities Building A02\, University Park All… Continue reading Elena Theodorakopoulos\, ‘Helen’s eidolon in the poetry and prose of Laura Riding’
URL:https://classicalreception.org/event/margaret-malamud-figuring-classical-heroism-african-american-uses-of-antiquity-in-the-fight-for-emancipation-and-social-justice/
LOCATION:University of Nottingham\, Nottingham\, NG7 2RD\, United Kingdom
CATEGORIES:Seminar
END:VEVENT
BEGIN:VEVENT
DTSTART;TZID=UTC:20190328T170000
DTEND;TZID=UTC:20190328T170000
DTSTAMP:20260423T172842
CREATED:20190219T113410Z
LAST-MODIFIED:20190219T113410Z
UID:1310-1553792400-1553792400@classicalreception.org
SUMMARY:Elena Theodorakopoulos\, ''Helen’s Faces’: Women and Classics in the 20th century'
DESCRIPTION:CLASSICS AND ARCHAEOLOGY RESEARCH WORKSHOPS\, University of Nottingham   Humanities Building A02\, University Park All… Continue reading Elena Theodorakopoulos\, ‘Helen’s eidolon in the poetry and prose of Laura Riding’
URL:https://classicalreception.org/event/elena-theodorakopoulos-helens-faces-women-and-classics-in-the-20th-century/
LOCATION:Newman University\, Bartley Green\, Birmingham\, B32 3NT\, United Kingdom
CATEGORIES:Seminar
END:VEVENT
BEGIN:VEVENT
DTSTART;TZID=UTC:20190326T170000
DTEND;TZID=UTC:20190326T170000
DTSTAMP:20260423T172842
CREATED:20190205T141527Z
LAST-MODIFIED:20190205T141527Z
UID:1295-1553619600-1553619600@classicalreception.org
SUMMARY:Ross Clare\, ‘The case against studying popular culture as ‘history’’
DESCRIPTION:CLASSICS AND ARCHAEOLOGY RESEARCH WORKSHOPS\, University of Nottingham   Humanities Building A02\, University Park All… Continue reading Elena Theodorakopoulos\, ‘Helen’s eidolon in the poetry and prose of Laura Riding’
URL:https://classicalreception.org/event/ross-clare-the-case-against-studying-popular-culture-as-history/
LOCATION:University of Liverpool
CATEGORIES:Seminar
END:VEVENT
BEGIN:VEVENT
DTSTART;TZID=UTC:20190326T153000
DTEND;TZID=UTC:20190326T170000
DTSTAMP:20260423T172842
CREATED:20190129T213652Z
LAST-MODIFIED:20190129T213652Z
UID:1277-1553614200-1553619600@classicalreception.org
SUMMARY:Elena Theodorakopoulos\, '‘Classical reception in the poetry and prose of Laura Riding: “the ever-dissolving image of deceptively tranquil antiquity”’
DESCRIPTION:CLASSICS AND ARCHAEOLOGY RESEARCH WORKSHOPS\, University of Nottingham   Humanities Building A02\, University Park All… Continue reading Elena Theodorakopoulos\, ‘Helen’s eidolon in the poetry and prose of Laura Riding’
URL:https://classicalreception.org/event/elena-theodorakopoulos-classical-reception-in-the-poetry-and-prose-of-laura-riding-the-ever-dissolving-image-of-deceptively-tranquil-antiquity/
LOCATION:University of Bristol\, Bristol\, BS8 1RJ\, United Kingdom
CATEGORIES:Seminar
END:VEVENT
BEGIN:VEVENT
DTSTART;TZID=UTC:20190321T170000
DTEND;TZID=UTC:20190321T170000
DTSTAMP:20260423T172842
CREATED:20190129T212828Z
LAST-MODIFIED:20190129T212828Z
UID:1270-1553187600-1553187600@classicalreception.org
SUMMARY:Svetlana Yefimenko\, 'Tolstoy's Homer:  Epic in Russian Literature'
DESCRIPTION:CLASSICS AND ARCHAEOLOGY RESEARCH WORKSHOPS\, University of Nottingham   Humanities Building A02\, University Park All… Continue reading Elena Theodorakopoulos\, ‘Helen’s eidolon in the poetry and prose of Laura Riding’
URL:https://classicalreception.org/event/svetlana-yefimenko-tolstoys-homer-epic-in-russian-literature/
LOCATION:University of Leeds\, Leeds\, LS2 9JT\, United Kingdom
CATEGORIES:Seminar
END:VEVENT
BEGIN:VEVENT
DTSTART;TZID=UTC:20190315T170000
DTEND;TZID=UTC:20190315T183000
DTSTAMP:20260423T172842
CREATED:20190103T204150Z
LAST-MODIFIED:20190103T204150Z
UID:1228-1552669200-1552674600@classicalreception.org
SUMMARY:Patrice Rankine\, 'Classical Texts and Contemporary Images: American African Problems'
DESCRIPTION:CLASSICS AND ARCHAEOLOGY RESEARCH WORKSHOPS\, University of Nottingham   Humanities Building A02\, University Park All… Continue reading Elena Theodorakopoulos\, ‘Helen’s eidolon in the poetry and prose of Laura Riding’
URL:https://classicalreception.org/event/patrice-rankine-classical-texts-and-contemporary-images-american-african-problems/
LOCATION:University of Warwick\, Coventry\, CV4 7AL
CATEGORIES:Seminar
END:VEVENT
BEGIN:VEVENT
DTSTART;TZID=UTC:20190312T170000
DTEND;TZID=UTC:20190312T170000
DTSTAMP:20260423T172842
CREATED:20190205T141249Z
LAST-MODIFIED:20190205T141249Z
UID:1293-1552410000-1552410000@classicalreception.org
SUMMARY:Juliette Harrisson\, ‘Greek and Roman Warfare in Terry Pratchett’s Discworld’
DESCRIPTION:CLASSICS AND ARCHAEOLOGY RESEARCH WORKSHOPS\, University of Nottingham   Humanities Building A02\, University Park All… Continue reading Elena Theodorakopoulos\, ‘Helen’s eidolon in the poetry and prose of Laura Riding’
URL:https://classicalreception.org/event/juliette-harrisson-greek-and-roman-warfare-in-terry-pratchetts-discworld/
LOCATION:University of Liverpool
CATEGORIES:Seminar
END:VEVENT
BEGIN:VEVENT
DTSTART;TZID=UTC:20190309T103000
DTEND;TZID=UTC:20190309T153000
DTSTAMP:20260423T172842
CREATED:20190218T212706Z
LAST-MODIFIED:20190218T212706Z
UID:1304-1552127400-1552145400@classicalreception.org
SUMMARY:The London Renaissance Seminar: Ovid in Love and Trouble
DESCRIPTION:CLASSICS AND ARCHAEOLOGY RESEARCH WORKSHOPS\, University of Nottingham   Humanities Building A02\, University Park All… Continue reading Elena Theodorakopoulos\, ‘Helen’s eidolon in the poetry and prose of Laura Riding’
URL:https://classicalreception.org/event/the-london-renaissance-seminar-ovid-in-love-and-trouble/
LOCATION:Birkbeck University\, Malet Street\, London\, WC1E 7HX\, United Kingdom
CATEGORIES:Seminar
ORGANIZER;CN="London Renaissance Seminar":MAILTO:s.wiseman@bbk.ac.uk
END:VEVENT
BEGIN:VEVENT
DTSTART;TZID=UTC:20190308T160000
DTEND;TZID=UTC:20190308T160000
DTSTAMP:20260423T172842
CREATED:20190204T111417Z
LAST-MODIFIED:20190204T111417Z
UID:1289-1552060800-1552060800@classicalreception.org
SUMMARY:David Scourfield\, ‘From The Ides of March to Augustus: Literary Form\, Historical “Reality”\, and Philosophical Exploration in Two Novels of Ancient Rome’
DESCRIPTION:CLASSICS AND ARCHAEOLOGY RESEARCH WORKSHOPS\, University of Nottingham   Humanities Building A02\, University Park All… Continue reading Elena Theodorakopoulos\, ‘Helen’s eidolon in the poetry and prose of Laura Riding’
URL:https://classicalreception.org/event/david-scourfield-from-the-ides-of-march-to-augustus-literary-form-historical-reality-and-philosophical-exploration-in-two-novels-of-ancient-rome/
LOCATION:Maynooth University\, Maynooth\, County Kildare\, Ireland
CATEGORIES:Seminar
END:VEVENT
BEGIN:VEVENT
DTSTART;TZID=UTC:20190307T180000
DTEND;TZID=UTC:20190307T180000
DTSTAMP:20260423T172842
CREATED:20190307T132616Z
LAST-MODIFIED:20190307T132616Z
UID:1331-1551981600-1551981600@classicalreception.org
SUMMARY:Sofia Greaves\, 'The mythic method. Subversive classicism in Giorgio de Chirico and British painting of the late 1920s'
DESCRIPTION:CLASSICS AND ARCHAEOLOGY RESEARCH WORKSHOPS\, University of Nottingham   Humanities Building A02\, University Park All… Continue reading Elena Theodorakopoulos\, ‘Helen’s eidolon in the poetry and prose of Laura Riding’
URL:https://classicalreception.org/event/sofia-greaves-the-mythic-method-subversive-classicism-in-giorgio-de-chirico-and-british-painting-of-the-late-1920s/
LOCATION:Classics Faculty\, Cambridge\, Sidgwick Avenue\, Cambridge\, United Kingdom
CATEGORIES:Seminar
END:VEVENT
BEGIN:VEVENT
DTSTART;TZID=UTC:20190307T170000
DTEND;TZID=UTC:20190307T170000
DTSTAMP:20260423T172842
CREATED:20190129T212643Z
LAST-MODIFIED:20190129T212643Z
UID:1266-1551978000-1551978000@classicalreception.org
SUMMARY:Liz Pender\, 'Classics and Classicists in WW1'
DESCRIPTION:CLASSICS AND ARCHAEOLOGY RESEARCH WORKSHOPS\, University of Nottingham   Humanities Building A02\, University Park All… Continue reading Elena Theodorakopoulos\, ‘Helen’s eidolon in the poetry and prose of Laura Riding’
URL:https://classicalreception.org/event/liz-pender-classics-and-classicists-in-ww1-2/
LOCATION:University of Leeds\, Leeds\, LS2 9JT\, United Kingdom
CATEGORIES:Seminar
END:VEVENT
BEGIN:VEVENT
DTSTART;TZID=UTC:20190307T120000
DTEND;TZID=UTC:20190307T130000
DTSTAMP:20260423T172842
CREATED:20190103T203812Z
LAST-MODIFIED:20190103T203812Z
UID:1224-1551960000-1551963600@classicalreception.org
SUMMARY:Tessa Roynon\, 'Black Classicism: some theory\, some practices and some dilemmas'
DESCRIPTION:CLASSICS AND ARCHAEOLOGY RESEARCH WORKSHOPS\, University of Nottingham   Humanities Building A02\, University Park All… Continue reading Elena Theodorakopoulos\, ‘Helen’s eidolon in the poetry and prose of Laura Riding’
URL:https://classicalreception.org/event/tessa-roynon-black-classicism-some-theory-some-practices-and-some-dilemmas/
LOCATION:University of Warwick\, Coventry\, CV4 7AL
CATEGORIES:Seminar
END:VEVENT
BEGIN:VEVENT
DTSTART;TZID=UTC:20190305T170000
DTEND;TZID=UTC:20190305T170000
DTSTAMP:20260423T172842
CREATED:20190205T141059Z
LAST-MODIFIED:20190205T141059Z
UID:1291-1551805200-1551805200@classicalreception.org
SUMMARY:Laura Jansen\,  ‘Readers of Classical Absences: Italo Calvino and Alberto Manguel’
DESCRIPTION:CLASSICS AND ARCHAEOLOGY RESEARCH WORKSHOPS\, University of Nottingham   Humanities Building A02\, University Park All… Continue reading Elena Theodorakopoulos\, ‘Helen’s eidolon in the poetry and prose of Laura Riding’
URL:https://classicalreception.org/event/laura-jansen-readers-of-classical-absences-italo-calvino-and-alberto-manguel/
LOCATION:University of Liverpool
CATEGORIES:Seminar
END:VEVENT
BEGIN:VEVENT
DTSTART;TZID=UTC:20190301T170000
DTEND;TZID=UTC:20190301T183000
DTSTAMP:20260423T172842
CREATED:20190103T203619Z
LAST-MODIFIED:20190103T203619Z
UID:1222-1551459600-1551465000@classicalreception.org
SUMMARY:Mathias Hanses\, 'Black Cicero: (Re-)Reading the Classics with W. E. B. Du Bois'
DESCRIPTION:CLASSICS AND ARCHAEOLOGY RESEARCH WORKSHOPS\, University of Nottingham   Humanities Building A02\, University Park All… Continue reading Elena Theodorakopoulos\, ‘Helen’s eidolon in the poetry and prose of Laura Riding’
URL:https://classicalreception.org/event/mathias-hanses-black-cicero-re-reading-the-classics-with-w-e-b-du-bois/
LOCATION:University of Warwick\, Coventry\, CV4 7AL
CATEGORIES:Seminar
END:VEVENT
BEGIN:VEVENT
DTSTART;TZID=UTC:20190228T153000
DTEND;TZID=UTC:20190228T173000
DTSTAMP:20260423T172842
CREATED:20181109T130627Z
LAST-MODIFIED:20190114T113324Z
UID:1181-1551367800-1551375000@classicalreception.org
SUMMARY:Sex\, Sexuality and Classical Reception
DESCRIPTION:CLASSICS AND ARCHAEOLOGY RESEARCH WORKSHOPS\, University of Nottingham   Humanities Building A02\, University Park All… Continue reading Elena Theodorakopoulos\, ‘Helen’s eidolon in the poetry and prose of Laura Riding’
URL:https://classicalreception.org/event/sex-sexuality-and-classical-reception/
LOCATION:University of Exeter\, Exeter\, EX4 4QD\, United Kingdom
CATEGORIES:Seminar
END:VEVENT
BEGIN:VEVENT
DTSTART;TZID=UTC:20190219T170000
DTEND;TZID=UTC:20190219T170000
DTSTAMP:20260423T172842
CREATED:20190129T212212Z
LAST-MODIFIED:20190129T212212Z
UID:1260-1550595600-1550595600@classicalreception.org
SUMMARY:Martin Revermann\, 'The Greek Presence in Brecht's 'Small Organon for the Theatre''
DESCRIPTION:CLASSICS AND ARCHAEOLOGY RESEARCH WORKSHOPS\, University of Nottingham   Humanities Building A02\, University Park All… Continue reading Elena Theodorakopoulos\, ‘Helen’s eidolon in the poetry and prose of Laura Riding’
URL:https://classicalreception.org/event/martin-revermann-the-greek-presence-in-brechts-small-organon-for-the-theatre/
LOCATION:University of Nottingham\, Nottingham\, NG7 2RD\, United Kingdom
CATEGORIES:Seminar
END:VEVENT
BEGIN:VEVENT
DTSTART;TZID=UTC:20190213T160000
DTEND;TZID=UTC:20190213T160000
DTSTAMP:20260423T172842
CREATED:20190109T124438Z
LAST-MODIFIED:20190109T124438Z
UID:1236-1550073600-1550073600@classicalreception.org
SUMMARY:Stephanie Moser\, 'Birmingham's classical treasures: the extraordinary artist's archive of Lawrence Alma-Tadema'
DESCRIPTION:CLASSICS AND ARCHAEOLOGY RESEARCH WORKSHOPS\, University of Nottingham   Humanities Building A02\, University Park All… Continue reading Elena Theodorakopoulos\, ‘Helen’s eidolon in the poetry and prose of Laura Riding’
URL:https://classicalreception.org/event/stephanie-moser-birminghams-classical-treasures-the-extraordinary-artists-archive-of-lawrence-alma-tadema/
LOCATION:University of Birmingham\, Edgbaston\, Birmingham\, B15 2TT\, United Kingdom
CATEGORIES:Seminar
END:VEVENT
BEGIN:VEVENT
DTSTART;TZID=UTC:20190207T170000
DTEND;TZID=UTC:20190207T170000
DTSTAMP:20260423T172842
CREATED:20190129T211528Z
LAST-MODIFIED:20190129T211528Z
UID:1257-1549558800-1549558800@classicalreception.org
SUMMARY:Tom Phillips\, ‘Unapprehended Relations: Shelley’s Antiquities’
DESCRIPTION:CLASSICS AND ARCHAEOLOGY RESEARCH WORKSHOPS\, University of Nottingham   Humanities Building A02\, University Park All… Continue reading Elena Theodorakopoulos\, ‘Helen’s eidolon in the poetry and prose of Laura Riding’
URL:https://classicalreception.org/event/tom-phillips-unapprehended-relations-shelleys-antiquities/
LOCATION:University of Manchester\, Manchester\, M13 9PL\, United Kingdom
CATEGORIES:Seminar
END:VEVENT
BEGIN:VEVENT
DTSTART;TZID=UTC:20190206T160000
DTEND;TZID=UTC:20190206T160000
DTSTAMP:20260423T172842
CREATED:20190109T124603Z
LAST-MODIFIED:20190109T124617Z
UID:1238-1549468800-1549468800@classicalreception.org
SUMMARY:Katherine Harloe\, 'Winckelmann's love letters: epistolarity\, sexuality and classical reception’
DESCRIPTION:CLASSICS AND ARCHAEOLOGY RESEARCH WORKSHOPS\, University of Nottingham   Humanities Building A02\, University Park All… Continue reading Elena Theodorakopoulos\, ‘Helen’s eidolon in the poetry and prose of Laura Riding’
URL:https://classicalreception.org/event/katherine-harloe-winckelmanns-love-letters-epistolarity-sexuality-and-classical-reception-2/
LOCATION:University of Birmingham\, Edgbaston\, Birmingham\, B15 2TT\, United Kingdom
CATEGORIES:Seminar
END:VEVENT
BEGIN:VEVENT
DTSTART;TZID=UTC:20190131T130000
DTEND;TZID=UTC:20190131T140000
DTSTAMP:20260423T172842
CREATED:20190129T214633Z
LAST-MODIFIED:20190129T214633Z
UID:1279-1548939600-1548943200@classicalreception.org
SUMMARY:Anactoria Clarke\, 'Patterns of Empire: Disrupting the Influence of the East in Victorian Reception'
DESCRIPTION:CLASSICS AND ARCHAEOLOGY RESEARCH WORKSHOPS\, University of Nottingham   Humanities Building A02\, University Park All… Continue reading Elena Theodorakopoulos\, ‘Helen’s eidolon in the poetry and prose of Laura Riding’
URL:https://classicalreception.org/event/anactoria-clarke-patterns-of-empire-disrupting-the-influence-of-the-east-in-victorian-reception/
LOCATION:University of Liverpool
CATEGORIES:Seminar
END:VEVENT
BEGIN:VEVENT
DTSTART;TZID=UTC:20190124T160000
DTEND;TZID=UTC:20190124T160000
DTSTAMP:20260423T172842
CREATED:20190109T120656Z
LAST-MODIFIED:20190109T120656Z
UID:1231-1548345600-1548345600@classicalreception.org
SUMMARY:Katherine Harloe\, 'Winckelmann’s love letters: epistolarity\, sexuality and classical reception'
DESCRIPTION:CLASSICS AND ARCHAEOLOGY RESEARCH WORKSHOPS\, University of Nottingham   Humanities Building A02\, University Park All… Continue reading Elena Theodorakopoulos\, ‘Helen’s eidolon in the poetry and prose of Laura Riding’
URL:https://classicalreception.org/event/katherine-harloe-winckelmanns-love-letters-epistolarity-sexuality-and-classical-reception/
LOCATION:Classics Department\, University of Durham\, 38 North Bailey\, Durham\, DH1 3EU\, United Kingdom
CATEGORIES:Seminar
END:VEVENT
BEGIN:VEVENT
DTSTART;TZID=UTC:20190111T170000
DTEND;TZID=UTC:20190111T180000
DTSTAMP:20260423T172842
CREATED:20181218T214418Z
LAST-MODIFIED:20181218T214418Z
UID:1200-1547226000-1547229600@classicalreception.org
SUMMARY:Tom Phillips\, 'Shelley's Plastic Hellenism'
DESCRIPTION:CLASSICS AND ARCHAEOLOGY RESEARCH WORKSHOPS\, University of Nottingham   Humanities Building A02\, University Park All… Continue reading Elena Theodorakopoulos\, ‘Helen’s eidolon in the poetry and prose of Laura Riding’
URL:https://classicalreception.org/event/tom-phillips-shelleys-plastic-hellenism/
LOCATION:University of Warwick\, Coventry\, CV4 7AL
CATEGORIES:Seminar
END:VEVENT
END:VCALENDAR