BEGIN:VCALENDAR
VERSION:2.0
PRODID:-//CRSN - ECPv6.15.20//NONSGML v1.0//EN
CALSCALE:GREGORIAN
METHOD:PUBLISH
X-ORIGINAL-URL:https://classicalreception.org
X-WR-CALDESC:Events for CRSN
REFRESH-INTERVAL;VALUE=DURATION:PT1H
X-Robots-Tag:noindex
X-PUBLISHED-TTL:PT1H
BEGIN:VTIMEZONE
TZID:UTC
BEGIN:STANDARD
TZOFFSETFROM:+0000
TZOFFSETTO:+0000
TZNAME:UTC
DTSTART:20180101T000000
END:STANDARD
END:VTIMEZONE
BEGIN:VEVENT
DTSTART;TZID=UTC:20200311T160000
DTEND;TZID=UTC:20200311T160000
DTSTAMP:20260423T094642
CREATED:20200130T202417Z
LAST-MODIFIED:20200130T202417Z
UID:1673-1583942400-1583942400@classicalreception.org
SUMMARY:Efrossini Spentzou\, 'Contemporary reworkings of the myth of Eurydice'
DESCRIPTION:Panel Title: “Dance and Myth: The Reception of the Greeks by Martha Graham”  Organized by Ronnie… Continue reading CfP 2025 Society for Classical Studies Annual Meeting in PHILADELPHIA\, deadline 02/02/24
URL:https://classicalreception.org/event/efrossini-spentzou-contemporary-reworkings-of-the-myth-of-eurydice/
LOCATION:University of Birmingham\, Edgbaston\, Birmingham\, B15 2TT\, United Kingdom
CATEGORIES:Seminar
END:VEVENT
BEGIN:VEVENT
DTSTART;TZID=UTC:20200310T170000
DTEND;TZID=UTC:20200310T170000
DTSTAMP:20260423T094642
CREATED:20200130T205656Z
LAST-MODIFIED:20200130T205656Z
UID:1696-1583859600-1583859600@classicalreception.org
SUMMARY:Kate Nichols\, ‘Classical Antiquity and the invention of Victorian art at the 1887 Manchester Jubilee Exhibition’; Clare Matthews\, ‘Manufacturing and Classical Antiquity in Victorian Birmingham’.
DESCRIPTION:Panel Title: “Dance and Myth: The Reception of the Greeks by Martha Graham”  Organized by Ronnie… Continue reading CfP 2025 Society for Classical Studies Annual Meeting in PHILADELPHIA\, deadline 02/02/24
URL:https://classicalreception.org/event/kate-nichols-classical-antiquity-and-the-invention-of-victorian-art-at-the-1887-manchester-jubilee-exhibition-clare-matthews-manufacturing-and-classical-antiquity-in-vict/
LOCATION:University of Nottingham\, Nottingham\, NG7 2RD\, United Kingdom
CATEGORIES:Seminar
END:VEVENT
BEGIN:VEVENT
DTSTART;TZID=UTC:20200305T171500
DTEND;TZID=UTC:20200305T171500
DTSTAMP:20260423T094642
CREATED:20200130T210538Z
LAST-MODIFIED:20200130T210538Z
UID:1702-1583428500-1583428500@classicalreception.org
SUMMARY:Aristotle Kallis\, 'Romanità on show: the idea of Rome in the Mostra Augustea della Romanità and the Exhibitions of E42'
DESCRIPTION:Panel Title: “Dance and Myth: The Reception of the Greeks by Martha Graham”  Organized by Ronnie… Continue reading CfP 2025 Society for Classical Studies Annual Meeting in PHILADELPHIA\, deadline 02/02/24
URL:https://classicalreception.org/event/aristotle-kallis-romanita-on-show-the-idea-of-rome-in-the-mostra-augustea-della-romanita-and-the-exhibitions-of-e42/
LOCATION:Classics Faculty\, Cambridge\, Sidgwick Avenue\, Cambridge\, United Kingdom
CATEGORIES:Seminar
END:VEVENT
BEGIN:VEVENT
DTSTART;TZID=UTC:20200305T170000
DTEND;TZID=UTC:20200305T170000
DTSTAMP:20260423T094642
CREATED:20200130T204515Z
LAST-MODIFIED:20200130T204515Z
UID:1685-1583427600-1583427600@classicalreception.org
SUMMARY:Tania Demetriou\, ‘Unfamiliar Ovids in the English Renaissance’
DESCRIPTION:Panel Title: “Dance and Myth: The Reception of the Greeks by Martha Graham”  Organized by Ronnie… Continue reading CfP 2025 Society for Classical Studies Annual Meeting in PHILADELPHIA\, deadline 02/02/24
URL:https://classicalreception.org/event/tania-demetriou-unfamiliar-ovids-in-the-english-renaissance/
LOCATION:University of Leeds\, Leeds\, LS2 9JT\, United Kingdom
CATEGORIES:Seminar
END:VEVENT
BEGIN:VEVENT
DTSTART;TZID=UTC:20200220T171500
DTEND;TZID=UTC:20200220T171500
DTSTAMP:20260423T094642
CREATED:20200130T210402Z
LAST-MODIFIED:20200130T210402Z
UID:1700-1582218900-1582218900@classicalreception.org
SUMMARY:Aaron Kachuck\, 'Per Monstra ad Sphaeram: Of Pegasus and Poetics'
DESCRIPTION:Panel Title: “Dance and Myth: The Reception of the Greeks by Martha Graham”  Organized by Ronnie… Continue reading CfP 2025 Society for Classical Studies Annual Meeting in PHILADELPHIA\, deadline 02/02/24
URL:https://classicalreception.org/event/aaron-kachuck-per-monstra-ad-sphaeram-of-pegasus-and-poetics/
LOCATION:Classics Faculty\, Cambridge\, Sidgwick Avenue\, Cambridge\, United Kingdom
CATEGORIES:Seminar
END:VEVENT
BEGIN:VEVENT
DTSTART;TZID=UTC:20200214T160500
DTEND;TZID=UTC:20200214T160500
DTSTAMP:20260423T094642
CREATED:20200130T204004Z
LAST-MODIFIED:20200130T204004Z
UID:1679-1581696300-1581696300@classicalreception.org
SUMMARY:Sophie Schoess\, 'Mediaeval Antisemitism and the Classical Tradition in the Ovide Moralisé
DESCRIPTION:Panel Title: “Dance and Myth: The Reception of the Greeks by Martha Graham”  Organized by Ronnie… Continue reading CfP 2025 Society for Classical Studies Annual Meeting in PHILADELPHIA\, deadline 02/02/24
URL:https://classicalreception.org/event/sophie-schoess-mediaeval-antisemitism-and-the-classical-tradition-in-the-ovide-moralise/
LOCATION:University of St Andrews\, St Andrews\, United Kingdom
CATEGORIES:Seminar
END:VEVENT
BEGIN:VEVENT
DTSTART;TZID=UTC:20200213T171500
DTEND;TZID=UTC:20200213T171500
DTSTAMP:20260423T094642
CREATED:20200130T210253Z
LAST-MODIFIED:20200130T210253Z
UID:1698-1581614100-1581614100@classicalreception.org
SUMMARY:Michael Silk\, 'Invoking the Other: Allegory in Theory\, from Demetrius to De Man'
DESCRIPTION:Panel Title: “Dance and Myth: The Reception of the Greeks by Martha Graham”  Organized by Ronnie… Continue reading CfP 2025 Society for Classical Studies Annual Meeting in PHILADELPHIA\, deadline 02/02/24
URL:https://classicalreception.org/event/michael-silk-invoking-the-other-allegory-in-theory-from-demetrius-to-de-man/
LOCATION:Classics Faculty\, Cambridge\, Sidgwick Avenue\, Cambridge\, United Kingdom
CATEGORIES:Seminar
END:VEVENT
BEGIN:VEVENT
DTSTART;TZID=UTC:20200212T160000
DTEND;TZID=UTC:20200212T160000
DTSTAMP:20260423T094642
CREATED:20200130T202233Z
LAST-MODIFIED:20200130T202233Z
UID:1671-1581523200-1581523200@classicalreception.org
SUMMARY:Caroline Barron\, 'Identifying and interpreting fake inscriptions from the 18th century'Uni
DESCRIPTION:Panel Title: “Dance and Myth: The Reception of the Greeks by Martha Graham”  Organized by Ronnie… Continue reading CfP 2025 Society for Classical Studies Annual Meeting in PHILADELPHIA\, deadline 02/02/24
URL:https://classicalreception.org/event/caroline-barron-identifying-and-interpreting-fake-inscriptions-from-the-18th-centuryuni/
LOCATION:University of Birmingham\, Edgbaston\, Birmingham\, B15 2TT\, United Kingdom
CATEGORIES:Seminar
END:VEVENT
BEGIN:VEVENT
DTSTART;TZID=UTC:20200212T130000
DTEND;TZID=UTC:20200212T140000
DTSTAMP:20260423T094642
CREATED:20200130T204341Z
LAST-MODIFIED:20200130T204341Z
UID:1683-1581512400-1581516000@classicalreception.org
SUMMARY:Mathura Umachandran\, 'Myth after Freud: Herbert Marcuse and the cultural value of Eros'
DESCRIPTION:Panel Title: “Dance and Myth: The Reception of the Greeks by Martha Graham”  Organized by Ronnie… Continue reading CfP 2025 Society for Classical Studies Annual Meeting in PHILADELPHIA\, deadline 02/02/24
URL:https://classicalreception.org/event/mathura-umachandran-myth-after-freud-herbert-marcuse-and-the-cultural-value-of-eros/
LOCATION:Senate House\, University of London\, Malet Street\, London
CATEGORIES:Seminar
END:VEVENT
BEGIN:VEVENT
DTSTART;TZID=UTC:20200211T153000
DTEND;TZID=UTC:20200211T153000
DTSTAMP:20260423T094642
CREATED:20200130T211114Z
LAST-MODIFIED:20200130T211114Z
UID:1708-1581435000-1581435000@classicalreception.org
SUMMARY:Lucy Jackson\, 'An advocate for tyranny: two receptions of Sophocles’ Antigone in sixteenth- century Europe'
DESCRIPTION:Panel Title: “Dance and Myth: The Reception of the Greeks by Martha Graham”  Organized by Ronnie… Continue reading CfP 2025 Society for Classical Studies Annual Meeting in PHILADELPHIA\, deadline 02/02/24
URL:https://classicalreception.org/event/lucy-jackson-an-advocate-for-tyranny-two-receptions-of-sophocles-antigone-in-sixteenth-century-europe/
LOCATION:University of Bristol\, Bristol\, BS8 1RJ\, United Kingdom
CATEGORIES:Seminar
END:VEVENT
BEGIN:VEVENT
DTSTART;TZID=UTC:20200207T160500
DTEND;TZID=UTC:20200207T160500
DTSTAMP:20260423T094642
CREATED:20200130T203850Z
LAST-MODIFIED:20200130T203850Z
UID:1677-1581091500-1581091500@classicalreception.org
SUMMARY:Henry Stead\, 'Left in Translation: The Curious Case of Jack Lindsay and Catullus'
DESCRIPTION:Panel Title: “Dance and Myth: The Reception of the Greeks by Martha Graham”  Organized by Ronnie… Continue reading CfP 2025 Society for Classical Studies Annual Meeting in PHILADELPHIA\, deadline 02/02/24
URL:https://classicalreception.org/event/henry-stead-left-in-translation-the-curious-case-of-jack-lindsay-and-catullus/
LOCATION:University of St Andrews\, St Andrews\, United Kingdom
CATEGORIES:Seminar
END:VEVENT
BEGIN:VEVENT
DTSTART;TZID=UTC:20191210T153000
DTEND;TZID=UTC:20191210T170000
DTSTAMP:20260423T094642
CREATED:20190926T123628Z
LAST-MODIFIED:20190926T123628Z
UID:1534-1575991800-1575997200@classicalreception.org
SUMMARY:Mathura Umachandran\, 'Theodor Adorno's Negative Dialectics for classical reception'
DESCRIPTION:Panel Title: “Dance and Myth: The Reception of the Greeks by Martha Graham”  Organized by Ronnie… Continue reading CfP 2025 Society for Classical Studies Annual Meeting in PHILADELPHIA\, deadline 02/02/24
URL:https://classicalreception.org/event/mathura-umachandran-theodor-adornos-negative-dialectics-for-classical-reception/
LOCATION:University of Bristol\, Bristol\, BS8 1RJ\, United Kingdom
CATEGORIES:Seminar
END:VEVENT
BEGIN:VEVENT
DTSTART;TZID=UTC:20191205T170000
DTEND;TZID=UTC:20191205T170000
DTSTAMP:20260423T094642
CREATED:20191014T110040Z
LAST-MODIFIED:20191014T110040Z
UID:1575-1575565200-1575565200@classicalreception.org
SUMMARY:Charles Martindale\, 'Reception Revisited'
DESCRIPTION:Panel Title: “Dance and Myth: The Reception of the Greeks by Martha Graham”  Organized by Ronnie… Continue reading CfP 2025 Society for Classical Studies Annual Meeting in PHILADELPHIA\, deadline 02/02/24
URL:https://classicalreception.org/event/charles-martindale-reception-revisited/
LOCATION:University of Leeds\, Leeds\, LS2 9JT\, United Kingdom
CATEGORIES:Seminar
END:VEVENT
BEGIN:VEVENT
DTSTART;TZID=UTC:20191202T113000
DTEND;TZID=UTC:20191202T113000
DTSTAMP:20260423T094642
CREATED:20190929T195503Z
LAST-MODIFIED:20190929T195503Z
UID:1564-1575286200-1575286200@classicalreception.org
SUMMARY:Maria de Fatima Silva & Susana Marques\, 'Modern Portuguese Poets and the Greeks: a poetic theory’
DESCRIPTION:Panel Title: “Dance and Myth: The Reception of the Greeks by Martha Graham”  Organized by Ronnie… Continue reading CfP 2025 Society for Classical Studies Annual Meeting in PHILADELPHIA\, deadline 02/02/24
URL:https://classicalreception.org/event/maria-de-fatima-silva-susana-marques-modern-portuguese-poets-and-the-greeks-a-poetic-theory/
LOCATION:Classics Faculty\, University of Oxford\, 66 St Giles'\, Oxford\, OX1 3LU\, United Kingdom
CATEGORIES:Seminar
END:VEVENT
BEGIN:VEVENT
DTSTART;TZID=UTC:20191125T113000
DTEND;TZID=UTC:20191125T113000
DTSTAMP:20260423T094642
CREATED:20190929T195324Z
LAST-MODIFIED:20190929T195324Z
UID:1562-1574681400-1574681400@classicalreception.org
SUMMARY:Holly Ranger\, 'Sylvia Plath’s Classical Palimpsests’
DESCRIPTION:Panel Title: “Dance and Myth: The Reception of the Greeks by Martha Graham”  Organized by Ronnie… Continue reading CfP 2025 Society for Classical Studies Annual Meeting in PHILADELPHIA\, deadline 02/02/24
URL:https://classicalreception.org/event/holly-ranger-sylvia-plaths-classical-palimpsests/
LOCATION:Classics Faculty\, University of Oxford\, 66 St Giles'\, Oxford\, OX1 3LU\, United Kingdom
CATEGORIES:Seminar
END:VEVENT
BEGIN:VEVENT
DTSTART;TZID=UTC:20191118T113000
DTEND;TZID=UTC:20191118T113000
DTSTAMP:20260423T094642
CREATED:20190929T195210Z
LAST-MODIFIED:20190929T195210Z
UID:1560-1574076600-1574076600@classicalreception.org
SUMMARY:Genevieve Liveley\, ‘Reception Unboxed: Anne Carson and remediating the Classics’
DESCRIPTION:Panel Title: “Dance and Myth: The Reception of the Greeks by Martha Graham”  Organized by Ronnie… Continue reading CfP 2025 Society for Classical Studies Annual Meeting in PHILADELPHIA\, deadline 02/02/24
URL:https://classicalreception.org/event/genevieve-liveley-reception-unboxed-anne-carson-and-remediating-the-classics/
LOCATION:Classics Faculty\, University of Oxford\, 66 St Giles'\, Oxford\, OX1 3LU\, United Kingdom
CATEGORIES:Seminar
END:VEVENT
BEGIN:VEVENT
DTSTART;TZID=UTC:20191112T170000
DTEND;TZID=UTC:20191112T170000
DTSTAMP:20260423T094642
CREATED:20190923T122449Z
LAST-MODIFIED:20190923T122449Z
UID:1510-1573578000-1573578000@classicalreception.org
SUMMARY:Elena Theodorakopoulos\, 'Helen’s eidolon in the poetry and prose of Laura Riding'
DESCRIPTION:Panel Title: “Dance and Myth: The Reception of the Greeks by Martha Graham”  Organized by Ronnie… Continue reading CfP 2025 Society for Classical Studies Annual Meeting in PHILADELPHIA\, deadline 02/02/24
URL:https://classicalreception.org/event/elena-theodorakopoulos-helens-eidolon-in-the-poetry-and-prose-of-laura-riding/
LOCATION:University of Nottingham\, Nottingham\, NG7 2RD\, United Kingdom
CATEGORIES:Seminar
END:VEVENT
BEGIN:VEVENT
DTSTART;TZID=UTC:20191111T113000
DTEND;TZID=UTC:20191111T113000
DTSTAMP:20260423T094642
CREATED:20190929T195050Z
LAST-MODIFIED:20190929T195050Z
UID:1558-1573471800-1573471800@classicalreception.org
SUMMARY:Henry Stead\,  'Comrade Catullus: the translation practice of Jack Lindsay’
DESCRIPTION:Panel Title: “Dance and Myth: The Reception of the Greeks by Martha Graham”  Organized by Ronnie… Continue reading CfP 2025 Society for Classical Studies Annual Meeting in PHILADELPHIA\, deadline 02/02/24
URL:https://classicalreception.org/event/henry-stead-comrade-catullus-the-translation-practice-of-jack-lindsay/
LOCATION:Classics Faculty\, University of Oxford\, 66 St Giles'\, Oxford\, OX1 3LU\, United Kingdom
CATEGORIES:Seminar
END:VEVENT
BEGIN:VEVENT
DTSTART;TZID=UTC:20191104T113000
DTEND;TZID=UTC:20191104T113000
DTSTAMP:20260423T094642
CREATED:20190929T194914Z
LAST-MODIFIED:20190929T194914Z
UID:1556-1572867000-1572867000@classicalreception.org
SUMMARY:Ioanna Karamanou\, 'The Reception of Prometheus in “Prometheus: The Play of a Day” by Nikephoros Vrettakos’
DESCRIPTION:Panel Title: “Dance and Myth: The Reception of the Greeks by Martha Graham”  Organized by Ronnie… Continue reading CfP 2025 Society for Classical Studies Annual Meeting in PHILADELPHIA\, deadline 02/02/24
URL:https://classicalreception.org/event/ioanna-karamanou-the-reception-of-prometheus-in-prometheus-the-play-of-a-day-by-nikephoros-vrettakos/
LOCATION:Classics Faculty\, University of Oxford\, 66 St Giles'\, Oxford\, OX1 3LU\, United Kingdom
CATEGORIES:Seminar
END:VEVENT
BEGIN:VEVENT
DTSTART;TZID=UTC:20191028T113000
DTEND;TZID=UTC:20191028T113000
DTSTAMP:20260423T094642
CREATED:20190929T194749Z
LAST-MODIFIED:20190929T194749Z
UID:1554-1572262200-1572262200@classicalreception.org
SUMMARY:Josephine Balmer\, Fiona Cox\, & Elena Theodorakopoulos\, ‘Farewells\, Debts and Ale: poetic inspiration from non-literary texts’
DESCRIPTION:Panel Title: “Dance and Myth: The Reception of the Greeks by Martha Graham”  Organized by Ronnie… Continue reading CfP 2025 Society for Classical Studies Annual Meeting in PHILADELPHIA\, deadline 02/02/24
URL:https://classicalreception.org/event/josephine-balmer-fiona-cox-elena-theodorakopoulos-farewells-debts-and-ale-poetic-inspiration-from-non-literary-texts/
LOCATION:Classics Faculty\, University of Oxford\, 66 St Giles'\, Oxford\, OX1 3LU\, United Kingdom
CATEGORIES:Seminar
END:VEVENT
BEGIN:VEVENT
DTSTART;TZID=UTC:20191023T180000
DTEND;TZID=UTC:20191023T180000
DTSTAMP:20260423T094642
CREATED:20190923T124900Z
LAST-MODIFIED:20190923T124900Z
UID:1520-1571853600-1571853600@classicalreception.org
SUMMARY:Mark Padilla\, '‘Reading Alfred Hitchcock’s “The 39 Steps” through John Buchan and Homer’s Odyssey’
DESCRIPTION:Panel Title: “Dance and Myth: The Reception of the Greeks by Martha Graham”  Organized by Ronnie… Continue reading CfP 2025 Society for Classical Studies Annual Meeting in PHILADELPHIA\, deadline 02/02/24
URL:https://classicalreception.org/event/mark-padilla-reading-alfred-hitchcocks-the-39-steps-through-john-buchan-and-homers-odyssey/
LOCATION:University of Edinburgh\, Meadows Lecture Theatre\, Doorway 4\, William Robertson Wing\, Old Medical School\, Teviot Place\, Edinburgh\, EH8 9AG\, United Kingdom
CATEGORIES:Seminar
END:VEVENT
BEGIN:VEVENT
DTSTART;TZID=UTC:20191021T150000
DTEND;TZID=UTC:20191021T150000
DTSTAMP:20260423T094642
CREATED:20190926T171232Z
LAST-MODIFIED:20190926T193514Z
UID:1538-1571670000-1571670000@classicalreception.org
SUMMARY:Daniel Orrells\, 'Printing Antiquity in the Eighteenth Century'
DESCRIPTION:Panel Title: “Dance and Myth: The Reception of the Greeks by Martha Graham”  Organized by Ronnie… Continue reading CfP 2025 Society for Classical Studies Annual Meeting in PHILADELPHIA\, deadline 02/02/24
URL:https://classicalreception.org/event/daniel-orrells-printing-antiquity-in-the-eighteenth-century/
LOCATION:University of Lisbon\, Cidade Universitária\, Lisbon\, 1649-004\, Portugal
CATEGORIES:Seminar
END:VEVENT
BEGIN:VEVENT
DTSTART;TZID=UTC:20191021T113000
DTEND;TZID=UTC:20191021T113000
DTSTAMP:20260423T094642
CREATED:20190929T194618Z
LAST-MODIFIED:20190929T194618Z
UID:1552-1571657400-1571657400@classicalreception.org
SUMMARY:Elizabeth Vandiver & Stephen Harrison\, 'Going digital with World War 1 poetry: Wilfred Owen and Charles Hamilton Sorley’
DESCRIPTION:Panel Title: “Dance and Myth: The Reception of the Greeks by Martha Graham”  Organized by Ronnie… Continue reading CfP 2025 Society for Classical Studies Annual Meeting in PHILADELPHIA\, deadline 02/02/24
URL:https://classicalreception.org/event/elizabeth-vandiver-stephen-harrison-going-digital-with-world-war-1-poetry-wilfred-owen-and-charles-hamilton-sorley/
LOCATION:Classics Faculty\, University of Oxford\, 66 St Giles'\, Oxford\, OX1 3LU\, United Kingdom
CATEGORIES:Seminar
END:VEVENT
BEGIN:VEVENT
DTSTART;TZID=UTC:20191016T153000
DTEND;TZID=UTC:20191016T163000
DTSTAMP:20260423T094642
CREATED:20190924T201603Z
LAST-MODIFIED:20190924T201603Z
UID:1530-1571239800-1571243400@classicalreception.org
SUMMARY:Simone Mucci\, 'Antonio Gramsci\, Luciano Canfora and the Classics in the Next Century’
DESCRIPTION:Panel Title: “Dance and Myth: The Reception of the Greeks by Martha Graham”  Organized by Ronnie… Continue reading CfP 2025 Society for Classical Studies Annual Meeting in PHILADELPHIA\, deadline 02/02/24
URL:https://classicalreception.org/event/simone-mucci-antonio-gramsci-luciano-canfora-and-the-classics-in-the-next-century/
LOCATION:University of Warwick\, Coventry\, CV4 7AL
CATEGORIES:Seminar
END:VEVENT
BEGIN:VEVENT
DTSTART;TZID=UTC:20191014T113000
DTEND;TZID=UTC:20191014T113000
DTSTAMP:20260423T094642
CREATED:20190929T194438Z
LAST-MODIFIED:20190929T194438Z
UID:1549-1571052600-1571052600@classicalreception.org
SUMMARY:Lorna Hardwick & Justine McConnell\, 'Classics and Poetry Now: words and the company they keep'
DESCRIPTION:Panel Title: “Dance and Myth: The Reception of the Greeks by Martha Graham”  Organized by Ronnie… Continue reading CfP 2025 Society for Classical Studies Annual Meeting in PHILADELPHIA\, deadline 02/02/24
URL:https://classicalreception.org/event/lorna-hardwick-justine-mcconnell-classics-and-poetry-now-words-and-the-company-they-keep/
LOCATION:Classics Faculty\, University of Oxford\, 66 St Giles'\, Oxford\, OX1 3LU\, United Kingdom
CATEGORIES:Seminar
END:VEVENT
BEGIN:VEVENT
DTSTART;TZID=UTC:20190701T170000
DTEND;TZID=UTC:20190701T170000
DTSTAMP:20260423T094642
CREATED:20190418T154845Z
LAST-MODIFIED:20190418T154845Z
UID:1372-1562000400-1562000400@classicalreception.org
SUMMARY:Chiara Rolli\, 'The trial of Warren Hastings: classical oratory and reception in eighteenth-century England'
DESCRIPTION:Panel Title: “Dance and Myth: The Reception of the Greeks by Martha Graham”  Organized by Ronnie… Continue reading CfP 2025 Society for Classical Studies Annual Meeting in PHILADELPHIA\, deadline 02/02/24
URL:https://classicalreception.org/event/chiara-rolli-the-trial-of-warren-hastings-classical-oratory-and-reception-in-eighteenth-century-england/
LOCATION:Senate House\, University of London\, Malet Street\, London
CATEGORIES:Seminar
END:VEVENT
BEGIN:VEVENT
DTSTART;TZID=UTC:20190624T170000
DTEND;TZID=UTC:20190624T170000
DTSTAMP:20260423T094642
CREATED:20190418T154713Z
LAST-MODIFIED:20190418T154713Z
UID:1370-1561395600-1561395600@classicalreception.org
SUMMARY:Ika Willis\, 'Signal-boosting and preposterous histories: what reception tells us about the past'
DESCRIPTION:Panel Title: “Dance and Myth: The Reception of the Greeks by Martha Graham”  Organized by Ronnie… Continue reading CfP 2025 Society for Classical Studies Annual Meeting in PHILADELPHIA\, deadline 02/02/24
URL:https://classicalreception.org/event/ika-willis-signal-boosting-and-preposterous-histories-what-reception-tells-us-about-the-past/
LOCATION:Senate House\, University of London\, Malet Street\, London
CATEGORIES:Seminar
END:VEVENT
BEGIN:VEVENT
DTSTART;TZID=UTC:20190617T170000
DTEND;TZID=UTC:20190617T170000
DTSTAMP:20260423T094642
CREATED:20190418T154554Z
LAST-MODIFIED:20190418T154554Z
UID:1368-1560790800-1560790800@classicalreception.org
SUMMARY:Neville Morley\, 'Remaking Thucydides'
DESCRIPTION:Panel Title: “Dance and Myth: The Reception of the Greeks by Martha Graham”  Organized by Ronnie… Continue reading CfP 2025 Society for Classical Studies Annual Meeting in PHILADELPHIA\, deadline 02/02/24
URL:https://classicalreception.org/event/neville-morley-remaking-thucydides/
LOCATION:Senate House\, University of London\, Malet Street\, London
CATEGORIES:Seminar
END:VEVENT
BEGIN:VEVENT
DTSTART;TZID=UTC:20190610T170000
DTEND;TZID=UTC:20190610T170000
DTSTAMP:20260423T094642
CREATED:20190418T153850Z
LAST-MODIFIED:20190418T153850Z
UID:1366-1560186000-1560186000@classicalreception.org
SUMMARY:Efi Spentzou\, 'Girl in transit: Eurydice in the 21st century'
DESCRIPTION:Panel Title: “Dance and Myth: The Reception of the Greeks by Martha Graham”  Organized by Ronnie… Continue reading CfP 2025 Society for Classical Studies Annual Meeting in PHILADELPHIA\, deadline 02/02/24
URL:https://classicalreception.org/event/efi-spentzou-girl-in-transit-eurydice-in-the-21st-century/
LOCATION:Senate House\, University of London\, Malet Street\, London
CATEGORIES:Seminar
END:VEVENT
BEGIN:VEVENT
DTSTART;TZID=UTC:20190603T170000
DTEND;TZID=UTC:20190603T170000
DTSTAMP:20260423T094642
CREATED:20190418T153614Z
LAST-MODIFIED:20190418T153614Z
UID:1364-1559581200-1559581200@classicalreception.org
SUMMARY:Shushma Malik\, 'Montesquieu’s Romans and the ‘Problem of Diversity’'
DESCRIPTION:Panel Title: “Dance and Myth: The Reception of the Greeks by Martha Graham”  Organized by Ronnie… Continue reading CfP 2025 Society for Classical Studies Annual Meeting in PHILADELPHIA\, deadline 02/02/24
URL:https://classicalreception.org/event/shushma-malik-montesquieus-romans-and-the-problem-of-diversity/
LOCATION:Senate House\, University of London\, Malet Street\, London
CATEGORIES:Seminar
END:VEVENT
END:VCALENDAR