BEGIN:VCALENDAR
VERSION:2.0
PRODID:-//CRSN - ECPv6.15.20//NONSGML v1.0//EN
CALSCALE:GREGORIAN
METHOD:PUBLISH
X-ORIGINAL-URL:https://classicalreception.org
X-WR-CALDESC:Events for CRSN
REFRESH-INTERVAL;VALUE=DURATION:PT1H
X-Robots-Tag:noindex
X-PUBLISHED-TTL:PT1H
BEGIN:VTIMEZONE
TZID:UTC
BEGIN:STANDARD
TZOFFSETFROM:+0000
TZOFFSETTO:+0000
TZNAME:UTC
DTSTART:20250101T000000
END:STANDARD
END:VTIMEZONE
BEGIN:VEVENT
DTSTART;TZID=UTC:20260427T120000
DTEND;TZID=UTC:20260427T130000
DTSTAMP:20260423T041111
CREATED:20260313T124651Z
LAST-MODIFIED:20260315T125425Z
UID:4229-1777291200-1777294800@classicalreception.org
SUMMARY:Ariela Kristantina (in conversation with Dr Natalie J. Swain) - The Goddess Behind the Gorgon: Reclaiming the Colonial Monstrous Woman
DESCRIPTION:In this moderated conversation\, Dr Nuraliah Norasid will speak about how a medusa became the… Continue reading Dr Nuraliah Norasid (in conversation with Dr Leslie Wong) – A Severed Head on the Nation’s Shield: Medusa in the Lion City
URL:https://classicalreception.org/event/ariela-kristantina-in-conversation-with-dr-natalie-j-swain-the-goddess-behind-the-gorgon-reclaiming-the-colonial-monstrous-woman/
CATEGORIES:Seminar
ATTACH;FMTTYPE=image/jpeg:https://classicalreception.org/wp-content/uploads/2026/03/INSEXTS008-Cover-FIN-e1773578835375.jpg
END:VEVENT
BEGIN:VEVENT
DTSTART;TZID=UTC:20260511T120000
DTEND;TZID=UTC:20260511T130000
DTSTAMP:20260423T041111
CREATED:20260313T125004Z
LAST-MODIFIED:20260315T125304Z
UID:4231-1778500800-1778504400@classicalreception.org
SUMMARY:Reimena Yee (in conversation with Dr Leslie Wong) - Becoming A Death Doula for the Alexander Romance
DESCRIPTION:In this moderated conversation\, Dr Nuraliah Norasid will speak about how a medusa became the… Continue reading Dr Nuraliah Norasid (in conversation with Dr Leslie Wong) – A Severed Head on the Nation’s Shield: Medusa in the Lion City
URL:https://classicalreception.org/event/reimena-yee-in-conversation-with-dr-leslie-wong-becoming-a-death-doula-for-the-alexander-romance/
CATEGORIES:Seminar
ATTACH;FMTTYPE=image/jpeg:https://classicalreception.org/wp-content/uploads/2026/03/INSEXTS008-Cover-FIN-e1773578835375.jpg
END:VEVENT
BEGIN:VEVENT
DTSTART;TZID=UTC:20260518T120000
DTEND;TZID=UTC:20260518T130000
DTSTAMP:20260423T041111
CREATED:20260313T125124Z
LAST-MODIFIED:20260315T125246Z
UID:4233-1779105600-1779109200@classicalreception.org
SUMMARY:Dr Daniel Jew (National University of Singapore) - ‘Ulysses by the Merlion’: Insights into Teaching Greek and Roman History at a  Postcolonial City-State’s Oldest University
DESCRIPTION:In this moderated conversation\, Dr Nuraliah Norasid will speak about how a medusa became the… Continue reading Dr Nuraliah Norasid (in conversation with Dr Leslie Wong) – A Severed Head on the Nation’s Shield: Medusa in the Lion City
URL:https://classicalreception.org/event/dr-daniel-jew-national-university-of-singapore-ulysses-by-the-merlion-insights-into-teaching-greek-and-roman-history-at-a-postcolonial-city-states-oldest-university/
CATEGORIES:Seminar
ATTACH;FMTTYPE=image/jpeg:https://classicalreception.org/wp-content/uploads/2026/03/INSEXTS008-Cover-FIN-e1773578835375.jpg
END:VEVENT
BEGIN:VEVENT
DTSTART;TZID=UTC:20260601T120000
DTEND;TZID=UTC:20260601T130000
DTSTAMP:20260423T041111
CREATED:20260313T125258Z
LAST-MODIFIED:20260315T125219Z
UID:4236-1780315200-1780318800@classicalreception.org
SUMMARY:Professor Sven Günther (IHAC\, Northeast Normal University\, Changchun) - Imperial and Post-Imperial Frames of Classicizing Iconography in Ho Chi Minh City
DESCRIPTION:In this moderated conversation\, Dr Nuraliah Norasid will speak about how a medusa became the… Continue reading Dr Nuraliah Norasid (in conversation with Dr Leslie Wong) – A Severed Head on the Nation’s Shield: Medusa in the Lion City
URL:https://classicalreception.org/event/professor-sven-gunther-ihac-northeast-normal-university-changchun-imperial-and-post-imperial-frames-of-classicizing-iconography-in-ho-chi-minh-city/
CATEGORIES:Seminar
ATTACH;FMTTYPE=image/jpeg:https://classicalreception.org/wp-content/uploads/2026/03/INSEXTS008-Cover-FIN-e1773578835375.jpg
END:VEVENT
BEGIN:VEVENT
DTSTART;TZID=UTC:20260608T120000
DTEND;TZID=UTC:20260608T130000
DTSTAMP:20260423T041111
CREATED:20260313T125459Z
LAST-MODIFIED:20260315T125144Z
UID:4238-1780920000-1780923600@classicalreception.org
SUMMARY:Dr Andreas (Tom) Zanker (University of Western Australia) - “Tales from the Tropical Gothic”: Juan Luna\, the Philippines\, and Ilustrado Classicism
DESCRIPTION:In this moderated conversation\, Dr Nuraliah Norasid will speak about how a medusa became the… Continue reading Dr Nuraliah Norasid (in conversation with Dr Leslie Wong) – A Severed Head on the Nation’s Shield: Medusa in the Lion City
URL:https://classicalreception.org/event/dr-andreas-tom-zanker-university-of-western-australia-tales-from-the-tropical-gothic-juan-luna-the-philippines-and-ilustrado-classicism/
CATEGORIES:Seminar
ATTACH;FMTTYPE=image/jpeg:https://classicalreception.org/wp-content/uploads/2026/03/INSEXTS008-Cover-FIN-e1773578835375.jpg
END:VEVENT
BEGIN:VEVENT
DTSTART;TZID=UTC:20260615T120000
DTEND;TZID=UTC:20260615T130000
DTSTAMP:20260423T041111
CREATED:20260313T125636Z
LAST-MODIFIED:20260315T125123Z
UID:4240-1781524800-1781528400@classicalreception.org
SUMMARY:Dr Nuraliah Norasid (in conversation with Dr Leslie Wong) - A Severed Head on the Nation’s Shield: Medusa in the Lion City
DESCRIPTION:In this moderated conversation\, Dr Nuraliah Norasid will speak about how a medusa became the… Continue reading Dr Nuraliah Norasid (in conversation with Dr Leslie Wong) – A Severed Head on the Nation’s Shield: Medusa in the Lion City
URL:https://classicalreception.org/event/dr-nuraliah-norasid-in-conversation-with-dr-leslie-wong-a-severed-head-on-the-nations-shield-medusa-in-the-lion-city/
CATEGORIES:Seminar
ATTACH;FMTTYPE=image/jpeg:https://classicalreception.org/wp-content/uploads/2026/03/INSEXTS008-Cover-FIN-e1773578835375.jpg
END:VEVENT
END:VCALENDAR