BEGIN:VCALENDAR
VERSION:2.0
PRODID:-//CRSN - ECPv6.15.20//NONSGML v1.0//EN
CALSCALE:GREGORIAN
METHOD:PUBLISH
X-WR-CALNAME:CRSN
X-ORIGINAL-URL:https://classicalreception.org
X-WR-CALDESC:Events for CRSN
REFRESH-INTERVAL;VALUE=DURATION:PT1H
X-Robots-Tag:noindex
X-PUBLISHED-TTL:PT1H
BEGIN:VTIMEZONE
TZID:UTC
BEGIN:STANDARD
TZOFFSETFROM:+0000
TZOFFSETTO:+0000
TZNAME:UTC
DTSTART:20190101T000000
END:STANDARD
END:VTIMEZONE
BEGIN:VEVENT
DTSTART;TZID=UTC:20260313T161500
DTEND;TZID=UTC:20260313T170000
DTSTAMP:20260423T053306
CREATED:20260311T114533Z
LAST-MODIFIED:20260311T114533Z
UID:4211-1773418500-1773421200@classicalreception.org
SUMMARY:St Andrews Centre for the Receptions of Antiquity (SACRA) Annual Lecture
DESCRIPTION:In this moderated conversation\, Dr Nuraliah Norasid will speak about how a medusa became the… Continue reading Dr Nuraliah Norasid (in conversation with Dr Leslie Wong) – A Severed Head on the Nation’s Shield: Medusa in the Lion City
URL:https://classicalreception.org/event/st-andrews-centre-for-the-receptions-of-antiquity-sacra-annual-lecture/
LOCATION:Swallowgate\, St Andrews
CATEGORIES:Seminar
END:VEVENT
BEGIN:VEVENT
DTSTART;TZID=UTC:20251113T180000
DTEND;TZID=UTC:20251113T190000
DTSTAMP:20260423T053306
CREATED:20250911T124708Z
LAST-MODIFIED:20250911T124708Z
UID:3877-1763056800-1763060400@classicalreception.org
SUMMARY:STARR: Sebastian Marshall (St Andrews)
DESCRIPTION:In this moderated conversation\, Dr Nuraliah Norasid will speak about how a medusa became the… Continue reading Dr Nuraliah Norasid (in conversation with Dr Leslie Wong) – A Severed Head on the Nation’s Shield: Medusa in the Lion City
URL:https://classicalreception.org/event/starr-sebastian-marshall-st-andrews/
LOCATION:Swallowgate\, St Andrews
CATEGORIES:Seminar
END:VEVENT
BEGIN:VEVENT
DTSTART;TZID=UTC:20251106T180000
DTEND;TZID=UTC:20251106T190000
DTSTAMP:20260423T053306
CREATED:20250911T124520Z
LAST-MODIFIED:20250911T124520Z
UID:3874-1762452000-1762455600@classicalreception.org
SUMMARY:STARR: Shannon McMillan (St Andrews)
DESCRIPTION:In this moderated conversation\, Dr Nuraliah Norasid will speak about how a medusa became the… Continue reading Dr Nuraliah Norasid (in conversation with Dr Leslie Wong) – A Severed Head on the Nation’s Shield: Medusa in the Lion City
URL:https://classicalreception.org/event/starr-shannon-mcmillan-st-andrews/
LOCATION:Swallowgate\, St Andrews
CATEGORIES:Seminar
END:VEVENT
BEGIN:VEVENT
DTSTART;TZID=UTC:20251030T180000
DTEND;TZID=UTC:20251030T190000
DTSTAMP:20260423T053306
CREATED:20250911T124351Z
LAST-MODIFIED:20250911T124442Z
UID:3872-1761847200-1761850800@classicalreception.org
SUMMARY:STARR: Erin Limmack (St Andrews)
DESCRIPTION:In this moderated conversation\, Dr Nuraliah Norasid will speak about how a medusa became the… Continue reading Dr Nuraliah Norasid (in conversation with Dr Leslie Wong) – A Severed Head on the Nation’s Shield: Medusa in the Lion City
URL:https://classicalreception.org/event/starr-erin-limmack/
CATEGORIES:Seminar
END:VEVENT
BEGIN:VEVENT
DTSTART;TZID=UTC:20251009T180000
DTEND;TZID=UTC:20251009T190000
DTSTAMP:20260423T053306
CREATED:20250911T124113Z
LAST-MODIFIED:20250911T124113Z
UID:3868-1760032800-1760036400@classicalreception.org
SUMMARY:STARR: Robin Fodor (St Andrews)
DESCRIPTION:In this moderated conversation\, Dr Nuraliah Norasid will speak about how a medusa became the… Continue reading Dr Nuraliah Norasid (in conversation with Dr Leslie Wong) – A Severed Head on the Nation’s Shield: Medusa in the Lion City
URL:https://classicalreception.org/event/starr-robin-fodor-st-andrews/
LOCATION:Swallowgate\, St Andrews
CATEGORIES:Seminar
END:VEVENT
BEGIN:VEVENT
DTSTART;TZID=UTC:20251002T180000
DTEND;TZID=UTC:20251002T190000
DTSTAMP:20260423T053306
CREATED:20250911T123901Z
LAST-MODIFIED:20250911T123901Z
UID:3866-1759428000-1759431600@classicalreception.org
SUMMARY:STARR: Roger Rees and Lorena Phillips (St Andrews)
DESCRIPTION:In this moderated conversation\, Dr Nuraliah Norasid will speak about how a medusa became the… Continue reading Dr Nuraliah Norasid (in conversation with Dr Leslie Wong) – A Severed Head on the Nation’s Shield: Medusa in the Lion City
URL:https://classicalreception.org/event/starr-roger-rees-and-lorena-phillips-st-andrews/
LOCATION:Swallowgate\, St Andrews
CATEGORIES:Seminar
END:VEVENT
BEGIN:VEVENT
DTSTART;TZID=UTC:20250925T180000
DTEND;TZID=UTC:20250925T190000
DTSTAMP:20260423T053306
CREATED:20250911T123545Z
LAST-MODIFIED:20250911T123545Z
UID:3864-1758823200-1758826800@classicalreception.org
SUMMARY:STARR: Stefano Parrinello (St Andrews)
DESCRIPTION:In this moderated conversation\, Dr Nuraliah Norasid will speak about how a medusa became the… Continue reading Dr Nuraliah Norasid (in conversation with Dr Leslie Wong) – A Severed Head on the Nation’s Shield: Medusa in the Lion City
URL:https://classicalreception.org/event/starr-stefano-parrinello-st-andrews/
LOCATION:Swallowgate\, St Andrews
CATEGORIES:Seminar
END:VEVENT
BEGIN:VEVENT
DTSTART;TZID=UTC:20250918T180000
DTEND;TZID=UTC:20250918T190000
DTSTAMP:20260423T053306
CREATED:20250911T123415Z
LAST-MODIFIED:20250911T123708Z
UID:3861-1758218400-1758222000@classicalreception.org
SUMMARY:STARR: Aaron Pocock (Glasgow)
DESCRIPTION:In this moderated conversation\, Dr Nuraliah Norasid will speak about how a medusa became the… Continue reading Dr Nuraliah Norasid (in conversation with Dr Leslie Wong) – A Severed Head on the Nation’s Shield: Medusa in the Lion City
URL:https://classicalreception.org/event/starr-aaron-pocock-glasgow/
LOCATION:Swallowgate\, St Andrews
CATEGORIES:Seminar
END:VEVENT
BEGIN:VEVENT
DTSTART;TZID=UTC:20250911T180000
DTEND;TZID=UTC:20250911T190000
DTSTAMP:20260423T053306
CREATED:20250911T124258Z
LAST-MODIFIED:20250911T124258Z
UID:3870-1757613600-1757617200@classicalreception.org
SUMMARY:STARR: Sophia Jacome (Edinburgh)
DESCRIPTION:In this moderated conversation\, Dr Nuraliah Norasid will speak about how a medusa became the… Continue reading Dr Nuraliah Norasid (in conversation with Dr Leslie Wong) – A Severed Head on the Nation’s Shield: Medusa in the Lion City
URL:https://classicalreception.org/event/starr-sophia-jacome-edinburgh/
LOCATION:Swallowgate\, St Andrews
CATEGORIES:Seminar
END:VEVENT
BEGIN:VEVENT
DTSTART;TZID=UTC:20250616T153000
DTEND;TZID=UTC:20250616T170000
DTSTAMP:20260423T053306
CREATED:20250227T165333Z
LAST-MODIFIED:20250410T134840Z
UID:3759-1750087800-1750093200@classicalreception.org
SUMMARY:CRSN/ICS Classical Reception Summer Seminar Series
DESCRIPTION:In this moderated conversation\, Dr Nuraliah Norasid will speak about how a medusa became the… Continue reading Dr Nuraliah Norasid (in conversation with Dr Leslie Wong) – A Severed Head on the Nation’s Shield: Medusa in the Lion City
URL:https://classicalreception.org/event/crsn-ics-classical-reception-summer-seminar-series-6/
CATEGORIES:Seminar
END:VEVENT
BEGIN:VEVENT
DTSTART;TZID=UTC:20250609T153000
DTEND;TZID=UTC:20250609T170000
DTSTAMP:20260423T053306
CREATED:20250227T165544Z
LAST-MODIFIED:20250410T134801Z
UID:3757-1749483000-1749488400@classicalreception.org
SUMMARY:CRSN/ICS Classical Reception Summer Seminar Series
DESCRIPTION:In this moderated conversation\, Dr Nuraliah Norasid will speak about how a medusa became the… Continue reading Dr Nuraliah Norasid (in conversation with Dr Leslie Wong) – A Severed Head on the Nation’s Shield: Medusa in the Lion City
URL:https://classicalreception.org/event/crsn-ics-classical-reception-summer-seminar-series-5/
CATEGORIES:Seminar
END:VEVENT
BEGIN:VEVENT
DTSTART;TZID=UTC:20250602T153000
DTEND;TZID=UTC:20250602T170000
DTSTAMP:20260423T053306
CREATED:20250227T164902Z
LAST-MODIFIED:20250410T135011Z
UID:3755-1748878200-1748883600@classicalreception.org
SUMMARY:CRSN/ICS Classical Reception Summer Seminar Series
DESCRIPTION:In this moderated conversation\, Dr Nuraliah Norasid will speak about how a medusa became the… Continue reading Dr Nuraliah Norasid (in conversation with Dr Leslie Wong) – A Severed Head on the Nation’s Shield: Medusa in the Lion City
URL:https://classicalreception.org/event/crsn-ics-classical-reception-summer-seminar-series-4/
CATEGORIES:Seminar
END:VEVENT
BEGIN:VEVENT
DTSTART;TZID=UTC:20250519T153000
DTEND;TZID=UTC:20250519T170000
DTSTAMP:20260423T053306
CREATED:20250227T164637Z
LAST-MODIFIED:20250410T135042Z
UID:3749-1747668600-1747674000@classicalreception.org
SUMMARY:CRSN/ICS Classical Reception Summer Seminar Series
DESCRIPTION:In this moderated conversation\, Dr Nuraliah Norasid will speak about how a medusa became the… Continue reading Dr Nuraliah Norasid (in conversation with Dr Leslie Wong) – A Severed Head on the Nation’s Shield: Medusa in the Lion City
URL:https://classicalreception.org/event/crsn-ics-classical-reception-summer-seminar-series-3/
CATEGORIES:Seminar
END:VEVENT
BEGIN:VEVENT
DTSTART;TZID=UTC:20250512T153000
DTEND;TZID=UTC:20250512T170000
DTSTAMP:20260423T053306
CREATED:20250227T164502Z
LAST-MODIFIED:20250410T134946Z
UID:3747-1747063800-1747069200@classicalreception.org
SUMMARY:CRSN/ICS Classical Reception Summer Seminar Series
DESCRIPTION:In this moderated conversation\, Dr Nuraliah Norasid will speak about how a medusa became the… Continue reading Dr Nuraliah Norasid (in conversation with Dr Leslie Wong) – A Severed Head on the Nation’s Shield: Medusa in the Lion City
URL:https://classicalreception.org/event/crsn-ics-classical-reception-summer-seminar-series-2/
CATEGORIES:Seminar
END:VEVENT
BEGIN:VEVENT
DTSTART;TZID=UTC:20250428T153000
DTEND;TZID=UTC:20250428T170000
DTSTAMP:20260423T053306
CREATED:20250227T164149Z
LAST-MODIFIED:20250424T113139Z
UID:3744-1745854200-1745859600@classicalreception.org
SUMMARY:CRSN/ICS Classical Reception Summer Seminar Series
DESCRIPTION:In this moderated conversation\, Dr Nuraliah Norasid will speak about how a medusa became the… Continue reading Dr Nuraliah Norasid (in conversation with Dr Leslie Wong) – A Severed Head on the Nation’s Shield: Medusa in the Lion City
URL:https://classicalreception.org/event/crsn-ics-classical-reception-summer-seminar-series/
CATEGORIES:Seminar
END:VEVENT
BEGIN:VEVENT
DTSTART;TZID=UTC:20240630T080000
DTEND;TZID=UTC:20240630T170000
DTSTAMP:20260423T053306
CREATED:20240506T200738Z
LAST-MODIFIED:20240506T200738Z
UID:3567-1719734400-1719766800@classicalreception.org
SUMMARY:Call for Papers: Fanfiction and the Ancient World Conference. Abstract Deadline June 30th
DESCRIPTION:In this moderated conversation\, Dr Nuraliah Norasid will speak about how a medusa became the… Continue reading Dr Nuraliah Norasid (in conversation with Dr Leslie Wong) – A Severed Head on the Nation’s Shield: Medusa in the Lion City
URL:https://classicalreception.org/event/call-for-papers-fanfiction-and-the-ancient-world-conference-abstract-deadline-june-30th/
LOCATION:Radboud University\, 6525 XZ Nijmegen\, Netherlands
CATEGORIES:Conference,Lecture,Public Event,Seminar
END:VEVENT
BEGIN:VEVENT
DTSTART;TZID=UTC:20240610T153000
DTEND;TZID=UTC:20240610T170000
DTSTAMP:20260423T053306
CREATED:20240415T174638Z
LAST-MODIFIED:20240415T175359Z
UID:3549-1718033400-1718038800@classicalreception.org
SUMMARY:Michael Okyere Asante: Reception Seminar Title TBC
DESCRIPTION:In this moderated conversation\, Dr Nuraliah Norasid will speak about how a medusa became the… Continue reading Dr Nuraliah Norasid (in conversation with Dr Leslie Wong) – A Severed Head on the Nation’s Shield: Medusa in the Lion City
URL:https://classicalreception.org/event/michael-okyere-asante-reception-seminar-title-tbc/
LOCATION:Online
CATEGORIES:Public Event,Seminar
ATTACH;FMTTYPE=image/png:https://classicalreception.org/wp-content/uploads/2024/04/acab635h.png
END:VEVENT
BEGIN:VEVENT
DTSTART;TZID=UTC:20240603T153000
DTEND;TZID=UTC:20240603T170000
DTSTAMP:20260423T053306
CREATED:20240415T174357Z
LAST-MODIFIED:20240415T175341Z
UID:3547-1717428600-1717434000@classicalreception.org
SUMMARY:Daniela Potenza\, Yassaman Khajehi and Pauline Donizeau : Greek Tragedy and The Middle East: Chasing The Myth
DESCRIPTION:In this moderated conversation\, Dr Nuraliah Norasid will speak about how a medusa became the… Continue reading Dr Nuraliah Norasid (in conversation with Dr Leslie Wong) – A Severed Head on the Nation’s Shield: Medusa in the Lion City
URL:https://classicalreception.org/event/daniela-potenza-yassaman-khajehi-and-pauline-donizeau-greek-tragedy-and-the-middle-east-chasing-the-myth/
LOCATION:Online
CATEGORIES:Public Event,Seminar
ATTACH;FMTTYPE=image/png:https://classicalreception.org/wp-content/uploads/2024/04/acab635h.png
END:VEVENT
BEGIN:VEVENT
DTSTART;TZID=UTC:20240520T153000
DTEND;TZID=UTC:20240520T170000
DTSTAMP:20260423T053306
CREATED:20240415T174129Z
LAST-MODIFIED:20240415T175319Z
UID:3545-1716219000-1716224400@classicalreception.org
SUMMARY:Madhlozi Moyo: The obelisks of Matabeleland: Cecil John Rhodes\, conquest\, and the  Classics
DESCRIPTION:In this moderated conversation\, Dr Nuraliah Norasid will speak about how a medusa became the… Continue reading Dr Nuraliah Norasid (in conversation with Dr Leslie Wong) – A Severed Head on the Nation’s Shield: Medusa in the Lion City
URL:https://classicalreception.org/event/madhlozi-moyo-the-obelisks-of-matabeleland-cecil-john-rhodes-conquest-and-the-classics/
LOCATION:Online
CATEGORIES:Public Event,Seminar
ATTACH;FMTTYPE=image/png:https://classicalreception.org/wp-content/uploads/2024/04/acab635h.png
END:VEVENT
BEGIN:VEVENT
DTSTART;TZID=UTC:20240513T153000
DTEND;TZID=UTC:20240513T170000
DTSTAMP:20260423T053306
CREATED:20240415T173918Z
LAST-MODIFIED:20240415T175257Z
UID:3543-1715614200-1715619600@classicalreception.org
SUMMARY:Justine McConnell: Graeco-Roman Shades and Colonial Shadows in the Caribbean
DESCRIPTION:In this moderated conversation\, Dr Nuraliah Norasid will speak about how a medusa became the… Continue reading Dr Nuraliah Norasid (in conversation with Dr Leslie Wong) – A Severed Head on the Nation’s Shield: Medusa in the Lion City
URL:https://classicalreception.org/event/justine-mcconnell-graeco-roman-shades-and-colonial-shadows-in-the-caribbean/
LOCATION:Online
CATEGORIES:Public Event,Seminar
ATTACH;FMTTYPE=image/png:https://classicalreception.org/wp-content/uploads/2024/04/acab635h.png
END:VEVENT
BEGIN:VEVENT
DTSTART;TZID=UTC:20240429T153000
DTEND;TZID=UTC:20240429T170000
DTSTAMP:20260423T053306
CREATED:20240415T173544Z
LAST-MODIFIED:20240415T175224Z
UID:3541-1714404600-1714410000@classicalreception.org
SUMMARY:Lesego Chauke: Shadows of Empire Seminar
DESCRIPTION:In this moderated conversation\, Dr Nuraliah Norasid will speak about how a medusa became the… Continue reading Dr Nuraliah Norasid (in conversation with Dr Leslie Wong) – A Severed Head on the Nation’s Shield: Medusa in the Lion City
URL:https://classicalreception.org/event/lesego-chauke-shadows-of-empire-seminar/
LOCATION:Online
CATEGORIES:Public Event,Seminar
ATTACH;FMTTYPE=image/png:https://classicalreception.org/wp-content/uploads/2024/04/acab635h.png
END:VEVENT
BEGIN:VEVENT
DTSTART;TZID=UTC:20240422T163000
DTEND;TZID=UTC:20240610T180000
DTSTAMP:20260423T053306
CREATED:20240417T093106Z
LAST-MODIFIED:20240417T093106Z
UID:3561-1713803400-1718042400@classicalreception.org
SUMMARY:OUT OF THE SHADOWS OF EMPIRE: Institute of Classical Studies’ Classical Reception Seminar Series
DESCRIPTION:In this moderated conversation\, Dr Nuraliah Norasid will speak about how a medusa became the… Continue reading Dr Nuraliah Norasid (in conversation with Dr Leslie Wong) – A Severed Head on the Nation’s Shield: Medusa in the Lion City
URL:https://classicalreception.org/event/out-of-the-shadows-of-empire-institute-of-classical-studies-classical-reception-seminar-series/
CATEGORIES:Seminar
END:VEVENT
BEGIN:VEVENT
DTSTART;TZID=UTC:20240422T153000
DTEND;TZID=UTC:20240422T170000
DTSTAMP:20260423T053307
CREATED:20240415T173331Z
LAST-MODIFIED:20240415T175516Z
UID:3538-1713799800-1713805200@classicalreception.org
SUMMARY:Patrice Rankine: The ‘Bacchae’ and the postcolonial turn
DESCRIPTION:In this moderated conversation\, Dr Nuraliah Norasid will speak about how a medusa became the… Continue reading Dr Nuraliah Norasid (in conversation with Dr Leslie Wong) – A Severed Head on the Nation’s Shield: Medusa in the Lion City
URL:https://classicalreception.org/event/patrice-rankine-the-bacchae-and-the-postcolonial-turn/
LOCATION:Online
CATEGORIES:Public Event,Seminar
ATTACH;FMTTYPE=image/png:https://classicalreception.org/wp-content/uploads/2024/04/acab635h.png
END:VEVENT
BEGIN:VEVENT
DTSTART;TZID=UTC:20240322T080000
DTEND;TZID=UTC:20240324T170000
DTSTAMP:20260423T053307
CREATED:20240110T102808Z
LAST-MODIFIED:20240110T102808Z
UID:3443-1711094400-1711299600@classicalreception.org
SUMMARY:Classical Association 2024 Conference at University of Warwick
DESCRIPTION:In this moderated conversation\, Dr Nuraliah Norasid will speak about how a medusa became the… Continue reading Dr Nuraliah Norasid (in conversation with Dr Leslie Wong) – A Severed Head on the Nation’s Shield: Medusa in the Lion City
URL:https://classicalreception.org/event/classical-association-2024-conference-at-university-of-warwick/
LOCATION:University of Warwick\, Coventry\, CV4 7AL
CATEGORIES:Conference,Lecture,Public Event,Seminar,Workshop
END:VEVENT
BEGIN:VEVENT
DTSTART;VALUE=DATE:20240202
DTEND;VALUE=DATE:20240203
DTSTAMP:20260423T053307
CREATED:20231128T075711Z
LAST-MODIFIED:20231128T075711Z
UID:3386-1706832000-1706918399@classicalreception.org
SUMMARY:CfP 2025 Society for Classical Studies Annual Meeting in PHILADELPHIA\, deadline 02/02/24
DESCRIPTION:In this moderated conversation\, Dr Nuraliah Norasid will speak about how a medusa became the… Continue reading Dr Nuraliah Norasid (in conversation with Dr Leslie Wong) – A Severed Head on the Nation’s Shield: Medusa in the Lion City
URL:https://classicalreception.org/event/cfp-2025-society-for-classical-studies-annual-meeting-in-philadelphia-deadline-02-02-24/
CATEGORIES:Conference,Seminar
END:VEVENT
BEGIN:VEVENT
DTSTART;TZID=UTC:20220516T043000
DTEND;TZID=UTC:20220704T060000
DTSTAMP:20260423T053307
CREATED:20220502T091506Z
LAST-MODIFIED:20220504T121357Z
UID:3027-1652675400-1656914400@classicalreception.org
SUMMARY:CRSN/ICS online seminar series: ‘Back To a Time Before I Had Form’: Ancient Origin Myth(s) of Queerness
DESCRIPTION:In this moderated conversation\, Dr Nuraliah Norasid will speak about how a medusa became the… Continue reading Dr Nuraliah Norasid (in conversation with Dr Leslie Wong) – A Severed Head on the Nation’s Shield: Medusa in the Lion City
URL:https://classicalreception.org/event/crsn-ics-online-seminar-series-back-to-a-time-before-i-had-form-ancient-origin-myths-of-queerness/
LOCATION:Online
CATEGORIES:Public Event,Seminar
ORGANIZER;CN="Queer and the Classical":MAILTO:queerandtheclassical@gmail.com
END:VEVENT
BEGIN:VEVENT
DTSTART;VALUE=DATE:20210510
DTEND;VALUE=DATE:20210622
DTSTAMP:20260423T053307
CREATED:20210426T133232Z
LAST-MODIFIED:20210426T133454Z
UID:2488-1620604800-1624319999@classicalreception.org
SUMMARY:Hierarchies of Reception: the ICS and CRSN reception seminar
DESCRIPTION:In this moderated conversation\, Dr Nuraliah Norasid will speak about how a medusa became the… Continue reading Dr Nuraliah Norasid (in conversation with Dr Leslie Wong) – A Severed Head on the Nation’s Shield: Medusa in the Lion City
URL:https://classicalreception.org/event/hierarchies-of-reception-the-institute-of-classical-studies-and-classical-reception-studies-network-reception-seminar/
LOCATION:Online
CATEGORIES:Seminar
END:VEVENT
BEGIN:VEVENT
DTSTART;VALUE=DATE:20210211
DTEND;VALUE=DATE:20210504
DTSTAMP:20260423T053307
CREATED:20210203T094221Z
LAST-MODIFIED:20210203T094345Z
UID:2261-1613001600-1620086399@classicalreception.org
SUMMARY:Seminar Series: Agamennone Classico e Contemporaneo
DESCRIPTION:In this moderated conversation\, Dr Nuraliah Norasid will speak about how a medusa became the… Continue reading Dr Nuraliah Norasid (in conversation with Dr Leslie Wong) – A Severed Head on the Nation’s Shield: Medusa in the Lion City
URL:https://classicalreception.org/event/seminar-series-agamennone-classico-e-contemporaneo/
LOCATION:Online
CATEGORIES:Performance,Public Event,Seminar,Theatre
END:VEVENT
BEGIN:VEVENT
DTSTART;TZID=UTC:20200318T160000
DTEND;TZID=UTC:20200318T160000
DTSTAMP:20260423T053307
CREATED:20200130T205107Z
LAST-MODIFIED:20200130T205107Z
UID:1690-1584547200-1584547200@classicalreception.org
SUMMARY:Emily Pillinger\, 'Musical machismo: classical masculinities in British opera of the 1980s'
DESCRIPTION:In this moderated conversation\, Dr Nuraliah Norasid will speak about how a medusa became the… Continue reading Dr Nuraliah Norasid (in conversation with Dr Leslie Wong) – A Severed Head on the Nation’s Shield: Medusa in the Lion City
URL:https://classicalreception.org/event/emily-pillinger-musical-machismo-classical-masculinities-in-british-opera-of-the-1980s/
LOCATION:Newcastle University\, NE1 7RU
CATEGORIES:Seminar
END:VEVENT
BEGIN:VEVENT
DTSTART;TZID=UTC:20200318T160000
DTEND;TZID=UTC:20200318T160000
DTSTAMP:20260423T053307
CREATED:20200130T202658Z
LAST-MODIFIED:20200130T202658Z
UID:1675-1584547200-1584547200@classicalreception.org
SUMMARY:Sara Brio\, '"The Sphinx's seamless veil": Exploring the Religious Reception of Ancient Egypt in Nineteenth-Century Fiction'
DESCRIPTION:In this moderated conversation\, Dr Nuraliah Norasid will speak about how a medusa became the… Continue reading Dr Nuraliah Norasid (in conversation with Dr Leslie Wong) – A Severed Head on the Nation’s Shield: Medusa in the Lion City
URL:https://classicalreception.org/event/sara-brio-the-sphinxs-seamless-veil-exploring-the-religious-reception-of-ancient-egypt-in-nineteenth-century-fiction/
LOCATION:University of Birmingham\, Edgbaston\, Birmingham\, B15 2TT\, United Kingdom
CATEGORIES:Seminar
END:VEVENT
END:VCALENDAR