BEGIN:VCALENDAR
VERSION:2.0
PRODID:-//CRSN - ECPv6.15.20//NONSGML v1.0//EN
CALSCALE:GREGORIAN
METHOD:PUBLISH
X-ORIGINAL-URL:https://classicalreception.org
X-WR-CALDESC:Events for CRSN
REFRESH-INTERVAL;VALUE=DURATION:PT1H
X-Robots-Tag:noindex
X-PUBLISHED-TTL:PT1H
BEGIN:VTIMEZONE
TZID:UTC
BEGIN:STANDARD
TZOFFSETFROM:+0000
TZOFFSETTO:+0000
TZNAME:UTC
DTSTART:20180101T000000
END:STANDARD
END:VTIMEZONE
BEGIN:VEVENT
DTSTART;TZID=UTC:20240804T080000
DTEND;TZID=UTC:20240804T170000
DTSTAMP:20260423T054815
CREATED:20240711T112233Z
LAST-MODIFIED:20240711T112233Z
UID:3618-1722758400-1722790800@classicalreception.org
SUMMARY:Young People Graphic Novel Competition Open for Entries - deadline 4/8/2024
DESCRIPTION:For the Faculty of Classics Outreach Competition 2024\, create a comic strip based on Greek… Continue reading Young People Graphic Novel Competition Open for Entries – deadline 4/8/2024
URL:https://classicalreception.org/event/young-people-graphic-novel-competition-open-for-entries-deadline-4-8-2024/
CATEGORIES:Public Event,Schools outreach
END:VEVENT
BEGIN:VEVENT
DTSTART;TZID=UTC:20240207T193000
DTEND;TZID=UTC:20240207T210000
DTSTAMP:20260423T054815
CREATED:20231102T175657Z
LAST-MODIFIED:20231102T175657Z
UID:3384-1707334200-1707339600@classicalreception.org
SUMMARY:UCL 2024 Classics Play - Euripides' Bacchae 7-9 February
DESCRIPTION:For the Faculty of Classics Outreach Competition 2024\, create a comic strip based on Greek… Continue reading Young People Graphic Novel Competition Open for Entries – deadline 4/8/2024
URL:https://classicalreception.org/event/ucl-2024-classics-play-euripides-bacchae-7-9-february/
LOCATION:University College London\, London\, United Kingdom
CATEGORIES:Lecture,Performance,Public Event,Schools outreach,Theatre
END:VEVENT
BEGIN:VEVENT
DTSTART;TZID=UTC:20231108T193000
DTEND;TZID=UTC:20231108T213000
DTSTAMP:20260423T054815
CREATED:20231010T101732Z
LAST-MODIFIED:20231010T101732Z
UID:3358-1699471800-1699479000@classicalreception.org
SUMMARY:2023 Oxford Greek Play - Euripides' Medea
DESCRIPTION:For the Faculty of Classics Outreach Competition 2024\, create a comic strip based on Greek… Continue reading Young People Graphic Novel Competition Open for Entries – deadline 4/8/2024
URL:https://classicalreception.org/event/2023-oxford-greek-play-euripides-medea/
LOCATION:oxford playhouse\, Oxford Playhouse\, Beaumont Street\, Oxford\, OX1 2LW
CATEGORIES:Performance,Public Event,Schools outreach,Theatre
END:VEVENT
BEGIN:VEVENT
DTSTART;VALUE=DATE:20190306
DTEND;VALUE=DATE:20190307
DTSTAMP:20260423T054815
CREATED:20181002T162114Z
LAST-MODIFIED:20181002T162114Z
UID:1076-1551830400-1551916799@classicalreception.org
SUMMARY:Ancient Images\, Modern Eyes: The Classical World in Modern Media and Advertising
DESCRIPTION:For the Faculty of Classics Outreach Competition 2024\, create a comic strip based on Greek… Continue reading Young People Graphic Novel Competition Open for Entries – deadline 4/8/2024
URL:https://classicalreception.org/event/ancient-images-modern-eyes-the-classical-world-in-modern-media-and-advertising/
LOCATION:University of Warwick\, Coventry\, CV4 7AL
CATEGORIES:Schools outreach
END:VEVENT
END:VCALENDAR