BEGIN:VCALENDAR
VERSION:2.0
PRODID:-//CRSN - ECPv6.15.20//NONSGML v1.0//EN
CALSCALE:GREGORIAN
METHOD:PUBLISH
X-ORIGINAL-URL:https://classicalreception.org
X-WR-CALDESC:Events for CRSN
REFRESH-INTERVAL;VALUE=DURATION:PT1H
X-Robots-Tag:noindex
X-PUBLISHED-TTL:PT1H
BEGIN:VTIMEZONE
TZID:UTC
BEGIN:STANDARD
TZOFFSETFROM:+0000
TZOFFSETTO:+0000
TZNAME:UTC
DTSTART:20170101T000000
END:STANDARD
END:VTIMEZONE
BEGIN:VEVENT
DTSTART;TZID=UTC:20180207T180000
DTEND;TZID=UTC:20180207T220000
DTSTAMP:20260423T054738
CREATED:20180129T220620Z
LAST-MODIFIED:20180129T220620Z
UID:770-1518026400-1518040800@classicalreception.org
SUMMARY:Staging Greek Drama Today/KCL Greek Play - Euripides' Medea
DESCRIPTION:KCL GREEK PLAY 2018: EURIPIDES' MEDEA 7-9 February 2018\, 7pm (2.30pm matinees on 7 &… Continue reading Staging Greek Drama Today/KCL Greek Play – Euripides’ Medea
URL:https://classicalreception.org/event/staging-greek-drama-today-kcl-greek-play-euripides-medea/
LOCATION:Greenwood Theatre\, London\, SE1 3RA\, United Kingdom
CATEGORIES:Theatre
END:VEVENT
BEGIN:VEVENT
DTSTART;TZID=UTC:20180117T130000
DTEND;TZID=UTC:20180117T130000
DTSTAMP:20260423T054738
CREATED:20180103T114412Z
LAST-MODIFIED:20180103T114633Z
UID:674-1516194000-1516194000@classicalreception.org
SUMMARY:Queens of Syria screening
DESCRIPTION:KCL GREEK PLAY 2018: EURIPIDES' MEDEA 7-9 February 2018\, 7pm (2.30pm matinees on 7 &… Continue reading Staging Greek Drama Today/KCL Greek Play – Euripides’ Medea
URL:https://classicalreception.org/event/queens-of-syria-screening/
LOCATION:University of Birmingham\, Edgbaston\, Birmingham\, B15 2TT\, United Kingdom
CATEGORIES:Film/TV screening,Performance,Theatre
END:VEVENT
END:VCALENDAR