BEGIN:VCALENDAR
VERSION:2.0
PRODID:-//CRSN - ECPv6.15.20//NONSGML v1.0//EN
CALSCALE:GREGORIAN
METHOD:PUBLISH
X-ORIGINAL-URL:https://classicalreception.org
X-WR-CALDESC:Events for CRSN
REFRESH-INTERVAL;VALUE=DURATION:PT1H
X-Robots-Tag:noindex
X-PUBLISHED-TTL:PT1H
BEGIN:VTIMEZONE
TZID:UTC
BEGIN:STANDARD
TZOFFSETFROM:+0000
TZOFFSETTO:+0000
TZNAME:UTC
DTSTART:20160101T000000
END:STANDARD
END:VTIMEZONE
BEGIN:VEVENT
DTSTART;TZID=UTC:20180223T170000
DTEND;TZID=UTC:20180223T183000
DTSTAMP:20260423T083605
CREATED:20171211T154404Z
LAST-MODIFIED:20180206T110357Z
UID:603-1519405200-1519410600@classicalreception.org
SUMMARY:‘Strong Woman’ – A Rare Musical Drama on the Martyrdom of a Japanese Noblewoman
DESCRIPTION:KCL GREEK PLAY 2018: EURIPIDES' MEDEA 7-9 February 2018\, 7pm (2.30pm matinees on 7 &… Continue reading Staging Greek Drama Today/KCL Greek Play – Euripides’ Medea
URL:https://classicalreception.org/event/strong-woman-a-rare-musical-drama-on-the-martyrdom-of-a-japanese-noblewoman/
LOCATION:Bristol Music Club\, 76 St Paul's Road\, Bristol\, BS8 1LP\, United Kingdom
CATEGORIES:Music,Performance,Public Event
END:VEVENT
BEGIN:VEVENT
DTSTART;TZID=UTC:20180207T180000
DTEND;TZID=UTC:20180207T220000
DTSTAMP:20260423T083605
CREATED:20180129T220620Z
LAST-MODIFIED:20180129T220620Z
UID:770-1518026400-1518040800@classicalreception.org
SUMMARY:Staging Greek Drama Today/KCL Greek Play - Euripides' Medea
DESCRIPTION:KCL GREEK PLAY 2018: EURIPIDES' MEDEA 7-9 February 2018\, 7pm (2.30pm matinees on 7 &… Continue reading Staging Greek Drama Today/KCL Greek Play – Euripides’ Medea
URL:https://classicalreception.org/event/staging-greek-drama-today-kcl-greek-play-euripides-medea/
LOCATION:Greenwood Theatre\, London\, SE1 3RA\, United Kingdom
CATEGORIES:Theatre
END:VEVENT
BEGIN:VEVENT
DTSTART;TZID=UTC:20180117T130000
DTEND;TZID=UTC:20180117T130000
DTSTAMP:20260423T083605
CREATED:20180103T114412Z
LAST-MODIFIED:20180103T114633Z
UID:674-1516194000-1516194000@classicalreception.org
SUMMARY:Queens of Syria screening
DESCRIPTION:KCL GREEK PLAY 2018: EURIPIDES' MEDEA 7-9 February 2018\, 7pm (2.30pm matinees on 7 &… Continue reading Staging Greek Drama Today/KCL Greek Play – Euripides’ Medea
URL:https://classicalreception.org/event/queens-of-syria-screening/
LOCATION:University of Birmingham\, Edgbaston\, Birmingham\, B15 2TT\, United Kingdom
CATEGORIES:Film/TV screening,Performance,Theatre
END:VEVENT
BEGIN:VEVENT
DTSTART;VALUE=DATE:20180110
DTEND;VALUE=DATE:20180111
DTSTAMP:20260423T083605
CREATED:20171212T152455Z
LAST-MODIFIED:20171212T152551Z
UID:645-1515542400-1515628799@classicalreception.org
SUMMARY:The Return of Ulysses (Monteverdi)
DESCRIPTION:KCL GREEK PLAY 2018: EURIPIDES' MEDEA 7-9 February 2018\, 7pm (2.30pm matinees on 7 &… Continue reading Staging Greek Drama Today/KCL Greek Play – Euripides’ Medea
URL:https://classicalreception.org/event/the-return-of-ulysses-monteverdi/
LOCATION:Roundhouse\, Chalk Farm Road\, London\, United Kingdom
CATEGORIES:Opera
END:VEVENT
BEGIN:VEVENT
DTSTART;TZID=UTC:20171122T183000
DTEND;TZID=UTC:20171122T183000
DTSTAMP:20260423T083605
CREATED:20171031T113459Z
LAST-MODIFIED:20171031T113605Z
UID:532-1511375400-1511375400@classicalreception.org
SUMMARY:Women on the Classics: Emily Wilson in conversation with Charlotte Higgins
DESCRIPTION:KCL GREEK PLAY 2018: EURIPIDES' MEDEA 7-9 February 2018\, 7pm (2.30pm matinees on 7 &… Continue reading Staging Greek Drama Today/KCL Greek Play – Euripides’ Medea
URL:https://classicalreception.org/event/women-on-the-classics-emily-wilson-in-conversation-with-charlotte-higgins/
LOCATION:Waterstone’s\, Gower Street\, London
CATEGORIES:Performance,Poetry,Public Event
END:VEVENT
BEGIN:VEVENT
DTSTART;TZID=UTC:20171120T180000
DTEND;TZID=UTC:20171120T180000
DTSTAMP:20260423T083605
CREATED:20171031T111134Z
LAST-MODIFIED:20171031T111134Z
UID:523-1511200800-1511200800@classicalreception.org
SUMMARY:Emily Wilson: The Odyssey
DESCRIPTION:KCL GREEK PLAY 2018: EURIPIDES' MEDEA 7-9 February 2018\, 7pm (2.30pm matinees on 7 &… Continue reading Staging Greek Drama Today/KCL Greek Play – Euripides’ Medea
URL:https://classicalreception.org/event/emily-wilson-the-odyssey/
LOCATION:Classics Faculty\, University of Oxford\, 66 St Giles'\, Oxford\, OX1 3LU\, United Kingdom
CATEGORIES:Poetry,Public Event
END:VEVENT
BEGIN:VEVENT
DTSTART;TZID=UTC:20171102T170000
DTEND;TZID=UTC:20171102T170000
DTSTAMP:20260423T083605
CREATED:20171031T110446Z
LAST-MODIFIED:20171031T110907Z
UID:517-1509642000-1509642000@classicalreception.org
SUMMARY:Josephine Balmer: a reading
DESCRIPTION:KCL GREEK PLAY 2018: EURIPIDES' MEDEA 7-9 February 2018\, 7pm (2.30pm matinees on 7 &… Continue reading Staging Greek Drama Today/KCL Greek Play – Euripides’ Medea
URL:https://classicalreception.org/event/josephine-balmer-a-reading/
LOCATION:Classics Faculty\, University of Oxford\, 66 St Giles'\, Oxford\, OX1 3LU\, United Kingdom
CATEGORIES:Poetry
END:VEVENT
BEGIN:VEVENT
DTSTART;TZID=UTC:20171027T090000
DTEND;TZID=UTC:20171027T170000
DTSTAMP:20260423T083605
CREATED:20171017T202015Z
LAST-MODIFIED:20171017T202015Z
UID:456-1509094800-1509123600@classicalreception.org
SUMMARY:Translating Eurydice
DESCRIPTION:KCL GREEK PLAY 2018: EURIPIDES' MEDEA 7-9 February 2018\, 7pm (2.30pm matinees on 7 &… Continue reading Staging Greek Drama Today/KCL Greek Play – Euripides’ Medea
URL:https://classicalreception.org/event/translating-eurydice/
LOCATION:University of East London\, Room US4.15\, University Square Stratford\, 1 Salway Road\, Stratford\, London\, E15 1NF\, United Kingdom
CATEGORIES:Conference,Performance
END:VEVENT
END:VCALENDAR