BEGIN:VCALENDAR
VERSION:2.0
PRODID:-//CRSN - ECPv6.15.20//NONSGML v1.0//EN
CALSCALE:GREGORIAN
METHOD:PUBLISH
X-WR-CALNAME:CRSN
X-ORIGINAL-URL:https://classicalreception.org
X-WR-CALDESC:Events for CRSN
REFRESH-INTERVAL;VALUE=DURATION:PT1H
X-Robots-Tag:noindex
X-PUBLISHED-TTL:PT1H
BEGIN:VTIMEZONE
TZID:UTC
BEGIN:STANDARD
TZOFFSETFROM:+0000
TZOFFSETTO:+0000
TZNAME:UTC
DTSTART:20170101T000000
END:STANDARD
END:VTIMEZONE
BEGIN:VEVENT
DTSTART;TZID=UTC:20240207T193000
DTEND;TZID=UTC:20240207T210000
DTSTAMP:20260423T053113
CREATED:20231102T175657Z
LAST-MODIFIED:20231102T175657Z
UID:3384-1707334200-1707339600@classicalreception.org
SUMMARY:UCL 2024 Classics Play - Euripides' Bacchae 7-9 February
DESCRIPTION:A one-day conference on Christopher Logue and the Classics\, in the Classics Faculty at 66… Continue reading Conference: Christopher Logue and the Classics 3/2/24
URL:https://classicalreception.org/event/ucl-2024-classics-play-euripides-bacchae-7-9-february/
LOCATION:University College London\, London\, United Kingdom
CATEGORIES:Lecture,Performance,Public Event,Schools outreach,Theatre
END:VEVENT
BEGIN:VEVENT
DTSTART;TZID=UTC:20240203T100000
DTEND;TZID=UTC:20240203T170000
DTSTAMP:20260423T053113
CREATED:20240110T105327Z
LAST-MODIFIED:20240110T105327Z
UID:3455-1706954400-1706979600@classicalreception.org
SUMMARY:Conference: Christopher Logue and the Classics 3/2/24
DESCRIPTION:A one-day conference on Christopher Logue and the Classics\, in the Classics Faculty at 66… Continue reading Conference: Christopher Logue and the Classics 3/2/24
URL:https://classicalreception.org/event/conference-christopher-logue-and-the-classics-3-2-24/
LOCATION:Classics Faculty\, University of Oxford\, 66 St Giles'\, Oxford\, OX1 3LU\, United Kingdom
CATEGORIES:Conference,Poetry,Public Event
END:VEVENT
BEGIN:VEVENT
DTSTART;TZID=UTC:20240202T080000
DTEND;TZID=UTC:20240202T170000
DTSTAMP:20260423T053113
CREATED:20240110T103302Z
LAST-MODIFIED:20240110T103302Z
UID:3446-1706860800-1706893200@classicalreception.org
SUMMARY:Applications open for BADA Greek Theatre Program\, Summer 2024
DESCRIPTION:A one-day conference on Christopher Logue and the Classics\, in the Classics Faculty at 66… Continue reading Conference: Christopher Logue and the Classics 3/2/24
URL:https://classicalreception.org/event/applications-open-for-bada-greek-theatre-program-summer-2024/
CATEGORIES:Course/education,Performance,Summer School,Theatre,Workshop
END:VEVENT
BEGIN:VEVENT
DTSTART;TZID=UTC:20240122T150000
DTEND;TZID=UTC:20240122T160000
DTSTAMP:20260423T053113
CREATED:20240110T104902Z
LAST-MODIFIED:20240110T104902Z
UID:3451-1705935600-1705939200@classicalreception.org
SUMMARY:APGRD 2024 Public Lecture: The Comic Body in Ancient Greek Theatre and Art
DESCRIPTION:A one-day conference on Christopher Logue and the Classics\, in the Classics Faculty at 66… Continue reading Conference: Christopher Logue and the Classics 3/2/24
URL:https://classicalreception.org/event/apgrd-2024-public-lecture-the-comic-body-in-ancient-greek-theatre-and-art/
LOCATION:Classics Faculty\, University of Oxford\, 66 St Giles'\, Oxford\, OX1 3LU\, United Kingdom
CATEGORIES:Lecture,Public Event,Theatre
END:VEVENT
BEGIN:VEVENT
DTSTART;TZID=UTC:20231108T193000
DTEND;TZID=UTC:20231108T213000
DTSTAMP:20260423T053113
CREATED:20231010T101732Z
LAST-MODIFIED:20231010T101732Z
UID:3358-1699471800-1699479000@classicalreception.org
SUMMARY:2023 Oxford Greek Play - Euripides' Medea
DESCRIPTION:A one-day conference on Christopher Logue and the Classics\, in the Classics Faculty at 66… Continue reading Conference: Christopher Logue and the Classics 3/2/24
URL:https://classicalreception.org/event/2023-oxford-greek-play-euripides-medea/
LOCATION:oxford playhouse\, Oxford Playhouse\, Beaumont Street\, Oxford\, OX1 2LW
CATEGORIES:Performance,Public Event,Schools outreach,Theatre
END:VEVENT
BEGIN:VEVENT
DTSTART;TZID=UTC:20231006T193000
DTEND;TZID=UTC:20231006T203000
DTSTAMP:20260423T053113
CREATED:20230901T155057Z
LAST-MODIFIED:20240415T175004Z
UID:3309-1696620600-1696624200@classicalreception.org
SUMMARY:'The Bacchae': a solo performance written\, created and performed by Ewan Downie
DESCRIPTION:A one-day conference on Christopher Logue and the Classics\, in the Classics Faculty at 66… Continue reading Conference: Christopher Logue and the Classics 3/2/24
URL:https://classicalreception.org/event/the-bacchae-a-solo-performance-written-created-and-performed-by-ewan-downie/
LOCATION:University of St Andrews\, St Andrews\, United Kingdom
CATEGORIES:Public Event,Theatre
END:VEVENT
BEGIN:VEVENT
DTSTART;VALUE=DATE:20220224
DTEND;VALUE=DATE:20220227
DTSTAMP:20260423T053113
CREATED:20211001T092838Z
LAST-MODIFIED:20211001T092838Z
UID:2813-1645660800-1645919999@classicalreception.org
SUMMARY:Conference: Heavy Metal and Global Premodernity
DESCRIPTION:A one-day conference on Christopher Logue and the Classics\, in the Classics Faculty at 66… Continue reading Conference: Christopher Logue and the Classics 3/2/24
URL:https://classicalreception.org/event/conference-heavy-metal-and-global-premodernity/
LOCATION:Online
CATEGORIES:Conference,Performance,Public Event
END:VEVENT
BEGIN:VEVENT
DTSTART;TZID=UTC:20211027T140000
DTEND;TZID=UTC:20211027T150000
DTSTAMP:20260423T053114
CREATED:20211022T080908Z
LAST-MODIFIED:20211022T104355Z
UID:2829-1635343200-1635346800@classicalreception.org
SUMMARY:'Global Majority Medea' with Shivaike Shah
DESCRIPTION:A one-day conference on Christopher Logue and the Classics\, in the Classics Faculty at 66… Continue reading Conference: Christopher Logue and the Classics 3/2/24
URL:https://classicalreception.org/event/global-majority-medea-with-shivaike-shah/
LOCATION:Online
CATEGORIES:Lecture,Performance,Public Event
END:VEVENT
BEGIN:VEVENT
DTSTART;VALUE=DATE:20210816
DTEND;VALUE=DATE:20210817
DTSTAMP:20260423T053114
CREATED:20210805T094125Z
LAST-MODIFIED:20210805T094125Z
UID:2776-1629072000-1629158399@classicalreception.org
SUMMARY:ReTAGS Speaker Series: a reading of Femi Osofisan's Médáyé
DESCRIPTION:A one-day conference on Christopher Logue and the Classics\, in the Classics Faculty at 66… Continue reading Conference: Christopher Logue and the Classics 3/2/24
URL:https://classicalreception.org/event/retags-speaker-series-a-reading-of-femi-osofisans-medaye/
LOCATION:Online
CATEGORIES:Performance
END:VEVENT
BEGIN:VEVENT
DTSTART;TZID=UTC:20210308T140000
DTEND;TZID=UTC:20210308T150000
DTSTAMP:20260423T053114
CREATED:20210127T100932Z
LAST-MODIFIED:20210302T173835Z
UID:2252-1615212000-1615215600@classicalreception.org
SUMMARY:New lines: contemporary poets and the classics
DESCRIPTION:A one-day conference on Christopher Logue and the Classics\, in the Classics Faculty at 66… Continue reading Conference: Christopher Logue and the Classics 3/2/24
URL:https://classicalreception.org/event/new-lines-contemporary-poets-and-the-classics/
LOCATION:Online
CATEGORIES:Performance,Public Event
END:VEVENT
BEGIN:VEVENT
DTSTART;VALUE=DATE:20210220
DTEND;VALUE=DATE:20210222
DTSTAMP:20260423T053114
CREATED:20210106T181228Z
LAST-MODIFIED:20210208T093050Z
UID:2131-1613779200-1613951999@classicalreception.org
SUMMARY:Queer and The Classical: Critical Futures\, Critical Feelings
DESCRIPTION:A one-day conference on Christopher Logue and the Classics\, in the Classics Faculty at 66… Continue reading Conference: Christopher Logue and the Classics 3/2/24
URL:https://classicalreception.org/event/cfp-queer-and-the-classical-critical-futures-critical-feelings/
LOCATION:Online
CATEGORIES:Conference,Performance,Public Event
END:VEVENT
BEGIN:VEVENT
DTSTART;VALUE=DATE:20210211
DTEND;VALUE=DATE:20210504
DTSTAMP:20260423T053114
CREATED:20210203T094221Z
LAST-MODIFIED:20210203T094345Z
UID:2261-1613001600-1620086399@classicalreception.org
SUMMARY:Seminar Series: Agamennone Classico e Contemporaneo
DESCRIPTION:A one-day conference on Christopher Logue and the Classics\, in the Classics Faculty at 66… Continue reading Conference: Christopher Logue and the Classics 3/2/24
URL:https://classicalreception.org/event/seminar-series-agamennone-classico-e-contemporaneo/
LOCATION:Online
CATEGORIES:Performance,Public Event,Seminar,Theatre
END:VEVENT
BEGIN:VEVENT
DTSTART;TZID=UTC:20200325T180000
DTEND;TZID=UTC:20200325T190000
DTSTAMP:20260423T053114
CREATED:20191206T154708Z
LAST-MODIFIED:20191206T154708Z
UID:1621-1585159200-1585162800@classicalreception.org
SUMMARY:Stephe Harrop\, 'Classics and Storytelling. Alcestis: in Bits' (Performance\, followed by discussion with Author and Performer)
DESCRIPTION:A one-day conference on Christopher Logue and the Classics\, in the Classics Faculty at 66… Continue reading Conference: Christopher Logue and the Classics 3/2/24
URL:https://classicalreception.org/event/stephe-harrop-classics-and-storytelling-alcestis-in-bits-performance-followed-by-discussion-with-author-and-performer/
LOCATION:Manchester Central Library\, Manchester\, United Kingdom
CATEGORIES:Lecture,Performance
END:VEVENT
BEGIN:VEVENT
DTSTART;TZID=UTC:20191121T183000
DTEND;TZID=UTC:20191121T203000
DTSTAMP:20260423T053114
CREATED:20191014T141152Z
LAST-MODIFIED:20191014T141152Z
UID:1589-1574361000-1574368200@classicalreception.org
SUMMARY:Anne Carson's 'Eros the Bittersweet' at Spike Island Studio
DESCRIPTION:A one-day conference on Christopher Logue and the Classics\, in the Classics Faculty at 66… Continue reading Conference: Christopher Logue and the Classics 3/2/24
URL:https://classicalreception.org/event/anne-carsons-eros-the-bittersweet-at-spike-island-studio/
LOCATION:Spike Island Studio\, 133 Cumberland Road\, Bristol\, BS1 6UX
CATEGORIES:Poetry,Public Event
END:VEVENT
BEGIN:VEVENT
DTSTART;TZID=UTC:20191119T170000
DTEND;TZID=UTC:20191119T190000
DTSTAMP:20260423T053114
CREATED:20191001T111726Z
LAST-MODIFIED:20191001T111726Z
UID:1567-1574182800-1574190000@classicalreception.org
SUMMARY:Excavating Roman Voices (Being Human)
DESCRIPTION:A one-day conference on Christopher Logue and the Classics\, in the Classics Faculty at 66… Continue reading Conference: Christopher Logue and the Classics 3/2/24
URL:https://classicalreception.org/event/excavating-roman-voices-being-human/
LOCATION:London Mithraeum Bloomberg\, 12 Walbrook\, London\, EC4N 8AA
CATEGORIES:Performance
END:VEVENT
BEGIN:VEVENT
DTSTART;TZID=UTC:20191019T170000
DTEND;TZID=UTC:20191019T170000
DTSTAMP:20260423T053114
CREATED:20191014T111653Z
LAST-MODIFIED:20191014T111653Z
UID:1585-1571504400-1571504400@classicalreception.org
SUMMARY:Andromeda
DESCRIPTION:A one-day conference on Christopher Logue and the Classics\, in the Classics Faculty at 66… Continue reading Conference: Christopher Logue and the Classics 3/2/24
URL:https://classicalreception.org/event/andromeda/
LOCATION:Nottingham Playhouse\, Wellington Circus\, Nottingham\, NG1 5AF\, United Kingdom
CATEGORIES:Performance,Theatre
END:VEVENT
BEGIN:VEVENT
DTSTART;TZID=UTC:20190712T100000
DTEND;TZID=UTC:20190712T190000
DTSTAMP:20260423T053114
CREATED:20190618T115334Z
LAST-MODIFIED:20190618T115334Z
UID:1438-1562925600-1562958000@classicalreception.org
SUMMARY:Classical Theatre and the Middle East: Greek drama and the "classic(s)" in the Arab-speaking world and Iran
DESCRIPTION:A one-day conference on Christopher Logue and the Classics\, in the Classics Faculty at 66… Continue reading Conference: Christopher Logue and the Classics 3/2/24
URL:https://classicalreception.org/event/classical-theatre-and-the-middle-east-greek-drama-and-the-classics-in-the-arab-speaking-world-and-iran/
LOCATION:St Hilda’s College\, Oxford\, Oxford\, OX4 1DY\, United Kingdom
CATEGORIES:Conference,Performance
END:VEVENT
BEGIN:VEVENT
DTSTART;TZID=UTC:20190215T193000
DTEND;TZID=UTC:20190215T213000
DTSTAMP:20260423T053114
CREATED:20190116T140425Z
LAST-MODIFIED:20190116T140425Z
UID:1248-1550259000-1550266200@classicalreception.org
SUMMARY:An Evening With Catullus and Vergil
DESCRIPTION:A one-day conference on Christopher Logue and the Classics\, in the Classics Faculty at 66… Continue reading Conference: Christopher Logue and the Classics 3/2/24
URL:https://classicalreception.org/event/an-evening-with-catullus-and-vergil/
LOCATION:The Poetry Cafe\, 22 Betterton Street\, London\, WC2H 9BX
CATEGORIES:Performance,Poetry
END:VEVENT
BEGIN:VEVENT
DTSTART;TZID=UTC:20190209T190000
DTEND;TZID=UTC:20190209T210000
DTSTAMP:20260423T053114
CREATED:20181218T221728Z
LAST-MODIFIED:20181218T221728Z
UID:1202-1549738800-1549746000@classicalreception.org
SUMMARY:The Song of Arms and a Man: Virgil's Aeneid
DESCRIPTION:A one-day conference on Christopher Logue and the Classics\, in the Classics Faculty at 66… Continue reading Conference: Christopher Logue and the Classics 3/2/24
URL:https://classicalreception.org/event/the-song-of-arms-and-a-man-virgils-aeneid/
LOCATION:University of Bristol\, Bristol\, BS8 1RJ\, United Kingdom
CATEGORIES:Performance,Poetry
END:VEVENT
BEGIN:VEVENT
DTSTART;TZID=UTC:20190128T180000
DTEND;TZID=UTC:20190128T180000
DTSTAMP:20260423T053114
CREATED:20190116T095243Z
LAST-MODIFIED:20190116T095243Z
UID:1246-1548698400-1548698400@classicalreception.org
SUMMARY:'A Play after Euripides' Andromeda'
DESCRIPTION:A one-day conference on Christopher Logue and the Classics\, in the Classics Faculty at 66… Continue reading Conference: Christopher Logue and the Classics 3/2/24
URL:https://classicalreception.org/event/a-play-after-euripides-andromeda/
LOCATION:Classics Faculty\, University of Oxford\, 66 St Giles'\, Oxford\, OX1 3LU\, United Kingdom
CATEGORIES:Performance,Poetry,Theatre
END:VEVENT
BEGIN:VEVENT
DTSTART;TZID=UTC:20190111T150000
DTEND;TZID=UTC:20190111T150000
DTSTAMP:20260423T053114
CREATED:20190103T202238Z
LAST-MODIFIED:20190103T202238Z
UID:1211-1547218800-1547218800@classicalreception.org
SUMMARY:Performing Pindar
DESCRIPTION:A one-day conference on Christopher Logue and the Classics\, in the Classics Faculty at 66… Continue reading Conference: Christopher Logue and the Classics 3/2/24
URL:https://classicalreception.org/event/performing-pindar/
LOCATION:Corpus Christi College\, Merton Street\, Oxford\, OX1 4JF\, United Kingdom
CATEGORIES:Lecture,Music,Performance,Poetry
END:VEVENT
BEGIN:VEVENT
DTSTART;TZID=UTC:20181129T180000
DTEND;TZID=UTC:20181129T190000
DTSTAMP:20260423T053114
CREATED:20181112T135219Z
LAST-MODIFIED:20181112T135219Z
UID:1185-1543514400-1543518000@classicalreception.org
SUMMARY:Bristol Poetry Institute Annual Reading 2018: Alice Oswald
DESCRIPTION:A one-day conference on Christopher Logue and the Classics\, in the Classics Faculty at 66… Continue reading Conference: Christopher Logue and the Classics 3/2/24
URL:https://classicalreception.org/event/bristol-poetry-institute-annual-reading-2018-alice-oswald/
LOCATION:Wills Memorial Building\, Queens Road\, Bristol\, BS8 1RJ\, United Kingdom
CATEGORIES:Performance,Poetry,Public Event
END:VEVENT
BEGIN:VEVENT
DTSTART;TZID=UTC:20181121T140000
DTEND;TZID=UTC:20181121T170000
DTSTAMP:20260423T053114
CREATED:20181108T104521Z
LAST-MODIFIED:20181108T104521Z
UID:1161-1542808800-1542819600@classicalreception.org
SUMMARY:Medea in Exile: Origins of a Myth (Being Human)
DESCRIPTION:A one-day conference on Christopher Logue and the Classics\, in the Classics Faculty at 66… Continue reading Conference: Christopher Logue and the Classics 3/2/24
URL:https://classicalreception.org/event/medea-in-exile-origins-of-a-myth-being-human/
LOCATION:University of Bristol\, Bristol\, BS8 1RJ\, United Kingdom
CATEGORIES:Performance,Theatre
END:VEVENT
BEGIN:VEVENT
DTSTART;TZID=UTC:20181116T193000
DTEND;TZID=UTC:20181116T220000
DTSTAMP:20260423T053114
CREATED:20181108T104902Z
LAST-MODIFIED:20181108T104902Z
UID:1164-1542396600-1542405600@classicalreception.org
SUMMARY:Weaving Women’s Stories (Being Human)
DESCRIPTION:A one-day conference on Christopher Logue and the Classics\, in the Classics Faculty at 66… Continue reading Conference: Christopher Logue and the Classics 3/2/24
URL:https://classicalreception.org/event/weaving-womens-stories-being-human/
LOCATION:St Margaret’s House\, London\, E2 9PL\, United Kingdom
CATEGORIES:Performance,Poetry,Public Event
ORGANIZER;CN="School of Advanced Study%2C University of London":MAILTO:emma.bridges@sas.ac.uk
END:VEVENT
BEGIN:VEVENT
DTSTART;TZID=UTC:20181115T183000
DTEND;TZID=UTC:20181115T210000
DTSTAMP:20260423T053114
CREATED:20181108T105548Z
LAST-MODIFIED:20181108T105548Z
UID:1172-1542306600-1542315600@classicalreception.org
SUMMARY:Creation and Destruction: Stories by the Fire (Being Human)
DESCRIPTION:A one-day conference on Christopher Logue and the Classics\, in the Classics Faculty at 66… Continue reading Conference: Christopher Logue and the Classics 3/2/24
URL:https://classicalreception.org/event/creation-and-destruction-stories-by-the-fire-being-human/
LOCATION:Skip Garden\, 1 Tapper Walk\, London\, N1C 4AQ\, United Kingdom
CATEGORIES:Performance,Public Event
END:VEVENT
BEGIN:VEVENT
DTSTART;TZID=UTC:20181106T190000
DTEND;TZID=UTC:20181106T190000
DTSTAMP:20260423T053114
CREATED:20180924T095434Z
LAST-MODIFIED:20180924T095434Z
UID:1062-1541530800-1541530800@classicalreception.org
SUMMARY:Tales from the Odyssey\, Daniel Morden
DESCRIPTION:A one-day conference on Christopher Logue and the Classics\, in the Classics Faculty at 66… Continue reading Conference: Christopher Logue and the Classics 3/2/24
URL:https://classicalreception.org/event/tales-from-the-odyssey-daniel-morden/
LOCATION:Badminton School\, Westbury Road\, Bristol\, BS9 3BA
CATEGORIES:Performance,Poetry
ORGANIZER;CN="Bristol Classical Association":MAILTO:bmbellmini@aol.com
END:VEVENT
BEGIN:VEVENT
DTSTART;TZID=UTC:20180716T180000
DTEND;TZID=UTC:20180716T191500
DTSTAMP:20260423T053114
CREATED:20180412T193058Z
LAST-MODIFIED:20180412T193058Z
UID:850-1531764000-1531768500@classicalreception.org
SUMMARY:Leave. To Remain (An Aristophanic Brexit Tale)
DESCRIPTION:A one-day conference on Christopher Logue and the Classics\, in the Classics Faculty at 66… Continue reading Conference: Christopher Logue and the Classics 3/2/24
URL:https://classicalreception.org/event/leave-to-remain-an-aristophanic-brexit-tale/
LOCATION:Cheney School\, Oxford\, United Kingdom
CATEGORIES:Performance,Theatre
ORGANIZER;CN="The Iris Project":MAILTO:info@irisproject.org.uk
END:VEVENT
BEGIN:VEVENT
DTSTART;TZID=UTC:20180702T170000
DTEND;TZID=UTC:20180702T170000
DTSTAMP:20260423T053114
CREATED:20180626T120712Z
LAST-MODIFIED:20180626T120712Z
UID:972-1530550800-1530550800@classicalreception.org
SUMMARY:Anna Jackson: I\, Clodia and Other Portraits
DESCRIPTION:A one-day conference on Christopher Logue and the Classics\, in the Classics Faculty at 66… Continue reading Conference: Christopher Logue and the Classics 3/2/24
URL:https://classicalreception.org/event/anna-jackson-i-clodia-and-other-portraits/
LOCATION:Classics Faculty\, University of Oxford\, 66 St Giles'\, Oxford\, OX1 3LU\, United Kingdom
CATEGORIES:Poetry,Public Event
END:VEVENT
BEGIN:VEVENT
DTSTART;TZID=UTC:20180417T183000
DTEND;TZID=UTC:20180417T213000
DTSTAMP:20260423T053114
CREATED:20180412T194216Z
LAST-MODIFIED:20180412T194216Z
UID:859-1523989800-1524000600@classicalreception.org
SUMMARY:VIVAM! Ovid is alive 2\,000 years after his death: An evening of readings and discussion
DESCRIPTION:A one-day conference on Christopher Logue and the Classics\, in the Classics Faculty at 66… Continue reading Conference: Christopher Logue and the Classics 3/2/24
URL:https://classicalreception.org/event/vivam-ovid-is-alive-2000-years-after-his-death-an-evening-of-readings-and-discussion/
LOCATION:Royal Geographical Society\, London\, SW7 2AR\, United Kingdom
CATEGORIES:Performance,Poetry,Public Event
END:VEVENT
BEGIN:VEVENT
DTSTART;TZID=UTC:20180323T090000
DTEND;TZID=UTC:20180323T101500
DTSTAMP:20260423T053114
CREATED:20180319T215529Z
LAST-MODIFIED:20180319T215529Z
UID:813-1521795600-1521800100@classicalreception.org
SUMMARY:OVID METAMORPHOSES 10: Public Reading with Kithara Accompaniment
DESCRIPTION:A one-day conference on Christopher Logue and the Classics\, in the Classics Faculty at 66… Continue reading Conference: Christopher Logue and the Classics 3/2/24
URL:https://classicalreception.org/event/ovid-metamorphoses-10-public-reading-with-kithara-accompaniment/
LOCATION:Magdalen College Chapel\, Oxford\, OX1 4AU
CATEGORIES:Music,Performance,Poetry,Public Event
END:VEVENT
END:VCALENDAR