BEGIN:VCALENDAR
VERSION:2.0
PRODID:-//CRSN - ECPv6.15.20//NONSGML v1.0//EN
CALSCALE:GREGORIAN
METHOD:PUBLISH
X-ORIGINAL-URL:https://classicalreception.org
X-WR-CALDESC:Events for CRSN
REFRESH-INTERVAL;VALUE=DURATION:PT1H
X-Robots-Tag:noindex
X-PUBLISHED-TTL:PT1H
BEGIN:VTIMEZONE
TZID:UTC
BEGIN:STANDARD
TZOFFSETFROM:+0000
TZOFFSETTO:+0000
TZNAME:UTC
DTSTART:20160101T000000
END:STANDARD
END:VTIMEZONE
BEGIN:VEVENT
DTSTART;TZID=UTC:20190111T150000
DTEND;TZID=UTC:20190111T150000
DTSTAMP:20260423T111949
CREATED:20190103T202238Z
LAST-MODIFIED:20190103T202238Z
UID:1211-1547218800-1547218800@classicalreception.org
SUMMARY:Performing Pindar
DESCRIPTION:A performance directed by Helen Eastman with music by Alex Silverman\, and public lecture by Nancy… Continue reading Performing Pindar
URL:https://classicalreception.org/event/performing-pindar/
LOCATION:Corpus Christi College\, Merton Street\, Oxford\, OX1 4JF\, United Kingdom
CATEGORIES:Lecture,Music,Performance,Poetry
END:VEVENT
BEGIN:VEVENT
DTSTART;TZID=UTC:20181205T173000
DTEND;TZID=UTC:20181205T173000
DTSTAMP:20260423T111949
CREATED:20181008T094036Z
LAST-MODIFIED:20181008T094036Z
UID:1091-1544031000-1544031000@classicalreception.org
SUMMARY:Katherine Harloe\, '"A Useless\, Pedantic\, Ambiguous Rhapsodist”? Johann Joachim Winckelmann’s Reception in Great Britain.’
DESCRIPTION:A performance directed by Helen Eastman with music by Alex Silverman\, and public lecture by Nancy… Continue reading Performing Pindar
URL:https://classicalreception.org/event/katherine-harloe-a-useless-pedantic-ambiguous-rhapsodist-johann-joachim-winckelmanns-reception-in-great-britain/
LOCATION:University of Manchester\, Manchester\, M13 9PL\, United Kingdom
CATEGORIES:Lecture
END:VEVENT
BEGIN:VEVENT
DTSTART;TZID=UTC:20181116T190000
DTEND;TZID=UTC:20181116T210000
DTSTAMP:20260423T111949
CREATED:20181108T104325Z
LAST-MODIFIED:20181108T104325Z
UID:1157-1542394800-1542402000@classicalreception.org
SUMMARY:Ingenious Soil (Being Human)
DESCRIPTION:A performance directed by Helen Eastman with music by Alex Silverman\, and public lecture by Nancy… Continue reading Performing Pindar
URL:https://classicalreception.org/event/ingenious-soil-being-human/
LOCATION:Devon and Exeter Institution\, 7 Cathedral Close\, Exeter\, EX1 1E7\, United Kingdom
CATEGORIES:Film/TV screening,Lecture
END:VEVENT
BEGIN:VEVENT
DTSTART;TZID=UTC:20181114T170000
DTEND;TZID=UTC:20181114T170000
DTSTAMP:20260423T111949
CREATED:20181107T121425Z
LAST-MODIFIED:20181107T121425Z
UID:1140-1542214800-1542214800@classicalreception.org
SUMMARY:Professor Martin Revermann\, 'Brecht and Greek tragedy: radicalism\, traditionalism\, eristics'
DESCRIPTION:A performance directed by Helen Eastman with music by Alex Silverman\, and public lecture by Nancy… Continue reading Performing Pindar
URL:https://classicalreception.org/event/professor-martin-revermann-brecht-and-greek-tragedy-radicalism-traditionalism-eristics/
LOCATION:Senate House\, University of London\, Malet Street\, London
CATEGORIES:Lecture
END:VEVENT
BEGIN:VEVENT
DTSTART;TZID=UTC:20181017T173000
DTEND;TZID=UTC:20181017T173000
DTSTAMP:20260423T111949
CREATED:20181008T093852Z
LAST-MODIFIED:20181008T093852Z
UID:1087-1539797400-1539797400@classicalreception.org
SUMMARY:Emma Cole\, 'Greek Tragedy and the Australian psyche'
DESCRIPTION:A performance directed by Helen Eastman with music by Alex Silverman\, and public lecture by Nancy… Continue reading Performing Pindar
URL:https://classicalreception.org/event/emma-cole-greek-tragedy-and-the-australian-psyche/
LOCATION:University of Manchester\, Manchester\, M13 9PL\, United Kingdom
CATEGORIES:Lecture
END:VEVENT
BEGIN:VEVENT
DTSTART;VALUE=DATE:20181006
DTEND;VALUE=DATE:20181007
DTSTAMP:20260423T111949
CREATED:20180914T085212Z
LAST-MODIFIED:20180914T085212Z
UID:1037-1538784000-1538870399@classicalreception.org
SUMMARY:Metamorphoses
DESCRIPTION:A performance directed by Helen Eastman with music by Alex Silverman\, and public lecture by Nancy… Continue reading Performing Pindar
URL:https://classicalreception.org/event/metamorphoses/
LOCATION:Greenwich\, London\, United Kingdom
CATEGORIES:Exhibition,Lecture
END:VEVENT
BEGIN:VEVENT
DTSTART;TZID=UTC:20180627T170000
DTEND;TZID=UTC:20180627T170000
DTSTAMP:20260423T111949
CREATED:20180619T090559Z
LAST-MODIFIED:20180619T090559Z
UID:965-1530118800-1530118800@classicalreception.org
SUMMARY:Richard Whitaker\, The Odyssey of Homer: A Southern African Translation
DESCRIPTION:A performance directed by Helen Eastman with music by Alex Silverman\, and public lecture by Nancy… Continue reading Performing Pindar
URL:https://classicalreception.org/event/richard-whitaker-the-odyssey-of-homer-a-southern-african-translation/
LOCATION:Senate House\, University of London\, Malet Street\, London
CATEGORIES:Lecture
END:VEVENT
BEGIN:VEVENT
DTSTART;TZID=UTC:20180608T170000
DTEND;TZID=UTC:20180608T183000
DTSTAMP:20260423T111949
CREATED:20180516T135337Z
LAST-MODIFIED:20180516T135337Z
UID:896-1528477200-1528482600@classicalreception.org
SUMMARY:Professor Martha Nussbaum on ‘Anger\, Powerlessness\, and the Politics of Blame’
DESCRIPTION:A performance directed by Helen Eastman with music by Alex Silverman\, and public lecture by Nancy… Continue reading Performing Pindar
URL:https://classicalreception.org/event/professor-martha-nussbaum-on-anger-powerlessness-and-the-politics-of-blame/
LOCATION:University of Bristol\, Bristol\, BS8 1RJ\, United Kingdom
CATEGORIES:Lecture
END:VEVENT
BEGIN:VEVENT
DTSTART;TZID=UTC:20180314T183000
DTEND;TZID=UTC:20180314T200000
DTSTAMP:20260423T111949
CREATED:20171211T160841Z
LAST-MODIFIED:20171211T161107Z
UID:620-1521052200-1521057600@classicalreception.org
SUMMARY:Mistaken Identities: Roman Emperors in Modern Art
DESCRIPTION:A performance directed by Helen Eastman with music by Alex Silverman\, and public lecture by Nancy… Continue reading Performing Pindar
URL:https://classicalreception.org/event/mistaken-identities-roman-emperors-in-modern-art/
LOCATION:Bush House Auditorium\, 30 Aldwych\, London\, WC2R 4BG\, United Kingdom
CATEGORIES:Lecture,Public Event
END:VEVENT
BEGIN:VEVENT
DTSTART;TZID=UTC:20180314T173000
DTEND;TZID=UTC:20180314T173000
DTSTAMP:20260423T111949
CREATED:20180205T160116Z
LAST-MODIFIED:20180205T160116Z
UID:777-1521048600-1521048600@classicalreception.org
SUMMARY:UCL Houseman Lecture: Bernard O’Donoghue (Oxford) on ‘Chosen Ancestors: Seamus Heaney and Virgil’
DESCRIPTION:A performance directed by Helen Eastman with music by Alex Silverman\, and public lecture by Nancy… Continue reading Performing Pindar
URL:https://classicalreception.org/event/ucl-houseman-lecture-bernard-odonoghue-oxford-on-chosen-ancestors-seamus-heaney-and-virgil/
LOCATION:University College London\, London\, United Kingdom
CATEGORIES:Lecture,Public Event
END:VEVENT
BEGIN:VEVENT
DTSTART;TZID=UTC:20180305T150000
DTEND;TZID=UTC:20180305T150000
DTSTAMP:20260423T111949
CREATED:20180123T094225Z
LAST-MODIFIED:20180123T094225Z
UID:764-1520262000-1520262000@classicalreception.org
SUMMARY:Erika Fischer-Lichte\, 'Tragedy's Endurance'
DESCRIPTION:A performance directed by Helen Eastman with music by Alex Silverman\, and public lecture by Nancy… Continue reading Performing Pindar
URL:https://classicalreception.org/event/erika-fischer-lichte-tragedys-endurance/
LOCATION:Classics Faculty\, University of Oxford\, 66 St Giles'\, Oxford\, OX1 3LU\, United Kingdom
CATEGORIES:Lecture,Public Event
END:VEVENT
BEGIN:VEVENT
DTSTART;TZID=UTC:20180221T173000
DTEND;TZID=UTC:20180221T203000
DTSTAMP:20260423T111949
CREATED:20180108T133143Z
LAST-MODIFIED:20180108T133143Z
UID:734-1519234200-1519245000@classicalreception.org
SUMMARY:Jennifer Ingleheart\, A Shropshire Lad in Ancient Rome: A. E. Housman and Ancient ‘Homosexuality’
DESCRIPTION:A performance directed by Helen Eastman with music by Alex Silverman\, and public lecture by Nancy… Continue reading Performing Pindar
URL:https://classicalreception.org/event/jennifer-ingleheart-a-shropshire-lad-in-ancient-rome-a-e-housman-and-ancient-homosexuality/
LOCATION:Manchester Metropolitan University\, Manchester\, M15 6LL\, United Kingdom
CATEGORIES:Lecture
END:VEVENT
BEGIN:VEVENT
DTSTART;TZID=UTC:20180129T141500
DTEND;TZID=UTC:20180129T141500
DTSTAMP:20260423T111949
CREATED:20180123T094025Z
LAST-MODIFIED:20180123T094025Z
UID:762-1517235300-1517235300@classicalreception.org
SUMMARY:Peter Symes\, 'Making television films with Tony Harrison: Metamorpheus'
DESCRIPTION:A performance directed by Helen Eastman with music by Alex Silverman\, and public lecture by Nancy… Continue reading Performing Pindar
URL:https://classicalreception.org/event/peter-symes-making-television-films-with-tony-harrison-metamorpheus/
LOCATION:Classics Faculty\, University of Oxford\, 66 St Giles'\, Oxford\, OX1 3LU\, United Kingdom
CATEGORIES:Film/TV screening,Lecture
END:VEVENT
BEGIN:VEVENT
DTSTART;TZID=UTC:20180118T180000
DTEND;TZID=UTC:20180118T200000
DTSTAMP:20260423T111949
CREATED:20180103T140453Z
LAST-MODIFIED:20180103T140453Z
UID:684-1516298400-1516305600@classicalreception.org
SUMMARY:Natalie Haynes\, 'The Children of Jocasta'
DESCRIPTION:A performance directed by Helen Eastman with music by Alex Silverman\, and public lecture by Nancy… Continue reading Performing Pindar
URL:https://classicalreception.org/event/natalie-haynes-the-children-of-jocasta/
LOCATION:British Academy\, 10 Carlton House Terrace\, London\, SW1Y 5AH\, United Kingdom
CATEGORIES:Lecture
END:VEVENT
BEGIN:VEVENT
DTSTART;TZID=UTC:20180118T130000
DTEND;TZID=UTC:20180118T140000
DTSTAMP:20260423T111949
CREATED:20180108T115807Z
LAST-MODIFIED:20180108T115807Z
UID:730-1516280400-1516284000@classicalreception.org
SUMMARY:Edith Hall\, 'The Age of Tyrants: Sappho via Gounod’s Opera'
DESCRIPTION:A performance directed by Helen Eastman with music by Alex Silverman\, and public lecture by Nancy… Continue reading Performing Pindar
URL:https://classicalreception.org/event/edith-hall-the-age-of-tyrants-sappho-via-gounods-opera/
LOCATION:Barnard’s Inn Hall\, Holborn\, London\, EC1N
CATEGORIES:Lecture,Public Event
END:VEVENT
BEGIN:VEVENT
DTSTART;TZID=UTC:20171214T171500
DTEND;TZID=UTC:20171214T193000
DTSTAMP:20260423T111949
CREATED:20171211T160301Z
LAST-MODIFIED:20171211T160317Z
UID:615-1513271700-1513279800@classicalreception.org
SUMMARY:Horace in English Since 1900
DESCRIPTION:A performance directed by Helen Eastman with music by Alex Silverman\, and public lecture by Nancy… Continue reading Performing Pindar
URL:https://classicalreception.org/event/horace-in-english-since-1900/
LOCATION:Universität Bonn\, Am Hof 1\, Bonn\, 53113\, Germany
CATEGORIES:Lecture
END:VEVENT
END:VCALENDAR