BEGIN:VCALENDAR
VERSION:2.0
PRODID:-//CRSN - ECPv6.15.20//NONSGML v1.0//EN
CALSCALE:GREGORIAN
METHOD:PUBLISH
X-ORIGINAL-URL:https://classicalreception.org
X-WR-CALDESC:Events for CRSN
REFRESH-INTERVAL;VALUE=DURATION:PT1H
X-Robots-Tag:noindex
X-PUBLISHED-TTL:PT1H
BEGIN:VTIMEZONE
TZID:UTC
BEGIN:STANDARD
TZOFFSETFROM:+0000
TZOFFSETTO:+0000
TZNAME:UTC
DTSTART:20170101T000000
END:STANDARD
END:VTIMEZONE
BEGIN:VEVENT
DTSTART;TZID=UTC:20200610T184500
DTEND;TZID=UTC:20200610T184500
DTSTAMP:20260423T081438
CREATED:20190923T123628Z
LAST-MODIFIED:20190923T123628Z
UID:1518-1591814700-1591814700@classicalreception.org
SUMMARY:Michael Hughes\, 'Savage Glory: Retelling the Iliad in 90s Northern Ireland'
DESCRIPTION:
URL:https://classicalreception.org/event/michael-hughes-savage-glory-retelling-the-iliad-in-90s-northern-ireland/
LOCATION:Queen’s University Belfast\, University Road\, Belfast\, BT7 1NN\, United Kingdom
CATEGORIES:Lecture
END:VEVENT
BEGIN:VEVENT
DTSTART;TZID=UTC:20200429T184500
DTEND;TZID=UTC:20200429T184500
DTSTAMP:20260423T081438
CREATED:20190923T123444Z
LAST-MODIFIED:20190923T123444Z
UID:1516-1588185900-1588185900@classicalreception.org
SUMMARY:John Curran\, 'Freud\, the Greeks and the Invention of Personality'
DESCRIPTION:
URL:https://classicalreception.org/event/john-curran-freud-the-greeks-and-the-invention-of-personality/
LOCATION:Queen’s University Belfast\, University Road\, Belfast\, BT7 1NN\, United Kingdom
CATEGORIES:Lecture
END:VEVENT
BEGIN:VEVENT
DTSTART;TZID=UTC:20200325T180000
DTEND;TZID=UTC:20200325T190000
DTSTAMP:20260423T081438
CREATED:20191206T154708Z
LAST-MODIFIED:20191206T154708Z
UID:1621-1585159200-1585162800@classicalreception.org
SUMMARY:Stephe Harrop\, 'Classics and Storytelling. Alcestis: in Bits' (Performance\, followed by discussion with Author and Performer)
DESCRIPTION:
URL:https://classicalreception.org/event/stephe-harrop-classics-and-storytelling-alcestis-in-bits-performance-followed-by-discussion-with-author-and-performer/
LOCATION:Manchester Central Library\, Manchester\, United Kingdom
CATEGORIES:Lecture,Performance
END:VEVENT
BEGIN:VEVENT
DTSTART;TZID=UTC:20200302T150000
DTEND;TZID=UTC:20200302T150000
DTSTAMP:20260423T081438
CREATED:20200130T205442Z
LAST-MODIFIED:20200130T205442Z
UID:1694-1583161200-1583161200@classicalreception.org
SUMMARY:Luigi Battezzato\, 'The Dionysiac in the films of Visconti'
DESCRIPTION:
URL:https://classicalreception.org/event/luigi-battezzato-the-dionysiac-in-the-films-of-visconti/
LOCATION:Classics Faculty\, University of Oxford\, 66 St Giles'\, Oxford\, OX1 3LU\, United Kingdom
CATEGORIES:Lecture
END:VEVENT
BEGIN:VEVENT
DTSTART;TZID=UTC:20200228T160500
DTEND;TZID=UTC:20200228T160500
DTSTAMP:20260423T081438
CREATED:20200130T204147Z
LAST-MODIFIED:20200130T204147Z
UID:1681-1582905900-1582905900@classicalreception.org
SUMMARY:Isabelle Torrance\, 'Sophocles’ Antigone and Northern Irish Politics\, 1968-2018'
DESCRIPTION:
URL:https://classicalreception.org/event/isabelle-torrance-sophocles-antigone-and-northern-irish-politics-1968-2018/
LOCATION:University of St Andrews\, St Andrews\, United Kingdom
CATEGORIES:Lecture
END:VEVENT
BEGIN:VEVENT
DTSTART;TZID=UTC:20200224T170000
DTEND;TZID=UTC:20200224T170000
DTSTAMP:20260423T081438
CREATED:20200130T205301Z
LAST-MODIFIED:20200130T205301Z
UID:1692-1582563600-1582563600@classicalreception.org
SUMMARY:Micha Lazarus\, 'Shakespeare's Aristotle: The Poetics in Renaissance England'
DESCRIPTION:
URL:https://classicalreception.org/event/micha-lazarus-shakespeares-aristotle-the-poetics-in-renaissance-england/
LOCATION:Classics Faculty\, University of Oxford\, 66 St Giles'\, Oxford\, OX1 3LU\, United Kingdom
CATEGORIES:Lecture
END:VEVENT
BEGIN:VEVENT
DTSTART;TZID=UTC:20200206T184500
DTEND;TZID=UTC:20200206T184500
DTSTAMP:20260423T081438
CREATED:20190923T123257Z
LAST-MODIFIED:20190923T123257Z
UID:1512-1581014700-1581014700@classicalreception.org
SUMMARY:Natalie Haynes\, 'Troy Story'
DESCRIPTION:
URL:https://classicalreception.org/event/natalie-haynes-troy-story/
LOCATION:Queen’s University Belfast\, University Road\, Belfast\, BT7 1NN\, United Kingdom
CATEGORIES:Lecture
END:VEVENT
BEGIN:VEVENT
DTSTART;TZID=UTC:20200122T180000
DTEND;TZID=UTC:20200122T190000
DTSTAMP:20260423T081438
CREATED:20191206T154506Z
LAST-MODIFIED:20191206T154506Z
UID:1618-1579716000-1579719600@classicalreception.org
SUMMARY:Caroline Barron\, '“A dupe to the puffs and tricks of all kinds of dealers!” Fake Latin inscriptions and their Collection in Eighteenth Century England'
DESCRIPTION:
URL:https://classicalreception.org/event/caroline-barron-a-dupe-to-the-puffs-and-tricks-of-all-kinds-of-dealers-fake-latin-inscriptions-and-their-collection-in-eighteenth-century-england/
LOCATION:Portico Library\, 57 Mosley Street\, Manchester\, M2 3HY\, United Kingdom
CATEGORIES:Lecture
END:VEVENT
BEGIN:VEVENT
DTSTART;TZID=UTC:20200118T143000
DTEND;TZID=UTC:20200118T143000
DTSTAMP:20260423T081438
CREATED:20190904T153225Z
LAST-MODIFIED:20190904T153225Z
UID:1481-1579357800-1579357800@classicalreception.org
SUMMARY:Peter Black\, 'Christianising Virgil: The Aeneid in the art of Raphael and Parmigianino’
DESCRIPTION:
URL:https://classicalreception.org/event/peter-black-christianising-virgil-the-aeneid-in-the-art-of-raphael-and-parmigianino/
LOCATION:Senate House\, University of London\, Malet Street\, London
CATEGORIES:Lecture
END:VEVENT
BEGIN:VEVENT
DTSTART;TZID=UTC:20191130T143000
DTEND;TZID=UTC:20191130T143000
DTSTAMP:20260423T081438
CREATED:20190904T153025Z
LAST-MODIFIED:20190904T153025Z
UID:1476-1575124200-1575124200@classicalreception.org
SUMMARY:Sharon Marshall\, ‘Tragedy and national identity in Hélisenne de Crenne’s Aeneid I-IV’
DESCRIPTION:
URL:https://classicalreception.org/event/sharon-marshall-tragedy-and-national-identity-in-helisenne-de-crennes-aeneid-i-iv/
LOCATION:Senate House\, University of London\, Malet Street\, London
CATEGORIES:Lecture
END:VEVENT
BEGIN:VEVENT
DTSTART;TZID=UTC:20191127T183000
DTEND;TZID=UTC:20191127T183000
DTSTAMP:20260423T081438
CREATED:20191021T161211Z
LAST-MODIFIED:20191021T161211Z
UID:1598-1574879400-1574879400@classicalreception.org
SUMMARY:21st Century Responses to the Homeric Iliad
DESCRIPTION:
URL:https://classicalreception.org/event/21st-century-responses-to-the-homeric-iliad/
LOCATION:British Academy\, 10 Carlton House Terrace\, London\, SW1Y 5AH\, United Kingdom
CATEGORIES:Lecture
END:VEVENT
BEGIN:VEVENT
DTSTART;TZID=UTC:20191030T143000
DTEND;TZID=UTC:20191030T163000
DTSTAMP:20260423T081438
CREATED:20191024T090623Z
LAST-MODIFIED:20191024T090623Z
UID:1601-1572445800-1572453000@classicalreception.org
SUMMARY:Iconising the Classical: Pompeii in Silent Cinema
DESCRIPTION:
URL:https://classicalreception.org/event/iconising-the-classical-pompeii-in-silent-cinema/
LOCATION:University of Cambridge
CATEGORIES:Lecture,Public Event
END:VEVENT
BEGIN:VEVENT
DTSTART;TZID=UTC:20191005T143000
DTEND;TZID=UTC:20191005T143000
DTSTAMP:20260423T081438
CREATED:20190910T182457Z
LAST-MODIFIED:20190910T182457Z
UID:1491-1570285800-1570285800@classicalreception.org
SUMMARY:Queer loss\, queer Classics: A.E.Housman’s ‘lost country’
DESCRIPTION:
URL:https://classicalreception.org/event/queer-loss-queer-classics-a-e-housmans-lost-country/
LOCATION:Wills Memorial Building\, Queens Road\, Bristol\, BS8 1RJ\, United Kingdom
CATEGORIES:Lecture
END:VEVENT
BEGIN:VEVENT
DTSTART;TZID=UTC:20190520T150000
DTEND;TZID=UTC:20190520T150000
DTSTAMP:20260423T081438
CREATED:20190517T050926Z
LAST-MODIFIED:20190517T050926Z
UID:1409-1558364400-1558364400@classicalreception.org
SUMMARY:Isobel Hurst\, 'The Mask of a Very Definite Purpose': Edith Wharton and the Classics'
DESCRIPTION:
URL:https://classicalreception.org/event/isobel-hurst-the-mask-of-a-very-definite-purpose-edith-wharton-and-the-classics/
LOCATION:Classics Faculty\, University of Oxford\, 66 St Giles'\, Oxford\, OX1 3LU\, United Kingdom
CATEGORIES:Lecture
END:VEVENT
BEGIN:VEVENT
DTSTART;TZID=UTC:20190509T170000
DTEND;TZID=UTC:20190509T183000
DTSTAMP:20260423T081438
CREATED:20190418T163434Z
LAST-MODIFIED:20190418T163434Z
UID:1378-1557421200-1557426600@classicalreception.org
SUMMARY:Sasha-Mae Eccleston (Brown) "Speaking (of) Greek: Reflections on Value in Post-9/11 Receptions of Epic"
DESCRIPTION:
URL:https://classicalreception.org/event/sasha-mae-eccleston-brown-speaking-of-greek-reflections-on-value-in-post-9-11-receptions-of-epic/
LOCATION:University of Warwick\, Coventry\, CV4 7AL
CATEGORIES:Lecture
END:VEVENT
BEGIN:VEVENT
DTSTART;TZID=UTC:20190318T173000
DTEND;TZID=UTC:20190318T190000
DTSTAMP:20260423T081438
CREATED:20190109T121249Z
LAST-MODIFIED:20190109T121249Z
UID:1234-1552930200-1552935600@classicalreception.org
SUMMARY:David Scourfield\, 'Annexing Arcadia: Classical Space in the Short Fiction of E. M. Forster'
DESCRIPTION:
URL:https://classicalreception.org/event/david-scourfield-annexing-arcadia-classical-space-in-the-short-fiction-of-e-m-forster/
LOCATION:University of Roehampton\, SW15 5PU\, United Kingdom
CATEGORIES:Lecture,Public Event
END:VEVENT
BEGIN:VEVENT
DTSTART;TZID=UTC:20190228T170000
DTEND;TZID=UTC:20190228T170000
DTSTAMP:20260423T081438
CREATED:20190103T202948Z
LAST-MODIFIED:20190103T202948Z
UID:1217-1551373200-1551373200@classicalreception.org
SUMMARY:Olga Taxidou\, 'The Dancer and the Übermarionette: Duncan\, Craig and Modernist Performance'
DESCRIPTION:
URL:https://classicalreception.org/event/olga-taxidou-the-dancer-and-the-ubermarionette-duncan-craig-and-modernist-performance/
LOCATION:Classics Faculty\, University of Oxford\, 66 St Giles'\, Oxford\, OX1 3LU\, United Kingdom
CATEGORIES:Lecture
END:VEVENT
BEGIN:VEVENT
DTSTART;TZID=UTC:20190225T150000
DTEND;TZID=UTC:20190225T150000
DTSTAMP:20260423T081438
CREATED:20190103T202816Z
LAST-MODIFIED:20190103T202816Z
UID:1215-1551106800-1551106800@classicalreception.org
SUMMARY:Martin Revermann\, 'Translation Prefaces'
DESCRIPTION:
URL:https://classicalreception.org/event/martin-revermann-translation-prefaces/
LOCATION:Classics Faculty\, University of Oxford\, 66 St Giles'\, Oxford\, OX1 3LU\, United Kingdom
CATEGORIES:Lecture
END:VEVENT
BEGIN:VEVENT
DTSTART;TZID=UTC:20190207T160000
DTEND;TZID=UTC:20190207T160000
DTSTAMP:20260423T081438
CREATED:20190129T213128Z
LAST-MODIFIED:20190129T213128Z
UID:1272-1549555200-1549555200@classicalreception.org
SUMMARY:Sebastian Matzner\, 'Forgetting Plato: Classical Alternatives to Theorizing Male-Male Desire in Fin de Siècle Germany'
DESCRIPTION:
URL:https://classicalreception.org/event/sebastian-matzner-forgetting-plato-classical-alternatives-to-theorizing-male-male-desire-in-fin-de-siecle-germany/
LOCATION:Durham University\, Durham\, United Kingdom
CATEGORIES:Lecture,Public Event
END:VEVENT
BEGIN:VEVENT
DTSTART;TZID=UTC:20190121T150000
DTEND;TZID=UTC:20190121T150000
DTSTAMP:20260423T081438
CREATED:20190103T202432Z
LAST-MODIFIED:20190103T202432Z
UID:1213-1548082800-1548082800@classicalreception.org
SUMMARY:Melinda Powers\, 'Diversifying Greek Tragedy on the Contemporary US Stage'
DESCRIPTION:
URL:https://classicalreception.org/event/melinda-powers-diversifying-greek-tragedy-on-the-contemporary-us-stage/
LOCATION:Classics Faculty\, University of Oxford\, 66 St Giles'\, Oxford\, OX1 3LU\, United Kingdom
CATEGORIES:Lecture
END:VEVENT
BEGIN:VEVENT
DTSTART;TZID=UTC:20190111T150000
DTEND;TZID=UTC:20190111T150000
DTSTAMP:20260423T081438
CREATED:20190103T202238Z
LAST-MODIFIED:20190103T202238Z
UID:1211-1547218800-1547218800@classicalreception.org
SUMMARY:Performing Pindar
DESCRIPTION:
URL:https://classicalreception.org/event/performing-pindar/
LOCATION:Corpus Christi College\, Merton Street\, Oxford\, OX1 4JF\, United Kingdom
CATEGORIES:Lecture,Music,Performance,Poetry
END:VEVENT
BEGIN:VEVENT
DTSTART;TZID=UTC:20181205T173000
DTEND;TZID=UTC:20181205T173000
DTSTAMP:20260423T081438
CREATED:20181008T094036Z
LAST-MODIFIED:20181008T094036Z
UID:1091-1544031000-1544031000@classicalreception.org
SUMMARY:Katherine Harloe\, '"A Useless\, Pedantic\, Ambiguous Rhapsodist”? Johann Joachim Winckelmann’s Reception in Great Britain.’
DESCRIPTION:
URL:https://classicalreception.org/event/katherine-harloe-a-useless-pedantic-ambiguous-rhapsodist-johann-joachim-winckelmanns-reception-in-great-britain/
LOCATION:University of Manchester\, Manchester\, M13 9PL\, United Kingdom
CATEGORIES:Lecture
END:VEVENT
BEGIN:VEVENT
DTSTART;TZID=UTC:20181116T190000
DTEND;TZID=UTC:20181116T210000
DTSTAMP:20260423T081438
CREATED:20181108T104325Z
LAST-MODIFIED:20181108T104325Z
UID:1157-1542394800-1542402000@classicalreception.org
SUMMARY:Ingenious Soil (Being Human)
DESCRIPTION:
URL:https://classicalreception.org/event/ingenious-soil-being-human/
LOCATION:Devon and Exeter Institution\, 7 Cathedral Close\, Exeter\, EX1 1E7\, United Kingdom
CATEGORIES:Film/TV screening,Lecture
END:VEVENT
BEGIN:VEVENT
DTSTART;TZID=UTC:20181114T170000
DTEND;TZID=UTC:20181114T170000
DTSTAMP:20260423T081438
CREATED:20181107T121425Z
LAST-MODIFIED:20181107T121425Z
UID:1140-1542214800-1542214800@classicalreception.org
SUMMARY:Professor Martin Revermann\, 'Brecht and Greek tragedy: radicalism\, traditionalism\, eristics'
DESCRIPTION:
URL:https://classicalreception.org/event/professor-martin-revermann-brecht-and-greek-tragedy-radicalism-traditionalism-eristics/
LOCATION:Senate House\, University of London\, Malet Street\, London
CATEGORIES:Lecture
END:VEVENT
BEGIN:VEVENT
DTSTART;TZID=UTC:20181017T173000
DTEND;TZID=UTC:20181017T173000
DTSTAMP:20260423T081438
CREATED:20181008T093852Z
LAST-MODIFIED:20181008T093852Z
UID:1087-1539797400-1539797400@classicalreception.org
SUMMARY:Emma Cole\, 'Greek Tragedy and the Australian psyche'
DESCRIPTION:
URL:https://classicalreception.org/event/emma-cole-greek-tragedy-and-the-australian-psyche/
LOCATION:University of Manchester\, Manchester\, M13 9PL\, United Kingdom
CATEGORIES:Lecture
END:VEVENT
BEGIN:VEVENT
DTSTART;VALUE=DATE:20181006
DTEND;VALUE=DATE:20181007
DTSTAMP:20260423T081438
CREATED:20180914T085212Z
LAST-MODIFIED:20180914T085212Z
UID:1037-1538784000-1538870399@classicalreception.org
SUMMARY:Metamorphoses
DESCRIPTION:
URL:https://classicalreception.org/event/metamorphoses/
LOCATION:Greenwich\, London\, United Kingdom
CATEGORIES:Exhibition,Lecture
END:VEVENT
BEGIN:VEVENT
DTSTART;TZID=UTC:20180627T170000
DTEND;TZID=UTC:20180627T170000
DTSTAMP:20260423T081438
CREATED:20180619T090559Z
LAST-MODIFIED:20180619T090559Z
UID:965-1530118800-1530118800@classicalreception.org
SUMMARY:Richard Whitaker\, The Odyssey of Homer: A Southern African Translation
DESCRIPTION:
URL:https://classicalreception.org/event/richard-whitaker-the-odyssey-of-homer-a-southern-african-translation/
LOCATION:Senate House\, University of London\, Malet Street\, London
CATEGORIES:Lecture
END:VEVENT
BEGIN:VEVENT
DTSTART;TZID=UTC:20180608T170000
DTEND;TZID=UTC:20180608T183000
DTSTAMP:20260423T081438
CREATED:20180516T135337Z
LAST-MODIFIED:20180516T135337Z
UID:896-1528477200-1528482600@classicalreception.org
SUMMARY:Professor Martha Nussbaum on ‘Anger\, Powerlessness\, and the Politics of Blame’
DESCRIPTION:
URL:https://classicalreception.org/event/professor-martha-nussbaum-on-anger-powerlessness-and-the-politics-of-blame/
LOCATION:University of Bristol\, Bristol\, BS8 1RJ\, United Kingdom
CATEGORIES:Lecture
END:VEVENT
BEGIN:VEVENT
DTSTART;TZID=UTC:20180314T183000
DTEND;TZID=UTC:20180314T200000
DTSTAMP:20260423T081438
CREATED:20171211T160841Z
LAST-MODIFIED:20171211T161107Z
UID:620-1521052200-1521057600@classicalreception.org
SUMMARY:Mistaken Identities: Roman Emperors in Modern Art
DESCRIPTION:
URL:https://classicalreception.org/event/mistaken-identities-roman-emperors-in-modern-art/
LOCATION:Bush House Auditorium\, 30 Aldwych\, London\, WC2R 4BG\, United Kingdom
CATEGORIES:Lecture,Public Event
END:VEVENT
BEGIN:VEVENT
DTSTART;TZID=UTC:20180314T173000
DTEND;TZID=UTC:20180314T173000
DTSTAMP:20260423T081438
CREATED:20180205T160116Z
LAST-MODIFIED:20180205T160116Z
UID:777-1521048600-1521048600@classicalreception.org
SUMMARY:UCL Houseman Lecture: Bernard O’Donoghue (Oxford) on ‘Chosen Ancestors: Seamus Heaney and Virgil’
DESCRIPTION:
URL:https://classicalreception.org/event/ucl-houseman-lecture-bernard-odonoghue-oxford-on-chosen-ancestors-seamus-heaney-and-virgil/
LOCATION:University College London\, London\, United Kingdom
CATEGORIES:Lecture,Public Event
END:VEVENT
END:VCALENDAR