BEGIN:VCALENDAR
VERSION:2.0
PRODID:-//CRSN - ECPv6.15.20//NONSGML v1.0//EN
CALSCALE:GREGORIAN
METHOD:PUBLISH
X-ORIGINAL-URL:https://classicalreception.org
X-WR-CALDESC:Events for CRSN
REFRESH-INTERVAL;VALUE=DURATION:PT1H
X-Robots-Tag:noindex
X-PUBLISHED-TTL:PT1H
BEGIN:VTIMEZONE
TZID:UTC
BEGIN:STANDARD
TZOFFSETFROM:+0000
TZOFFSETTO:+0000
TZNAME:UTC
DTSTART:20170101T000000
END:STANDARD
END:VTIMEZONE
BEGIN:VEVENT
DTSTART;TZID=UTC:20190731T100000
DTEND;TZID=UTC:20190731T160000
DTSTAMP:20260423T054622
CREATED:20190702T182245Z
LAST-MODIFIED:20190702T182245Z
UID:1444-1564567200-1564588800@classicalreception.org
SUMMARY:Classical Reception and Children’s Culture: A Show and Tell
DESCRIPTION:Special Collections & Archives Seminar Room\, Arts and Social Studies Library\, Cardiff University 10-1: Morning… Continue reading Classical Reception and Children’s Culture: A Show and Tell
URL:https://classicalreception.org/event/classical-reception-and-childrens-culture-a-show-and-tell/
LOCATION:Cardiff University\, Cardiff\, CF10 3AT\, United Kingdom
CATEGORIES:Exhibition
END:VEVENT
BEGIN:VEVENT
DTSTART;VALUE=DATE:20181115
DTEND;VALUE=DATE:20181119
DTSTAMP:20260423T054622
CREATED:20181108T100642Z
LAST-MODIFIED:20181108T100642Z
UID:1148-1542240000-1542585599@classicalreception.org
SUMMARY:Our Mythical Childhood (Being Human)
DESCRIPTION:Special Collections & Archives Seminar Room\, Arts and Social Studies Library\, Cardiff University 10-1: Morning… Continue reading Classical Reception and Children’s Culture: A Show and Tell
URL:https://classicalreception.org/event/our-mythical-childhood-being-human/
LOCATION:University of Roehampton\, SW15 5PU\, United Kingdom
CATEGORIES:Exhibition
ORGANIZER;CN="University of Roehampton":MAILTO:helen.slaney@roehampton.ac.uk
END:VEVENT
BEGIN:VEVENT
DTSTART;VALUE=DATE:20181006
DTEND;VALUE=DATE:20181007
DTSTAMP:20260423T054622
CREATED:20180914T085212Z
LAST-MODIFIED:20180914T085212Z
UID:1037-1538784000-1538870399@classicalreception.org
SUMMARY:Metamorphoses
DESCRIPTION:Special Collections & Archives Seminar Room\, Arts and Social Studies Library\, Cardiff University 10-1: Morning… Continue reading Classical Reception and Children’s Culture: A Show and Tell
URL:https://classicalreception.org/event/metamorphoses/
LOCATION:Greenwich\, London\, United Kingdom
CATEGORIES:Exhibition,Lecture
END:VEVENT
BEGIN:VEVENT
DTSTART;VALUE=DATE:20180426
DTEND;VALUE=DATE:20180427
DTSTAMP:20260423T054622
CREATED:20180112T142621Z
LAST-MODIFIED:20180112T142621Z
UID:746-1524700800-1524700800@classicalreception.org
SUMMARY:Rodin and the art of ancient Greece
DESCRIPTION:Special Collections & Archives Seminar Room\, Arts and Social Studies Library\, Cardiff University 10-1: Morning… Continue reading Classical Reception and Children’s Culture: A Show and Tell
URL:https://classicalreception.org/event/rodin-and-the-art-of-ancient-greece/
LOCATION:British Museum\, Great Russell Street\, London\, WC1B 3DG\, United Kingdom
CATEGORIES:Exhibition
END:VEVENT
BEGIN:VEVENT
DTSTART;VALUE=DATE:20180413
DTEND;VALUE=DATE:20180429
DTSTAMP:20260423T054622
CREATED:20180412T191904Z
LAST-MODIFIED:20180412T191904Z
UID:838-1523577600-1524959999@classicalreception.org
SUMMARY:'The Classical Now'
DESCRIPTION:Special Collections & Archives Seminar Room\, Arts and Social Studies Library\, Cardiff University 10-1: Morning… Continue reading Classical Reception and Children’s Culture: A Show and Tell
URL:https://classicalreception.org/event/the-classical-now/
LOCATION:Bush House Arcade\, London\, WC2B 4PJ\, United Kingdom
CATEGORIES:Exhibition
ORGANIZER;CN="Modern Classicisms":MAILTO:info@modernclassicisms.com
END:VEVENT
END:VCALENDAR