BEGIN:VCALENDAR
VERSION:2.0
PRODID:-//CRSN - ECPv6.15.20//NONSGML v1.0//EN
CALSCALE:GREGORIAN
METHOD:PUBLISH
X-WR-CALNAME:CRSN
X-ORIGINAL-URL:https://classicalreception.org
X-WR-CALDESC:Events for CRSN
REFRESH-INTERVAL;VALUE=DURATION:PT1H
X-Robots-Tag:noindex
X-PUBLISHED-TTL:PT1H
BEGIN:VTIMEZONE
TZID:UTC
BEGIN:STANDARD
TZOFFSETFROM:+0000
TZOFFSETTO:+0000
TZNAME:UTC
DTSTART:20170101T000000
END:STANDARD
END:VTIMEZONE
BEGIN:VEVENT
DTSTART;TZID=UTC:20240202T080000
DTEND;TZID=UTC:20240202T170000
DTSTAMP:20260423T064410
CREATED:20240110T103302Z
LAST-MODIFIED:20240110T103302Z
UID:3446-1706860800-1706893200@classicalreception.org
SUMMARY:Applications open for BADA Greek Theatre Program\, Summer 2024
DESCRIPTION:Greek Theatre: From the Ancient World to the Modern\, Through Theory and Performance is BADA’s month-long… Continue reading Applications open for BADA Greek Theatre Program\, Summer 2024
URL:https://classicalreception.org/event/applications-open-for-bada-greek-theatre-program-summer-2024/
CATEGORIES:Course/education,Performance,Summer School,Theatre,Workshop
END:VEVENT
BEGIN:VEVENT
DTSTART;VALUE=DATE:20181013
DTEND;VALUE=DATE:20181015
DTSTAMP:20260423T064410
CREATED:20180605T134516Z
LAST-MODIFIED:20180605T134516Z
UID:930-1539388800-1539561599@classicalreception.org
SUMMARY:Rome and the Raj
DESCRIPTION:Greek Theatre: From the Ancient World to the Modern\, Through Theory and Performance is BADA’s month-long… Continue reading Applications open for BADA Greek Theatre Program\, Summer 2024
URL:https://classicalreception.org/event/rome-and-the-raj/
LOCATION:V&A\, London\, SW7 2RL
CATEGORIES:Course/education
END:VEVENT
BEGIN:VEVENT
DTSTART;TZID=UTC:20180512T103000
DTEND;TZID=UTC:20180512T163000
DTSTAMP:20260423T064410
CREATED:20180412T192544Z
LAST-MODIFIED:20180412T192544Z
UID:843-1526121000-1526142600@classicalreception.org
SUMMARY:The Ancient Worlds of Greece and Rome in the cinema
DESCRIPTION:Greek Theatre: From the Ancient World to the Modern\, Through Theory and Performance is BADA’s month-long… Continue reading Applications open for BADA Greek Theatre Program\, Summer 2024
URL:https://classicalreception.org/event/the-ancient-worlds-of-greece-and-rome-in-the-cinema/
LOCATION:Cross Street Chapel\, Manchester\, M2 1NL\, United Kingdom
CATEGORIES:Course/education
END:VEVENT
END:VCALENDAR