BEGIN:VCALENDAR
VERSION:2.0
PRODID:-//CRSN - ECPv6.15.20//NONSGML v1.0//EN
CALSCALE:GREGORIAN
METHOD:PUBLISH
X-ORIGINAL-URL:https://classicalreception.org
X-WR-CALDESC:Events for CRSN
REFRESH-INTERVAL;VALUE=DURATION:PT1H
X-Robots-Tag:noindex
X-PUBLISHED-TTL:PT1H
BEGIN:VTIMEZONE
TZID:UTC
BEGIN:STANDARD
TZOFFSETFROM:+0000
TZOFFSETTO:+0000
TZNAME:UTC
DTSTART:20170101T000000
END:STANDARD
END:VTIMEZONE
BEGIN:VEVENT
DTSTART;TZID=UTC:20190703T100000
DTEND;TZID=UTC:20190703T173000
DTSTAMP:20260423T142241
CREATED:20190418T164548Z
LAST-MODIFIED:20190618T112908Z
UID:1387-1562148000-1562175000@classicalreception.org
SUMMARY:Performance [in] Pieces
DESCRIPTION:Narratives of metamorphosis\, from human into other living and mineral forms\, have long provided an… Continue reading Metamorphosis & the Environmental Imagination\, from Ovid to Shakespeare
URL:https://classicalreception.org/event/fragmentary-drama-from-greece-to-rome-to-now/
LOCATION:University of Notre Dame\, 1 Suffolk Street\, London\, SW1Y 4HG\, United Kingdom
CATEGORIES:Conference
END:VEVENT
BEGIN:VEVENT
DTSTART;VALUE=DATE:20190621
DTEND;VALUE=DATE:20190623
DTSTAMP:20260423T142241
CREATED:20190430T124548Z
LAST-MODIFIED:20190515T101618Z
UID:1395-1561075200-1561247999@classicalreception.org
SUMMARY:Classical Encounters: Receptions of antiquity in the long nineteenth-century
DESCRIPTION:Narratives of metamorphosis\, from human into other living and mineral forms\, have long provided an… Continue reading Metamorphosis & the Environmental Imagination\, from Ovid to Shakespeare
URL:https://classicalreception.org/event/classical-encounters-receptions-of-antiquity-in-the-long-nineteenth-century/
LOCATION:Durham University\, Durham\, United Kingdom
CATEGORIES:Conference
END:VEVENT
BEGIN:VEVENT
DTSTART;VALUE=DATE:20190604
DTEND;VALUE=DATE:20190606
DTSTAMP:20260423T142241
CREATED:20190516T112333Z
LAST-MODIFIED:20190516T112333Z
UID:1405-1559606400-1559779199@classicalreception.org
SUMMARY:Freud's Archaeology
DESCRIPTION:Narratives of metamorphosis\, from human into other living and mineral forms\, have long provided an… Continue reading Metamorphosis & the Environmental Imagination\, from Ovid to Shakespeare
URL:https://classicalreception.org/event/freuds-archaeology/
LOCATION:The Warburg Institute\, Woburn Square\, London\, WC1H 0AB
CATEGORIES:Conference
END:VEVENT
BEGIN:VEVENT
DTSTART;VALUE=DATE:20190603
DTEND;VALUE=DATE:20190605
DTSTAMP:20260423T142241
CREATED:20190405T155155Z
LAST-MODIFIED:20190405T155155Z
UID:1347-1559520000-1559692799@classicalreception.org
SUMMARY:Women’s Spaces\, Pleasure\, and Desire in the Belle Époque
DESCRIPTION:Narratives of metamorphosis\, from human into other living and mineral forms\, have long provided an… Continue reading Metamorphosis & the Environmental Imagination\, from Ovid to Shakespeare
URL:https://classicalreception.org/event/womens-spaces-pleasure-and-desire-in-the-belle-epoque/
LOCATION:St Hilda’s College\, Oxford\, Oxford\, OX4 1DY\, United Kingdom
CATEGORIES:Conference
END:VEVENT
BEGIN:VEVENT
DTSTART;VALUE=DATE:20190522
DTEND;VALUE=DATE:20190527
DTSTAMP:20260423T142241
CREATED:20190418T165111Z
LAST-MODIFIED:20190418T165111Z
UID:1390-1558483200-1558915199@classicalreception.org
SUMMARY:From  Antiquity to Modernity: Performing Greek and Roman Drama in Modern  Europe
DESCRIPTION:Narratives of metamorphosis\, from human into other living and mineral forms\, have long provided an… Continue reading Metamorphosis & the Environmental Imagination\, from Ovid to Shakespeare
URL:https://classicalreception.org/event/from-antiquity-to-modernity-performing-greek-and-roman-drama-in-modern-europe/
LOCATION:Centre for Classical Studies at the Institute of Philosophy\, Czech Academy of Sciences\, Praha 1\, 110 00\, Czech Republic
CATEGORIES:Conference
END:VEVENT
BEGIN:VEVENT
DTSTART;VALUE=DATE:20190516
DTEND;VALUE=DATE:20190519
DTSTAMP:20260423T142241
CREATED:20181002T161858Z
LAST-MODIFIED:20181002T161858Z
UID:1073-1557964800-1558223999@classicalreception.org
SUMMARY:Game of Thrones: Views from the Humanities
DESCRIPTION:Narratives of metamorphosis\, from human into other living and mineral forms\, have long provided an… Continue reading Metamorphosis & the Environmental Imagination\, from Ovid to Shakespeare
URL:https://classicalreception.org/event/game-of-thrones-views-from-the-humanities/
LOCATION:Seville\, Spain
CATEGORIES:Conference
END:VEVENT
BEGIN:VEVENT
DTSTART;VALUE=DATE:20190515
DTEND;VALUE=DATE:20190518
DTSTAMP:20260423T142241
CREATED:20180412T191516Z
LAST-MODIFIED:20180412T191516Z
UID:834-1557878400-1558137599@classicalreception.org
SUMMARY:Ritratti di Cicerone - Portraying Cicero
DESCRIPTION:Narratives of metamorphosis\, from human into other living and mineral forms\, have long provided an… Continue reading Metamorphosis & the Environmental Imagination\, from Ovid to Shakespeare
URL:https://classicalreception.org/event/ritratti-di-cicerone-portraying-cicero/
LOCATION:Rome\, Italy
CATEGORIES:Conference
END:VEVENT
BEGIN:VEVENT
DTSTART;VALUE=DATE:20190307
DTEND;VALUE=DATE:20190310
DTSTAMP:20260423T142241
CREATED:20190225T215046Z
LAST-MODIFIED:20190225T215046Z
UID:1321-1551916800-1552175999@classicalreception.org
SUMMARY:Classical Antiquity and Local Identities: from Newfoundland to Nigeria and Ghana
DESCRIPTION:Narratives of metamorphosis\, from human into other living and mineral forms\, have long provided an… Continue reading Metamorphosis & the Environmental Imagination\, from Ovid to Shakespeare
URL:https://classicalreception.org/event/classical-antiquity-and-local-identities-from-newfoundland-to-nigeria-and-ghana/
LOCATION:Memorial University\, St John's\, Newfoundland\, NL A1C 5S7\, Canada
CATEGORIES:Conference
END:VEVENT
BEGIN:VEVENT
DTSTART;VALUE=DATE:20190222
DTEND;VALUE=DATE:20190224
DTSTAMP:20260423T142241
CREATED:20181108T112717Z
LAST-MODIFIED:20181108T112717Z
UID:1177-1550793600-1550966399@classicalreception.org
SUMMARY:Historical Fictions Research Conference
DESCRIPTION:Narratives of metamorphosis\, from human into other living and mineral forms\, have long provided an… Continue reading Metamorphosis & the Environmental Imagination\, from Ovid to Shakespeare
URL:https://classicalreception.org/event/historical-fictions-research-conference/
LOCATION:Manchester Central Library\, Manchester\, United Kingdom
CATEGORIES:Conference
END:VEVENT
BEGIN:VEVENT
DTSTART;VALUE=DATE:20190221
DTEND;VALUE=DATE:20190223
DTSTAMP:20260423T142241
CREATED:20181002T162634Z
LAST-MODIFIED:20190204T102517Z
UID:1082-1550707200-1550879999@classicalreception.org
SUMMARY:Authority in creating contemporary narratives about the Classics
DESCRIPTION:Narratives of metamorphosis\, from human into other living and mineral forms\, have long provided an… Continue reading Metamorphosis & the Environmental Imagination\, from Ovid to Shakespeare
URL:https://classicalreception.org/event/authority-in-creating-contemporary-narratives-about-the-classics/
LOCATION:Newcastle University\, NE1 7RU
CATEGORIES:Conference
END:VEVENT
BEGIN:VEVENT
DTSTART;TZID=UTC:20190208T120000
DTEND;TZID=UTC:20190209T163000
DTSTAMP:20260423T142241
CREATED:20190129T213430Z
LAST-MODIFIED:20190129T213430Z
UID:1274-1549627200-1549729800@classicalreception.org
SUMMARY:The Nineteenth-Century Archive as a Discourse of Power
DESCRIPTION:Narratives of metamorphosis\, from human into other living and mineral forms\, have long provided an… Continue reading Metamorphosis & the Environmental Imagination\, from Ovid to Shakespeare
URL:https://classicalreception.org/event/the-nineteenth-century-archive-as-a-discourse-of-power/
LOCATION:Durham University\, Durham\, United Kingdom
CATEGORIES:Conference
END:VEVENT
BEGIN:VEVENT
DTSTART;VALUE=DATE:20190124
DTEND;VALUE=DATE:20190127
DTSTAMP:20260423T142241
CREATED:20181218T211037Z
LAST-MODIFIED:20181218T211037Z
UID:1197-1548288000-1548547199@classicalreception.org
SUMMARY:Glacie circumdatus uror – Der neulateinische Petrarkismus
DESCRIPTION:Narratives of metamorphosis\, from human into other living and mineral forms\, have long provided an… Continue reading Metamorphosis & the Environmental Imagination\, from Ovid to Shakespeare
URL:https://classicalreception.org/event/glacie-circumdatus-uror-der-neulateinische-petrarkismus/
LOCATION:Bonn University\, Bonn\, Germany
CATEGORIES:Conference
END:VEVENT
BEGIN:VEVENT
DTSTART;TZID=UTC:20181214T100000
DTEND;TZID=UTC:20181214T200000
DTSTAMP:20260423T142241
CREATED:20181008T094239Z
LAST-MODIFIED:20181008T095036Z
UID:1093-1544781600-1544817600@classicalreception.org
SUMMARY:Translating Greek Tragedy in 16th-century Europe
DESCRIPTION:Narratives of metamorphosis\, from human into other living and mineral forms\, have long provided an… Continue reading Metamorphosis & the Environmental Imagination\, from Ovid to Shakespeare
URL:https://classicalreception.org/event/translating-greek-tragedy-in-16th-century-europe/
LOCATION:St Hilda’s College\, Oxford\, Oxford\, OX4 1DY\, United Kingdom
CATEGORIES:Conference
END:VEVENT
BEGIN:VEVENT
DTSTART;VALUE=DATE:20181123
DTEND;VALUE=DATE:20181124
DTSTAMP:20260423T142241
CREATED:20180808T153625Z
LAST-MODIFIED:20181108T110140Z
UID:1014-1542931200-1543017599@classicalreception.org
SUMMARY:Classical Displacement(s)
DESCRIPTION:Narratives of metamorphosis\, from human into other living and mineral forms\, have long provided an… Continue reading Metamorphosis & the Environmental Imagination\, from Ovid to Shakespeare
URL:https://classicalreception.org/event/classical-displacements/
LOCATION:Senate House\, University of London\, Malet Street\, London
CATEGORIES:Conference
END:VEVENT
BEGIN:VEVENT
DTSTART;VALUE=DATE:20181114
DTEND;VALUE=DATE:20181115
DTSTAMP:20260423T142241
CREATED:20181008T095554Z
LAST-MODIFIED:20181008T095554Z
UID:1102-1542153600-1542153600@classicalreception.org
SUMMARY:The Reception of Greek Ethics in Late Antiquity and Byzantium:  Continuities and Transformations
DESCRIPTION:Narratives of metamorphosis\, from human into other living and mineral forms\, have long provided an… Continue reading Metamorphosis & the Environmental Imagination\, from Ovid to Shakespeare
URL:https://classicalreception.org/event/the-reception-of-greek-ethics-in-late-antiquity-and-byzantium-continuities-and-transformations/
LOCATION:Corpus Christi College\, Merton Street\, Oxford\, OX1 4JF\, United Kingdom
CATEGORIES:Conference
END:VEVENT
BEGIN:VEVENT
DTSTART;VALUE=DATE:20181109
DTEND;VALUE=DATE:20181112
DTSTAMP:20260423T142241
CREATED:20180412T195644Z
LAST-MODIFIED:20180412T195644Z
UID:870-1541721600-1541980799@classicalreception.org
SUMMARY:Medea on the Contemporary Stage and Screen
DESCRIPTION:Narratives of metamorphosis\, from human into other living and mineral forms\, have long provided an… Continue reading Metamorphosis & the Environmental Imagination\, from Ovid to Shakespeare
URL:https://classicalreception.org/event/medea-on-the-contemporary-stage-and-screen/
LOCATION:Western Washington University\, Bellingham\, WA\, United States
CATEGORIES:Conference
END:VEVENT
BEGIN:VEVENT
DTSTART;VALUE=DATE:20181108
DTEND;VALUE=DATE:20181111
DTSTAMP:20260423T142241
CREATED:20180605T135528Z
LAST-MODIFIED:20180605T135528Z
UID:934-1541635200-1541894399@classicalreception.org
SUMMARY:AMPRAW 2018: Annual Meeting of Postgraduates in the Reception of the Ancient World
DESCRIPTION:Narratives of metamorphosis\, from human into other living and mineral forms\, have long provided an… Continue reading Metamorphosis & the Environmental Imagination\, from Ovid to Shakespeare
URL:https://classicalreception.org/event/ampraw-2018-annual-meeting-of-postgraduates-in-the-reception-of-the-ancient-world/
LOCATION:University of Coimbra\, Coimbra\, Portugal
CATEGORIES:Conference
END:VEVENT
BEGIN:VEVENT
DTSTART;VALUE=DATE:20181107
DTEND;VALUE=DATE:20181113
DTSTAMP:20260423T142241
CREATED:20180412T185306Z
LAST-MODIFIED:20180412T185306Z
UID:823-1541548800-1542067199@classicalreception.org
SUMMARY:Film and History Conference: Classical Antiquity panels - Classical Antiquity: Screening the “political animals” of the Ancient Mediterranean world
DESCRIPTION:Narratives of metamorphosis\, from human into other living and mineral forms\, have long provided an… Continue reading Metamorphosis & the Environmental Imagination\, from Ovid to Shakespeare
URL:https://classicalreception.org/event/film-and-history-conference-classical-antiquity-panels-classical-antiquity-screening-the-political-animals-of-the-ancient-mediterranean-world/
LOCATION:Madison Concourse Hotel and Governor’s Club\, 1 W Dayton St\, Madison\, WI\, 53703\, United States
CATEGORIES:Conference
ORGANIZER;CN="Meredith Safran":MAILTO:classicsonscreen@gmail.com
END:VEVENT
BEGIN:VEVENT
DTSTART;TZID=UTC:20181027T103000
DTEND;TZID=UTC:20181027T180000
DTSTAMP:20260423T142241
CREATED:20180906T105906Z
LAST-MODIFIED:20180906T105906Z
UID:1031-1540636200-1540663200@classicalreception.org
SUMMARY:Classics and Classicists: A colloquium in honour of Christopher Stray
DESCRIPTION:Narratives of metamorphosis\, from human into other living and mineral forms\, have long provided an… Continue reading Metamorphosis & the Environmental Imagination\, from Ovid to Shakespeare
URL:https://classicalreception.org/event/classics-and-classicists-a-colloquium-in-honour-of-christopher-stray/
LOCATION:Corpus Christi College\, Merton Street\, Oxford\, OX1 4JF\, United Kingdom
CATEGORIES:Conference
ORGANIZER;CN="Stephen Harrison":MAILTO:Stephen.harrison@ccc.ox.ac.uk
END:VEVENT
BEGIN:VEVENT
DTSTART;VALUE=DATE:20181017
DTEND;VALUE=DATE:20181021
DTSTAMP:20260423T142241
CREATED:20171017T201444Z
LAST-MODIFIED:20171017T201444Z
UID:452-1539813600-1540072799@classicalreception.org
SUMMARY:The Fragrant and the Foul: the Smells and Senses of Antiquity in the Modern Imagination
DESCRIPTION:Narratives of metamorphosis\, from human into other living and mineral forms\, have long provided an… Continue reading Metamorphosis & the Environmental Imagination\, from Ovid to Shakespeare
URL:https://classicalreception.org/event/the-fragrant-and-the-foul-the-smells-and-senses-of-antiquity-in-the-modern-imagination/
LOCATION:Toulouse\, France
CATEGORIES:Conference
END:VEVENT
BEGIN:VEVENT
DTSTART;VALUE=DATE:20181017
DTEND;VALUE=DATE:20181020
DTSTAMP:20260423T142241
CREATED:20180103T113913Z
LAST-MODIFIED:20180103T114001Z
UID:669-1539734400-1539993599@classicalreception.org
SUMMARY:Myth and Audiovisual Creation: Classical Myths
DESCRIPTION:Narratives of metamorphosis\, from human into other living and mineral forms\, have long provided an… Continue reading Metamorphosis & the Environmental Imagination\, from Ovid to Shakespeare
URL:https://classicalreception.org/event/myth-and-audiovisual-creation-classical-myths/
LOCATION:Universidad Autónoma de Madrid\, Madrid\, Spain
CATEGORIES:Conference
END:VEVENT
BEGIN:VEVENT
DTSTART;VALUE=DATE:20181011
DTEND;VALUE=DATE:20181013
DTSTAMP:20260423T142241
CREATED:20180605T134103Z
LAST-MODIFIED:20180605T134103Z
UID:927-1539216000-1539388799@classicalreception.org
SUMMARY:Classics and Global Humanities
DESCRIPTION:Narratives of metamorphosis\, from human into other living and mineral forms\, have long provided an… Continue reading Metamorphosis & the Environmental Imagination\, from Ovid to Shakespeare
URL:https://classicalreception.org/event/classics-and-global-humanities/
LOCATION:University of Ghana\, Legon\, Ghana
CATEGORIES:Conference
END:VEVENT
BEGIN:VEVENT
DTSTART;VALUE=DATE:20181004
DTEND;VALUE=DATE:20181005
DTSTAMP:20260423T142241
CREATED:20180619T103506Z
LAST-MODIFIED:20180619T103506Z
UID:968-1538611200-1538697599@classicalreception.org
SUMMARY:Mythological Panoramas: Tracing Distortions and Fictions of Landscape Across Time and Space
DESCRIPTION:Narratives of metamorphosis\, from human into other living and mineral forms\, have long provided an… Continue reading Metamorphosis & the Environmental Imagination\, from Ovid to Shakespeare
URL:https://classicalreception.org/event/mythological-panoramas-tracing-distortions-and-fictions-of-landscape-across-time-and-space/
LOCATION:Senate House\, University of London\, Malet Street\, London
CATEGORIES:Conference
END:VEVENT
BEGIN:VEVENT
DTSTART;VALUE=DATE:20180920
DTEND;VALUE=DATE:20180923
DTSTAMP:20260423T142241
CREATED:20180123T100826Z
LAST-MODIFIED:20180123T100826Z
UID:766-1537401600-1537660799@classicalreception.org
SUMMARY:Winckelmann's Victims. The Classics: Norms\, Exclusions and Prejudices
DESCRIPTION:Narratives of metamorphosis\, from human into other living and mineral forms\, have long provided an… Continue reading Metamorphosis & the Environmental Imagination\, from Ovid to Shakespeare
URL:https://classicalreception.org/event/winckelmanns-victims-the-classics-norms-exclusions-and-prejudices/
LOCATION:Ghent University\, Ghent\, Belgium
CATEGORIES:Conference
END:VEVENT
BEGIN:VEVENT
DTSTART;VALUE=DATE:20180914
DTEND;VALUE=DATE:20180915
DTSTAMP:20260423T142241
CREATED:20180605T135805Z
LAST-MODIFIED:20180605T135805Z
UID:938-1536883200-1536969599@classicalreception.org
SUMMARY:"Something Old\, Something New”: The Reception of Classics in Modern and Contemporary Songwriting
DESCRIPTION:Narratives of metamorphosis\, from human into other living and mineral forms\, have long provided an… Continue reading Metamorphosis & the Environmental Imagination\, from Ovid to Shakespeare
URL:https://classicalreception.org/event/something-old-something-new-the-reception-of-classics-in-modern-and-contemporary-songwriting/
LOCATION:Athens\, Greece
CATEGORIES:Conference
END:VEVENT
BEGIN:VEVENT
DTSTART;VALUE=DATE:20180910
DTEND;VALUE=DATE:20180912
DTSTAMP:20260423T142241
CREATED:20171031T112749Z
LAST-MODIFIED:20171031T112749Z
UID:529-1536537600-1536710399@classicalreception.org
SUMMARY:Drawing on the Past: the pre-modern world in comics
DESCRIPTION:Narratives of metamorphosis\, from human into other living and mineral forms\, have long provided an… Continue reading Metamorphosis & the Environmental Imagination\, from Ovid to Shakespeare
URL:https://classicalreception.org/event/drawing-on-the-past-the-pre-modern-world-in-comics/
LOCATION:Senate House\, University of London\, Malet Street\, London
CATEGORIES:Conference
END:VEVENT
BEGIN:VEVENT
DTSTART;VALUE=DATE:20180903
DTEND;VALUE=DATE:20180905
DTSTAMP:20260423T142241
CREATED:20180129T221410Z
LAST-MODIFIED:20180129T221410Z
UID:773-1535932800-1536105599@classicalreception.org
SUMMARY:Ancient Greek Drama in Latin 1506-1590.  Readership\, Translation\, and Circulation
DESCRIPTION:Narratives of metamorphosis\, from human into other living and mineral forms\, have long provided an… Continue reading Metamorphosis & the Environmental Imagination\, from Ovid to Shakespeare
URL:https://classicalreception.org/event/ancient-greek-drama-in-latin-1506-1590-readership-translation-and-circulation/
LOCATION:King’s College London\, London\, WC2R 2LS\, United Kingdom
CATEGORIES:Conference
END:VEVENT
BEGIN:VEVENT
DTSTART;VALUE=DATE:20180718
DTEND;VALUE=DATE:20180720
DTSTAMP:20260423T142241
CREATED:20171017T201104Z
LAST-MODIFIED:20171017T201104Z
UID:447-1531872000-1532044799@classicalreception.org
SUMMARY:Classics\, the Left & the Sublime
DESCRIPTION:Narratives of metamorphosis\, from human into other living and mineral forms\, have long provided an… Continue reading Metamorphosis & the Environmental Imagination\, from Ovid to Shakespeare
URL:https://classicalreception.org/event/classics-the-left-the-sublime/
LOCATION:King’s College London\, London\, WC2R 2LS\, United Kingdom
CATEGORIES:Conference
ORGANIZER;CN="Henry Stead":MAILTO:Henry.Stead@open.ac.uk
END:VEVENT
BEGIN:VEVENT
DTSTART;VALUE=DATE:20180711
DTEND;VALUE=DATE:20180715
DTSTAMP:20260423T142241
CREATED:20171212T103927Z
LAST-MODIFIED:20171212T103927Z
UID:637-1531267200-1531612799@classicalreception.org
SUMMARY:Approaching Landscape in the Classical Tradition
DESCRIPTION:Narratives of metamorphosis\, from human into other living and mineral forms\, have long provided an… Continue reading Metamorphosis & the Environmental Imagination\, from Ovid to Shakespeare
URL:https://classicalreception.org/event/approaching-landscape-in-the-classical-tradition/
LOCATION:University of St Andrews\, St Andrews\, United Kingdom
CATEGORIES:Conference
END:VEVENT
BEGIN:VEVENT
DTSTART;VALUE=DATE:20180709
DTEND;VALUE=DATE:20180712
DTSTAMP:20260423T142241
CREATED:20180526T210253Z
LAST-MODIFIED:20180526T210253Z
UID:904-1531094400-1531353599@classicalreception.org
SUMMARY:The Athenian Funeral Oration: 40 Years after Nicole Loraux
DESCRIPTION:Narratives of metamorphosis\, from human into other living and mineral forms\, have long provided an… Continue reading Metamorphosis & the Environmental Imagination\, from Ovid to Shakespeare
URL:https://classicalreception.org/event/the-athenian-funeral-oration-40-years-after-nicole-loraux/
LOCATION:University of Strasbourg\, Strasbourg\, France
CATEGORIES:Conference
ORGANIZER;CN="David M. Pritchard":MAILTO:dpritchard@unistra.fr
END:VEVENT
END:VCALENDAR