BEGIN:VCALENDAR
VERSION:2.0
PRODID:-//CRSN - ECPv6.15.20//NONSGML v1.0//EN
CALSCALE:GREGORIAN
METHOD:PUBLISH
X-WR-CALNAME:CRSN
X-ORIGINAL-URL:https://classicalreception.org
X-WR-CALDESC:Events for CRSN
REFRESH-INTERVAL;VALUE=DURATION:PT1H
X-Robots-Tag:noindex
X-PUBLISHED-TTL:PT1H
BEGIN:VTIMEZONE
TZID:UTC
BEGIN:STANDARD
TZOFFSETFROM:+0000
TZOFFSETTO:+0000
TZNAME:UTC
DTSTART:20180101T000000
END:STANDARD
END:VTIMEZONE
BEGIN:VEVENT
DTSTART;VALUE=DATE:20211215
DTEND;VALUE=DATE:20211219
DTSTAMP:20260423T083337
CREATED:20210908T081629Z
LAST-MODIFIED:20210908T082426Z
UID:2802-1639526400-1639871999@classicalreception.org
SUMMARY:CFP: 'What Has Antiquity Ever Done for Us?': The Vitality of Ancient Reception Studies\, Now
DESCRIPTION:An online conference hosted by the University of Parma (Italy)\, Department of Humanities\, Social Sciences… Continue reading Classics in Translation: Greek and Latin in Anglophone Literatures and Cultures
URL:https://classicalreception.org/event/cfp-what-has-antiquity-ever-done-for-us-the-vitality-of-ancient-reception-studies-now/
LOCATION:Online
CATEGORIES:Conference
END:VEVENT
BEGIN:VEVENT
DTSTART;VALUE=DATE:20211023
DTEND;VALUE=DATE:20211025
DTSTAMP:20260423T083337
CREATED:20210427T072208Z
LAST-MODIFIED:20211007T110245Z
UID:2492-1634947200-1635119999@classicalreception.org
SUMMARY:Conference: A Proletarian Classics?
DESCRIPTION:An online conference hosted by the University of Parma (Italy)\, Department of Humanities\, Social Sciences… Continue reading Classics in Translation: Greek and Latin in Anglophone Literatures and Cultures
URL:https://classicalreception.org/event/cfp-a-proletarian-classics/
LOCATION:Online
CATEGORIES:Conference
END:VEVENT
BEGIN:VEVENT
DTSTART;VALUE=DATE:20211007
DTEND;VALUE=DATE:20211010
DTSTAMP:20260423T083337
CREATED:20210412T145517Z
LAST-MODIFIED:20210412T145517Z
UID:2454-1633564800-1633823999@classicalreception.org
SUMMARY:CFP: 'Reading\, Writing\, Translating. Greek in Early Modern Schools\, Universities and Beyond'
DESCRIPTION:An online conference hosted by the University of Parma (Italy)\, Department of Humanities\, Social Sciences… Continue reading Classics in Translation: Greek and Latin in Anglophone Literatures and Cultures
URL:https://classicalreception.org/event/cfp-reading-writing-translating-greek-in-early-modern-schools-universities-and-beyond/
LOCATION:Lund University\, Sweden
CATEGORIES:Conference
END:VEVENT
BEGIN:VEVENT
DTSTART;VALUE=DATE:20210916
DTEND;VALUE=DATE:20210918
DTSTAMP:20260423T083337
CREATED:20210412T111027Z
LAST-MODIFIED:20210412T124226Z
UID:2449-1631750400-1631923199@classicalreception.org
SUMMARY:CFP: The Tales of Archaeology. Towards a Literary 'Memory Map' of the Mediterranean Space
DESCRIPTION:An online conference hosted by the University of Parma (Italy)\, Department of Humanities\, Social Sciences… Continue reading Classics in Translation: Greek and Latin in Anglophone Literatures and Cultures
URL:https://classicalreception.org/event/cfp-the-tales-of-archaeology-towards-a-literary-memory-map-of-the-mediterranean-space/
LOCATION:Academia Belgica\, Rome
CATEGORIES:Conference
END:VEVENT
BEGIN:VEVENT
DTSTART;TZID=UTC:20210815T120000
DTEND;TZID=UTC:20210815T170000
DTSTAMP:20260423T083337
CREATED:20210803T094242Z
LAST-MODIFIED:20210803T094430Z
UID:2764-1629028800-1629046800@classicalreception.org
SUMMARY:London Classicists of Colour Summer Symposium
DESCRIPTION:An online conference hosted by the University of Parma (Italy)\, Department of Humanities\, Social Sciences… Continue reading Classics in Translation: Greek and Latin in Anglophone Literatures and Cultures
URL:https://classicalreception.org/event/london-classicists-of-colour-summer-symposium/
LOCATION:Online
CATEGORIES:Conference,Public Event
END:VEVENT
BEGIN:VEVENT
DTSTART;TZID=UTC:20210628T100000
DTEND;TZID=UTC:20210629T170000
DTSTAMP:20260423T083337
CREATED:20210322T100754Z
LAST-MODIFIED:20210322T100955Z
UID:2439-1624874400-1624986000@classicalreception.org
SUMMARY:CFP: APGRD/University of London Joint Postgraduate Symposium
DESCRIPTION:An online conference hosted by the University of Parma (Italy)\, Department of Humanities\, Social Sciences… Continue reading Classics in Translation: Greek and Latin in Anglophone Literatures and Cultures
URL:https://classicalreception.org/event/cfp-apgrd-university-of-london-joint-postgraduate-symposium/
LOCATION:Online
CATEGORIES:Conference,Public Event
END:VEVENT
BEGIN:VEVENT
DTSTART;VALUE=DATE:20210624
DTEND;VALUE=DATE:20210628
DTSTAMP:20260423T083337
CREATED:20210223T094655Z
LAST-MODIFIED:20210223T094655Z
UID:2276-1624492800-1624838399@classicalreception.org
SUMMARY:Reception Studies: State of the Discipline and New Directions
DESCRIPTION:An online conference hosted by the University of Parma (Italy)\, Department of Humanities\, Social Sciences… Continue reading Classics in Translation: Greek and Latin in Anglophone Literatures and Cultures
URL:https://classicalreception.org/event/reception-studies-state-of-the-discipline-and-new-directions/
LOCATION:Online
CATEGORIES:Conference,Public Event
END:VEVENT
BEGIN:VEVENT
DTSTART;VALUE=DATE:20210618
DTEND;VALUE=DATE:20210620
DTSTAMP:20260423T083337
CREATED:20210118T095835Z
LAST-MODIFIED:20210118T095835Z
UID:2200-1623974400-1624147199@classicalreception.org
SUMMARY:CFP: Revisiting the Warrior Princess and her legacy: Xena 20 years on
DESCRIPTION:An online conference hosted by the University of Parma (Italy)\, Department of Humanities\, Social Sciences… Continue reading Classics in Translation: Greek and Latin in Anglophone Literatures and Cultures
URL:https://classicalreception.org/event/cfp-revisiting-the-warrior-princess-and-her-legacy-xena-20-years-on/
LOCATION:Online
CATEGORIES:Conference,Public Event
END:VEVENT
BEGIN:VEVENT
DTSTART;VALUE=DATE:20210531
DTEND;VALUE=DATE:20210602
DTSTAMP:20260423T083337
CREATED:20210507T172452Z
LAST-MODIFIED:20210507T172801Z
UID:2515-1622419200-1622591999@classicalreception.org
SUMMARY:Class and Classics. Historiography\, Reception\, Challenges: Towards a Democratisation of Classical Studies
DESCRIPTION:An online conference hosted by the University of Parma (Italy)\, Department of Humanities\, Social Sciences… Continue reading Classics in Translation: Greek and Latin in Anglophone Literatures and Cultures
URL:https://classicalreception.org/event/class-and-classics-historiography-reception-challenges-towards-a-democratisation-of-classical-studies/
LOCATION:Online
CATEGORIES:Conference
END:VEVENT
BEGIN:VEVENT
DTSTART;VALUE=DATE:20210417
DTEND;VALUE=DATE:20210418
DTSTAMP:20260423T083337
CREATED:20210119T093814Z
LAST-MODIFIED:20210119T093814Z
UID:2204-1618617600-1618703999@classicalreception.org
SUMMARY:CFP: (Un)-Forgotten Realms: Science Fiction and Fantasy in and about the Ancient Mediterranean
DESCRIPTION:An online conference hosted by the University of Parma (Italy)\, Department of Humanities\, Social Sciences… Continue reading Classics in Translation: Greek and Latin in Anglophone Literatures and Cultures
URL:https://classicalreception.org/event/cfp-un-forgotten-realms-science-fiction-and-fantasy-in-and-about-the-ancient-mediterranean/
LOCATION:Online
CATEGORIES:Conference,Public Event
END:VEVENT
BEGIN:VEVENT
DTSTART;VALUE=DATE:20210414
DTEND;VALUE=DATE:20210415
DTSTAMP:20260423T083337
CREATED:20210322T095405Z
LAST-MODIFIED:20210322T095405Z
UID:2436-1618358400-1618444799@classicalreception.org
SUMMARY:Méduse\, de Hésiode à Assassin’s Creed: Représentations et réception historique d’une figure emblématique de la mythologie grecque
DESCRIPTION:An online conference hosted by the University of Parma (Italy)\, Department of Humanities\, Social Sciences… Continue reading Classics in Translation: Greek and Latin in Anglophone Literatures and Cultures
URL:https://classicalreception.org/event/meduse-de-hesiode-a-assassins-creed-representations-et-reception-historique-dune-figure-emblematique-de-la-mythologie-grecque/
LOCATION:Online
CATEGORIES:Conference,Public Event
END:VEVENT
BEGIN:VEVENT
DTSTART;VALUE=DATE:20210408
DTEND;VALUE=DATE:20210409
DTSTAMP:20260423T083337
CREATED:20210304T112545Z
LAST-MODIFIED:20210304T112545Z
UID:2371-1617840000-1617926399@classicalreception.org
SUMMARY:William Golding: Beyond Good and Evil
DESCRIPTION:An online conference hosted by the University of Parma (Italy)\, Department of Humanities\, Social Sciences… Continue reading Classics in Translation: Greek and Latin in Anglophone Literatures and Cultures
URL:https://classicalreception.org/event/william-golding-beyond-good-and-evil/
LOCATION:Online
CATEGORIES:Conference,Public Event
END:VEVENT
BEGIN:VEVENT
DTSTART;VALUE=DATE:20210402
DTEND;VALUE=DATE:20210403
DTSTAMP:20260423T083337
CREATED:20201218T172345Z
LAST-MODIFIED:20201218T172345Z
UID:2122-1617321600-1617407999@classicalreception.org
SUMMARY:Poetics\, Politics and the Ruin in Cinema and Theatre since 1945
DESCRIPTION:An online conference hosted by the University of Parma (Italy)\, Department of Humanities\, Social Sciences… Continue reading Classics in Translation: Greek and Latin in Anglophone Literatures and Cultures
URL:https://classicalreception.org/event/poetics-politics-and-the-ruin-in-cinema-and-theatre-since-1945/
LOCATION:Online
CATEGORIES:Conference
END:VEVENT
BEGIN:VEVENT
DTSTART;VALUE=DATE:20210319
DTEND;VALUE=DATE:20210322
DTSTAMP:20260423T083337
CREATED:20210212T121943Z
LAST-MODIFIED:20210212T121943Z
UID:2270-1616112000-1616371199@classicalreception.org
SUMMARY:W. E. B. Du Bois and the Ancient Mediterranean
DESCRIPTION:An online conference hosted by the University of Parma (Italy)\, Department of Humanities\, Social Sciences… Continue reading Classics in Translation: Greek and Latin in Anglophone Literatures and Cultures
URL:https://classicalreception.org/event/w-e-b-du-bois-and-the-ancient-mediterranean/
LOCATION:Online
CATEGORIES:Conference,Public Event
END:VEVENT
BEGIN:VEVENT
DTSTART;VALUE=DATE:20210312
DTEND;VALUE=DATE:20210314
DTSTAMP:20260423T083337
CREATED:20210112T104146Z
LAST-MODIFIED:20210112T104448Z
UID:2174-1615507200-1615679999@classicalreception.org
SUMMARY:Now and Then: (In)equity and Marginalization in Ancient Mediterranean Studies
DESCRIPTION:An online conference hosted by the University of Parma (Italy)\, Department of Humanities\, Social Sciences… Continue reading Classics in Translation: Greek and Latin in Anglophone Literatures and Cultures
URL:https://classicalreception.org/event/now-and-then-inequity-and-marginalization-in-ancient-mediterranean-studies/
LOCATION:Online
CATEGORIES:Conference,Public Event
END:VEVENT
BEGIN:VEVENT
DTSTART;VALUE=DATE:20210220
DTEND;VALUE=DATE:20210222
DTSTAMP:20260423T083337
CREATED:20210106T181228Z
LAST-MODIFIED:20210208T093050Z
UID:2131-1613779200-1613951999@classicalreception.org
SUMMARY:Queer and The Classical: Critical Futures\, Critical Feelings
DESCRIPTION:An online conference hosted by the University of Parma (Italy)\, Department of Humanities\, Social Sciences… Continue reading Classics in Translation: Greek and Latin in Anglophone Literatures and Cultures
URL:https://classicalreception.org/event/cfp-queer-and-the-classical-critical-futures-critical-feelings/
LOCATION:Online
CATEGORIES:Conference,Performance,Public Event
END:VEVENT
BEGIN:VEVENT
DTSTART;VALUE=DATE:20210115
DTEND;VALUE=DATE:20210116
DTSTAMP:20260423T083337
CREATED:20201218T171327Z
LAST-MODIFIED:20201218T171327Z
UID:2114-1610668800-1610755199@classicalreception.org
SUMMARY:The Fascist Archive in Performance
DESCRIPTION:An online conference hosted by the University of Parma (Italy)\, Department of Humanities\, Social Sciences… Continue reading Classics in Translation: Greek and Latin in Anglophone Literatures and Cultures
URL:https://classicalreception.org/event/the-fascist-archive-in-performance/
LOCATION:Online
CATEGORIES:Conference
END:VEVENT
BEGIN:VEVENT
DTSTART;VALUE=DATE:20201111
DTEND;VALUE=DATE:20201114
DTSTAMP:20260423T083337
CREATED:20200130T204857Z
LAST-MODIFIED:20200130T204857Z
UID:1687-1605052800-1605311999@classicalreception.org
SUMMARY:CFP: Classical Controversies in 2020
DESCRIPTION:An online conference hosted by the University of Parma (Italy)\, Department of Humanities\, Social Sciences… Continue reading Classics in Translation: Greek and Latin in Anglophone Literatures and Cultures
URL:https://classicalreception.org/event/cfp-classical-controversies-in-2020/
LOCATION:Leiden\, Netherlands
CATEGORIES:Conference
END:VEVENT
BEGIN:VEVENT
DTSTART;VALUE=DATE:20201008
DTEND;VALUE=DATE:20201012
DTSTAMP:20260423T083337
CREATED:20190924T201317Z
LAST-MODIFIED:20190924T201317Z
UID:1526-1602115200-1602460799@classicalreception.org
SUMMARY:CFP: Global Classics and Africa: Past\, Present\, and Future
DESCRIPTION:An online conference hosted by the University of Parma (Italy)\, Department of Humanities\, Social Sciences… Continue reading Classics in Translation: Greek and Latin in Anglophone Literatures and Cultures
URL:https://classicalreception.org/event/cfp-global-classics-and-africa-past-present-and-future/
LOCATION:University of Ghana\, Legon\, Ghana
CATEGORIES:Conference
END:VEVENT
BEGIN:VEVENT
DTSTART;VALUE=DATE:20200607
DTEND;VALUE=DATE:20200610
DTSTAMP:20260423T083337
CREATED:20190926T193818Z
LAST-MODIFIED:20190926T193818Z
UID:1544-1591563600-1591736399@classicalreception.org
SUMMARY:CFP: The Reception of Plato in Later Antiquity and the Middle Ages
DESCRIPTION:An online conference hosted by the University of Parma (Italy)\, Department of Humanities\, Social Sciences… Continue reading Classics in Translation: Greek and Latin in Anglophone Literatures and Cultures
URL:https://classicalreception.org/event/cfp-the-reception-of-plato-in-later-antiquity-and-the-middle-ages/
LOCATION:University of Athens\, Athens\, 157 72\, Greece
CATEGORIES:Conference
END:VEVENT
BEGIN:VEVENT
DTSTART;TZID=UTC:20200124T100000
DTEND;TZID=UTC:20200124T180000
DTSTAMP:20260423T083337
CREATED:20191014T111348Z
LAST-MODIFIED:20191014T111348Z
UID:1583-1579860000-1579888800@classicalreception.org
SUMMARY:Calgacus in 2020
DESCRIPTION:An online conference hosted by the University of Parma (Italy)\, Department of Humanities\, Social Sciences… Continue reading Classics in Translation: Greek and Latin in Anglophone Literatures and Cultures
URL:https://classicalreception.org/event/calgacus-in-2020/
LOCATION:University College London\, London\, United Kingdom
CATEGORIES:Conference
END:VEVENT
BEGIN:VEVENT
DTSTART;VALUE=DATE:20191216
DTEND;VALUE=DATE:20191217
DTSTAMP:20260423T083337
CREATED:20190910T202218Z
LAST-MODIFIED:20190910T202218Z
UID:1497-1576454400-1576540799@classicalreception.org
SUMMARY:Classics and the Spectacular under Fascism: Classical Performance in the ‘Ventennio Fascista’
DESCRIPTION:An online conference hosted by the University of Parma (Italy)\, Department of Humanities\, Social Sciences… Continue reading Classics in Translation: Greek and Latin in Anglophone Literatures and Cultures
URL:https://classicalreception.org/event/classics-and-the-spectacular-under-fascism-classical-performance-in-the-ventennio-fascista/
LOCATION:Classics Faculty\, University of Oxford\, 66 St Giles'\, Oxford\, OX1 3LU\, United Kingdom
CATEGORIES:Conference
END:VEVENT
BEGIN:VEVENT
DTSTART;VALUE=DATE:20191206
DTEND;VALUE=DATE:20191208
DTSTAMP:20260423T083337
CREATED:20191206T152738Z
LAST-MODIFIED:20191206T152738Z
UID:1616-1575590400-1575763199@classicalreception.org
SUMMARY:Re-/Un-working Tragedy: Perspectives from the Global South
DESCRIPTION:An online conference hosted by the University of Parma (Italy)\, Department of Humanities\, Social Sciences… Continue reading Classics in Translation: Greek and Latin in Anglophone Literatures and Cultures
URL:https://classicalreception.org/event/re-un-working-tragedy-perspectives-from-the-global-south/
LOCATION:University of Cambridge
CATEGORIES:Conference
END:VEVENT
BEGIN:VEVENT
DTSTART;VALUE=DATE:20191128
DTEND;VALUE=DATE:20191201
DTSTAMP:20260423T083337
CREATED:20190418T163951Z
LAST-MODIFIED:20190418T163951Z
UID:1382-1574899200-1575158399@classicalreception.org
SUMMARY:AMPRAW: Authority and Legitimacy
DESCRIPTION:An online conference hosted by the University of Parma (Italy)\, Department of Humanities\, Social Sciences… Continue reading Classics in Translation: Greek and Latin in Anglophone Literatures and Cultures
URL:https://classicalreception.org/event/ampraw-authority-and-legitimacy/
LOCATION:Radboud University\, 6525 XZ Nijmegen\, Netherlands
CATEGORIES:Conference
END:VEVENT
BEGIN:VEVENT
DTSTART;VALUE=DATE:20191110
DTEND;VALUE=DATE:20191114
DTSTAMP:20260423T083337
CREATED:20191014T153223Z
LAST-MODIFIED:20191014T153455Z
UID:1594-1573426800-1573685999@classicalreception.org
SUMMARY:EN LOS MÁRGENES DEL MITO: Hibridaciones de la mitología clásica en la cultura de masas contemporánea
DESCRIPTION:An online conference hosted by the University of Parma (Italy)\, Department of Humanities\, Social Sciences… Continue reading Classics in Translation: Greek and Latin in Anglophone Literatures and Cultures
URL:https://classicalreception.org/event/en-los-margenes-del-mito-hibridaciones-de-la-mitologia-clasica-en-la-cultura-de-masas-contemporanea/
LOCATION:Universidad Autónoma de Madrid\, Ciudad Universitaria de Cantoblanco\, Madrid\, 28049\, Spain
CATEGORIES:Conference
END:VEVENT
BEGIN:VEVENT
DTSTART;TZID=UTC:20191012T100000
DTEND;TZID=UTC:20191012T170000
DTSTAMP:20260423T083337
CREATED:20190829T204734Z
LAST-MODIFIED:20190829T204734Z
UID:1469-1570874400-1570899600@classicalreception.org
SUMMARY:Between Oedipus and the Sphinx: Freud and Egypt
DESCRIPTION:An online conference hosted by the University of Parma (Italy)\, Department of Humanities\, Social Sciences… Continue reading Classics in Translation: Greek and Latin in Anglophone Literatures and Cultures
URL:https://classicalreception.org/event/between-oedipus-and-the-sphinx-freud-and-egypt/
LOCATION:University College School\, London\, NW3 6XH
CATEGORIES:Conference
END:VEVENT
BEGIN:VEVENT
DTSTART;VALUE=DATE:20191011
DTEND;VALUE=DATE:20191013
DTSTAMP:20260423T083337
CREATED:20190910T190236Z
LAST-MODIFIED:20190910T190236Z
UID:1494-1570752000-1570924799@classicalreception.org
SUMMARY:Metamorphosis & the Environmental Imagination\, from Ovid to Shakespeare
DESCRIPTION:An online conference hosted by the University of Parma (Italy)\, Department of Humanities\, Social Sciences… Continue reading Classics in Translation: Greek and Latin in Anglophone Literatures and Cultures
URL:https://classicalreception.org/event/metamorphosis-the-environmental-imagination-from-ovid-to-shakespeare/
LOCATION:UCLA\, Los Angeles\, United States
CATEGORIES:Conference
END:VEVENT
BEGIN:VEVENT
DTSTART;VALUE=DATE:20191003
DTEND;VALUE=DATE:20191006
DTSTAMP:20260423T083337
CREATED:20190418T163639Z
LAST-MODIFIED:20190418T163639Z
UID:1380-1570060800-1570319999@classicalreception.org
SUMMARY:Cicero in Basel. Reception Histories from a Humanist City
DESCRIPTION:An online conference hosted by the University of Parma (Italy)\, Department of Humanities\, Social Sciences… Continue reading Classics in Translation: Greek and Latin in Anglophone Literatures and Cultures
URL:https://classicalreception.org/event/cicero-in-basel-reception-histories-from-a-humanist-city/
CATEGORIES:Conference
END:VEVENT
BEGIN:VEVENT
DTSTART;TZID=UTC:20190712T100000
DTEND;TZID=UTC:20190712T190000
DTSTAMP:20260423T083337
CREATED:20190618T115334Z
LAST-MODIFIED:20190618T115334Z
UID:1438-1562925600-1562958000@classicalreception.org
SUMMARY:Classical Theatre and the Middle East: Greek drama and the "classic(s)" in the Arab-speaking world and Iran
DESCRIPTION:An online conference hosted by the University of Parma (Italy)\, Department of Humanities\, Social Sciences… Continue reading Classics in Translation: Greek and Latin in Anglophone Literatures and Cultures
URL:https://classicalreception.org/event/classical-theatre-and-the-middle-east-greek-drama-and-the-classics-in-the-arab-speaking-world-and-iran/
LOCATION:St Hilda’s College\, Oxford\, Oxford\, OX4 1DY\, United Kingdom
CATEGORIES:Conference,Performance
END:VEVENT
BEGIN:VEVENT
DTSTART;VALUE=DATE:20190709
DTEND;VALUE=DATE:20190710
DTSTAMP:20260423T083337
CREATED:20190701T133352Z
LAST-MODIFIED:20190701T133352Z
UID:1442-1562630400-1562716799@classicalreception.org
SUMMARY:The Greeks and the Irrational\, Revisited
DESCRIPTION:An online conference hosted by the University of Parma (Italy)\, Department of Humanities\, Social Sciences… Continue reading Classics in Translation: Greek and Latin in Anglophone Literatures and Cultures
URL:https://classicalreception.org/event/the-greeks-and-the-irrational-revisited/
LOCATION:University College London\, London\, United Kingdom
CATEGORIES:Conference
END:VEVENT
END:VCALENDAR