BEGIN:VCALENDAR
VERSION:2.0
PRODID:-//CRSN - ECPv6.15.20//NONSGML v1.0//EN
CALSCALE:GREGORIAN
METHOD:PUBLISH
X-WR-CALNAME:CRSN
X-ORIGINAL-URL:https://classicalreception.org
X-WR-CALDESC:Events for CRSN
REFRESH-INTERVAL;VALUE=DURATION:PT1H
X-Robots-Tag:noindex
X-PUBLISHED-TTL:PT1H
BEGIN:VTIMEZONE
TZID:UTC
BEGIN:STANDARD
TZOFFSETFROM:+0000
TZOFFSETTO:+0000
TZNAME:UTC
DTSTART:20160101T000000
END:STANDARD
END:VTIMEZONE
BEGIN:VEVENT
DTSTART;VALUE=DATE:20180628
DTEND;VALUE=DATE:20180701
DTSTAMP:20260424T051200
CREATED:20180112T101040Z
LAST-MODIFIED:20180112T101040Z
UID:744-1530144000-1530403199@classicalreception.org
SUMMARY:Tea With The Sphinx:  Reception of Ancient Egypt's Myth\, Magic\, and Mysticism
DESCRIPTION:The Department of Ancient World Studies\, Sapienza University of Rome (http://www.antichita.uniroma1.it/)\, and the International Society… Continue reading Ritratti di Cicerone – Portraying Cicero
URL:https://classicalreception.org/event/tea-with-the-sphinx-reception-of-ancient-egypts-myth-magic-and-mysticism/
LOCATION:University of Birmingham\, Edgbaston\, Birmingham\, B15 2TT\, United Kingdom
CATEGORIES:Conference
END:VEVENT
BEGIN:VEVENT
DTSTART;VALUE=DATE:20180625
DTEND;VALUE=DATE:20180627
DTSTAMP:20260424T051200
CREATED:20180416T203810Z
LAST-MODIFIED:20180416T203810Z
UID:877-1529884800-1530057599@classicalreception.org
SUMMARY:Misdirections and Misconceptions in the Theory and Practice of Greek and Roman Drama
DESCRIPTION:The Department of Ancient World Studies\, Sapienza University of Rome (http://www.antichita.uniroma1.it/)\, and the International Society… Continue reading Ritratti di Cicerone – Portraying Cicero
URL:https://classicalreception.org/event/misdirections-and-misconceptions-in-the-theory-and-practice-of-greek-and-roman-drama/
LOCATION:Royal Holloway University of London\, Egham\, TW20 0EX\, United Kingdom
CATEGORIES:Conference
END:VEVENT
BEGIN:VEVENT
DTSTART;VALUE=DATE:20180622
DTEND;VALUE=DATE:20180623
DTSTAMP:20260424T051200
CREATED:20180605T140121Z
LAST-MODIFIED:20180605T140121Z
UID:941-1529625600-1529711999@classicalreception.org
SUMMARY:Editing Contexts: Historical Editions of Literary Works and their Afterlives
DESCRIPTION:The Department of Ancient World Studies\, Sapienza University of Rome (http://www.antichita.uniroma1.it/)\, and the International Society… Continue reading Ritratti di Cicerone – Portraying Cicero
URL:https://classicalreception.org/event/editing-contexts-historical-editions-of-literary-works-and-their-afterlives/
LOCATION:TORCH\, Radcliffe Humanities\, Radcliffe Observatory Quarter\, Woodstock Road\,\, Oxford\, OX2 6GG\, United Kingdom
CATEGORIES:Conference
END:VEVENT
BEGIN:VEVENT
DTSTART;TZID=UTC:20180615T103000
DTEND;TZID=UTC:20180615T160000
DTSTAMP:20260424T051200
CREATED:20180412T185953Z
LAST-MODIFIED:20180412T185953Z
UID:828-1529058600-1529078400@classicalreception.org
SUMMARY:Society for Neo-Latin Studies Postgraduate Event: Editing Neo-Latin Texts
DESCRIPTION:The Department of Ancient World Studies\, Sapienza University of Rome (http://www.antichita.uniroma1.it/)\, and the International Society… Continue reading Ritratti di Cicerone – Portraying Cicero
URL:https://classicalreception.org/event/society-for-neo-latin-studies-postgraduate-event-editing-neo-latin-texts/
LOCATION:John Rylands Library\, University of Manchester\, 150 Deansgate\, Manchester\, M3 3EH\, United Kingdom
CATEGORIES:Conference,Workshop
END:VEVENT
BEGIN:VEVENT
DTSTART;VALUE=DATE:20180604
DTEND;VALUE=DATE:20180606
DTSTAMP:20260424T051200
CREATED:20180319T214550Z
LAST-MODIFIED:20180319T214550Z
UID:808-1528070400-1528243199@classicalreception.org
SUMMARY:The Literary Self: from Antiquity to the Digital Age
DESCRIPTION:The Department of Ancient World Studies\, Sapienza University of Rome (http://www.antichita.uniroma1.it/)\, and the International Society… Continue reading Ritratti di Cicerone – Portraying Cicero
URL:https://classicalreception.org/event/the-literary-self-from-antiquity-to-the-digital-age/
LOCATION:University of Edinburgh\, Meadows Lecture Theatre\, Doorway 4\, William Robertson Wing\, Old Medical School\, Teviot Place\, Edinburgh\, EH8 9AG\, United Kingdom
CATEGORIES:Conference
END:VEVENT
BEGIN:VEVENT
DTSTART;VALUE=DATE:20180416
DTEND;VALUE=DATE:20180419
DTSTAMP:20260424T051200
CREATED:20180412T193812Z
LAST-MODIFIED:20180412T193812Z
UID:855-1523836800-1524095999@classicalreception.org
SUMMARY:Middle ground or no man’s land? The Classical tradition between Modern Languages and Classics
DESCRIPTION:The Department of Ancient World Studies\, Sapienza University of Rome (http://www.antichita.uniroma1.it/)\, and the International Society… Continue reading Ritratti di Cicerone – Portraying Cicero
URL:https://classicalreception.org/event/middle-ground-or-no-mans-land-the-classical-tradition-between-modern-languages-and-classics/
LOCATION:Durham University\, Durham\, United Kingdom
CATEGORIES:Conference
END:VEVENT
BEGIN:VEVENT
DTSTART;VALUE=DATE:20180412
DTEND;VALUE=DATE:20180415
DTSTAMP:20260424T051200
CREATED:20180110T165118Z
LAST-MODIFIED:20180319T214746Z
UID:740-1523491200-1523750399@classicalreception.org
SUMMARY:Locating the Ancient World in Early Modern Subversive Thought
DESCRIPTION:The Department of Ancient World Studies\, Sapienza University of Rome (http://www.antichita.uniroma1.it/)\, and the International Society… Continue reading Ritratti di Cicerone – Portraying Cicero
URL:https://classicalreception.org/event/locating-the-ancient-world-in-early-modern-subversive-thought/
LOCATION:Newcastle University\, NE1 7RU
CATEGORIES:Conference
END:VEVENT
BEGIN:VEVENT
DTSTART;VALUE=DATE:20180411
DTEND;VALUE=DATE:20180412
DTSTAMP:20260424T051200
CREATED:20180105T105948Z
LAST-MODIFIED:20180105T105948Z
UID:696-1523404800-1523491199@classicalreception.org
SUMMARY:Echoes: A Symposium on Classic-Modern Relations
DESCRIPTION:The Department of Ancient World Studies\, Sapienza University of Rome (http://www.antichita.uniroma1.it/)\, and the International Society… Continue reading Ritratti di Cicerone – Portraying Cicero
URL:https://classicalreception.org/event/echoes-a-symposium-on-classic-modern-relations/
LOCATION:University of Birmingham\, Edgbaston\, Birmingham\, B15 2TT\, United Kingdom
CATEGORIES:Conference
END:VEVENT
BEGIN:VEVENT
DTSTART;VALUE=DATE:20180406
DTEND;VALUE=DATE:20180410
DTSTAMP:20260424T051200
CREATED:20170725T134630Z
LAST-MODIFIED:20170725T134630Z
UID:75-1522972800-1523318399@classicalreception.org
SUMMARY:Classical Association Conference
DESCRIPTION:The Department of Ancient World Studies\, Sapienza University of Rome (http://www.antichita.uniroma1.it/)\, and the International Society… Continue reading Ritratti di Cicerone – Portraying Cicero
URL:https://classicalreception.org/event/classical-association-conference/
CATEGORIES:Conference
ORGANIZER;CN="CA2018@le.ac.uk":MAILTO:CA2018@le.ac.uk
END:VEVENT
BEGIN:VEVENT
DTSTART;VALUE=DATE:20180323
DTEND;VALUE=DATE:20180325
DTSTAMP:20260424T051200
CREATED:20171212T153718Z
LAST-MODIFIED:20171212T153718Z
UID:654-1521763200-1521935999@classicalreception.org
SUMMARY:Anachronism and Antiquity: Configuring Temporalities in Ancient Literature and Scholarship
DESCRIPTION:The Department of Ancient World Studies\, Sapienza University of Rome (http://www.antichita.uniroma1.it/)\, and the International Society… Continue reading Ritratti di Cicerone – Portraying Cicero
URL:https://classicalreception.org/event/anachronism-and-antiquity-configuring-temporalities-in-ancient-literature-and-scholarship/
LOCATION:Florida State University\, Tallahassee\, FL\, United States
CATEGORIES:Conference
END:VEVENT
BEGIN:VEVENT
DTSTART;VALUE=DATE:20180320
DTEND;VALUE=DATE:20180322
DTSTAMP:20260424T051200
CREATED:20171017T202539Z
LAST-MODIFIED:20171017T202539Z
UID:460-1521586800-1521673199@classicalreception.org
SUMMARY:The old lie: I Classici e la Grande Guerra/Classics and the Great War
DESCRIPTION:The Department of Ancient World Studies\, Sapienza University of Rome (http://www.antichita.uniroma1.it/)\, and the International Society… Continue reading Ritratti di Cicerone – Portraying Cicero
URL:https://classicalreception.org/event/the-old-lie-i-classici-e-la-grande-guerraclassics-and-the-great-war/
LOCATION:Università di Bologna\, Italy
CATEGORIES:Conference
END:VEVENT
BEGIN:VEVENT
DTSTART;VALUE=DATE:20180317
DTEND;VALUE=DATE:20180320
DTSTAMP:20260424T051200
CREATED:20180103T115410Z
LAST-MODIFIED:20180103T115410Z
UID:678-1521244800-1521503999@classicalreception.org
SUMMARY:2nd Annual Postgraduate Symposium in Classical Reception
DESCRIPTION:The Department of Ancient World Studies\, Sapienza University of Rome (http://www.antichita.uniroma1.it/)\, and the International Society… Continue reading Ritratti di Cicerone – Portraying Cicero
URL:https://classicalreception.org/event/2nd-annual-postgraduate-symposium-in-classical-reception/
LOCATION:Dept of Philology\, University of Patras\, Patras\, Greece
CATEGORIES:Conference
END:VEVENT
BEGIN:VEVENT
DTSTART;TZID=UTC:20180306T093000
DTEND;TZID=UTC:20180306T163000
DTSTAMP:20260424T051200
CREATED:20180105T135148Z
LAST-MODIFIED:20180219T145252Z
UID:704-1520328600-1520353800@classicalreception.org
SUMMARY:The Landscape Garden: Britain’s Greatest Eighteenth-century Export?
DESCRIPTION:The Department of Ancient World Studies\, Sapienza University of Rome (http://www.antichita.uniroma1.it/)\, and the International Society… Continue reading Ritratti di Cicerone – Portraying Cicero
URL:https://classicalreception.org/event/the-landscape-garden-britains-greatest-eighteenth-century-export/
LOCATION:British School at Rome\, via Antonio Gramsci 61\, Rome\, 00197\, Italy
CATEGORIES:Conference
ORGANIZER;CN="John Harrison":MAILTO:johncpc@btinternet.com
END:VEVENT
BEGIN:VEVENT
DTSTART;VALUE=DATE:20180224
DTEND;VALUE=DATE:20180226
DTSTAMP:20260424T051200
CREATED:20180122T203736Z
LAST-MODIFIED:20180122T203736Z
UID:757-1519430400-1519603199@classicalreception.org
SUMMARY:Historical Fictions Research Network
DESCRIPTION:The Department of Ancient World Studies\, Sapienza University of Rome (http://www.antichita.uniroma1.it/)\, and the International Society… Continue reading Ritratti di Cicerone – Portraying Cicero
URL:https://classicalreception.org/event/historical-fictions-research-network/
LOCATION:Stoke-on-Trent\, ST4 8JG
CATEGORIES:Conference
END:VEVENT
BEGIN:VEVENT
DTSTART;VALUE=DATE:20171215
DTEND;VALUE=DATE:20171217
DTSTAMP:20260424T051200
CREATED:20171212T103413Z
LAST-MODIFIED:20171212T103608Z
UID:632-1513296000-1513468799@classicalreception.org
SUMMARY:Hermeneutics of Symbol\, Myth and “Modernity of antiquity” in Italian Literature and the Arts from the Renaissance up to the Present Day
DESCRIPTION:The Department of Ancient World Studies\, Sapienza University of Rome (http://www.antichita.uniroma1.it/)\, and the International Society… Continue reading Ritratti di Cicerone – Portraying Cicero
URL:https://classicalreception.org/event/hermeneutics-of-symbol-myth-and-modernity-of-antiquity-in-italian-literature-and-the-arts-from-the-renaissance-up-to-the-present-day/
LOCATION:Università Cattolica del Sacro Cuore\, Milan\, Italy
CATEGORIES:Conference
END:VEVENT
BEGIN:VEVENT
DTSTART;TZID=UTC:20171212T093000
DTEND;TZID=UTC:20171212T093000
DTSTAMP:20260424T051200
CREATED:20171031T111852Z
LAST-MODIFIED:20171205T095730Z
UID:527-1513071000-1513071000@classicalreception.org
SUMMARY:Byron the Latinist
DESCRIPTION:The Department of Ancient World Studies\, Sapienza University of Rome (http://www.antichita.uniroma1.it/)\, and the International Society… Continue reading Ritratti di Cicerone – Portraying Cicero
URL:https://classicalreception.org/event/byron-the-latinist/
LOCATION:Classics Faculty\, University of Oxford\, 66 St Giles'\, Oxford\, OX1 3LU\, United Kingdom
CATEGORIES:Conference
END:VEVENT
BEGIN:VEVENT
DTSTART;VALUE=DATE:20171123
DTEND;VALUE=DATE:20171125
DTSTAMP:20260424T051200
CREATED:20170725T131908Z
LAST-MODIFIED:20170725T132609Z
UID:31-1511395200-1511567999@classicalreception.org
SUMMARY:AMPRAW
DESCRIPTION:The Department of Ancient World Studies\, Sapienza University of Rome (http://www.antichita.uniroma1.it/)\, and the International Society… Continue reading Ritratti di Cicerone – Portraying Cicero
URL:https://classicalreception.org/event/ampraw/
LOCATION:University of Edinburgh\, Meadows Lecture Theatre\, Doorway 4\, William Robertson Wing\, Old Medical School\, Teviot Place\, Edinburgh\, EH8 9AG\, United Kingdom
CATEGORIES:Conference
ORGANIZER;CN="":MAILTO:AMPRAW17@ed.ac.uk
END:VEVENT
BEGIN:VEVENT
DTSTART;VALUE=DATE:20171108
DTEND;VALUE=DATE:20171111
DTSTAMP:20260424T051200
CREATED:20171102T162946Z
LAST-MODIFIED:20171102T163137Z
UID:543-1510182000-1510354799@classicalreception.org
SUMMARY:Lettori latini e italiani di Ovidio. Duemila anni di ricezione
DESCRIPTION:The Department of Ancient World Studies\, Sapienza University of Rome (http://www.antichita.uniroma1.it/)\, and the International Society… Continue reading Ritratti di Cicerone – Portraying Cicero
URL:https://classicalreception.org/event/lettori-latini-e-italiani-di-ovidio-duemila-anni-di-ricezione/
LOCATION:Universita di Torino\, Italy
CATEGORIES:Conference
ORGANIZER;CN="Federica Bessone":MAILTO:federica.bessone@unito.it
END:VEVENT
BEGIN:VEVENT
DTSTART;TZID=UTC:20171027T090000
DTEND;TZID=UTC:20171027T170000
DTSTAMP:20260424T051200
CREATED:20171017T202015Z
LAST-MODIFIED:20171017T202015Z
UID:456-1509094800-1509123600@classicalreception.org
SUMMARY:Translating Eurydice
DESCRIPTION:The Department of Ancient World Studies\, Sapienza University of Rome (http://www.antichita.uniroma1.it/)\, and the International Society… Continue reading Ritratti di Cicerone – Portraying Cicero
URL:https://classicalreception.org/event/translating-eurydice/
LOCATION:University of East London\, Room US4.15\, University Square Stratford\, 1 Salway Road\, Stratford\, London\, E15 1NF\, United Kingdom
CATEGORIES:Conference,Performance
END:VEVENT
END:VCALENDAR