BEGIN:VCALENDAR
VERSION:2.0
PRODID:-//CRSN - ECPv6.15.20//NONSGML v1.0//EN
CALSCALE:GREGORIAN
METHOD:PUBLISH
X-ORIGINAL-URL:https://classicalreception.org
X-WR-CALDESC:Events for CRSN
REFRESH-INTERVAL;VALUE=DURATION:PT1H
X-Robots-Tag:noindex
X-PUBLISHED-TTL:PT1H
BEGIN:VTIMEZONE
TZID:UTC
BEGIN:STANDARD
TZOFFSETFROM:+0000
TZOFFSETTO:+0000
TZNAME:UTC
DTSTART:20240101T000000
END:STANDARD
END:VTIMEZONE
BEGIN:VEVENT
DTSTART;VALUE=DATE:20251121
DTEND;VALUE=DATE:20251123
DTSTAMP:20260423T140240
CREATED:20250911T123616Z
LAST-MODIFIED:20250911T123627Z
UID:3828-1763683200-1763855999@classicalreception.org
SUMMARY:CfP: "Reception of the ancient world in trading\, collecting\, gaming and fortune-telling cards" (online)
DESCRIPTION:February 25-26\, 2027 at the French School of Athens ERC Advanced Grant AGRELITA The Reception… Continue reading From imagination to remains\, from remains to imagination: literary representations of ancient Greece in its materiality (14th-19th centuries)
URL:https://classicalreception.org/event/cfp-reception-of-the-ancient-world-in-trading-collecting-gaming-and-fortune-telling-cards-online/
CATEGORIES:Conference
END:VEVENT
END:VCALENDAR