BEGIN:VCALENDAR
VERSION:2.0
PRODID:-//CRSN - ECPv6.15.20//NONSGML v1.0//EN
CALSCALE:GREGORIAN
METHOD:PUBLISH
X-WR-CALNAME:CRSN
X-ORIGINAL-URL:https://classicalreception.org
X-WR-CALDESC:Events for CRSN
REFRESH-INTERVAL;VALUE=DURATION:PT1H
X-Robots-Tag:noindex
X-PUBLISHED-TTL:PT1H
BEGIN:VTIMEZONE
TZID:UTC
BEGIN:STANDARD
TZOFFSETFROM:+0000
TZOFFSETTO:+0000
TZNAME:UTC
DTSTART:20230101T000000
END:STANDARD
END:VTIMEZONE
BEGIN:VEVENT
DTSTART;TZID=UTC:20241108T080000
DTEND;TZID=UTC:20241108T170000
DTSTAMP:20260424T225538
CREATED:20240711T110735Z
LAST-MODIFIED:20240711T110735Z
UID:3613-1731052800-1731085200@classicalreception.org
SUMMARY:CFP ANTIQUITY IN MEDIA STUDIES: 2024 VIRTUAL CONFERENCE deadline 1/8/24
DESCRIPTION:February 25-26\, 2027 at the French School of Athens ERC Advanced Grant AGRELITA The Reception… Continue reading From imagination to remains\, from remains to imagination: literary representations of ancient Greece in its materiality (14th-19th centuries)
URL:https://classicalreception.org/event/cfp-antiquity-in-media-studies-2024-virtual-conference-deadline-1-8-24/
CATEGORIES:Conference
END:VEVENT
END:VCALENDAR