BEGIN:VCALENDAR
VERSION:2.0
PRODID:-//CRSN - ECPv6.15.20//NONSGML v1.0//EN
CALSCALE:GREGORIAN
METHOD:PUBLISH
X-ORIGINAL-URL:https://classicalreception.org
X-WR-CALDESC:Events for CRSN
REFRESH-INTERVAL;VALUE=DURATION:PT1H
X-Robots-Tag:noindex
X-PUBLISHED-TTL:PT1H
BEGIN:VTIMEZONE
TZID:UTC
BEGIN:STANDARD
TZOFFSETFROM:+0000
TZOFFSETTO:+0000
TZNAME:UTC
DTSTART:20220101T000000
END:STANDARD
END:VTIMEZONE
BEGIN:VEVENT
DTSTART;VALUE=DATE:20231018
DTEND;VALUE=DATE:20231024
DTSTAMP:20260426T023823
CREATED:20230303T143540Z
LAST-MODIFIED:20230303T143540Z
UID:3262-1697587200-1698105599@classicalreception.org
SUMMARY:CFP: Women Staging and Restaging the Nineteenth Century (II)
DESCRIPTION:February 25-26\, 2027 at the French School of Athens ERC Advanced Grant AGRELITA The Reception… Continue reading From imagination to remains\, from remains to imagination: literary representations of ancient Greece in its materiality (14th-19th centuries)
URL:https://classicalreception.org/event/cfp-women-staging-and-restaging-the-nineteenth-century-ii/
LOCATION:University of Valencia
CATEGORIES:Conference
END:VEVENT
END:VCALENDAR