BEGIN:VCALENDAR
VERSION:2.0
PRODID:-//CRSN - ECPv6.15.20//NONSGML v1.0//EN
CALSCALE:GREGORIAN
METHOD:PUBLISH
X-ORIGINAL-URL:https://classicalreception.org
X-WR-CALDESC:Events for CRSN
REFRESH-INTERVAL;VALUE=DURATION:PT1H
X-Robots-Tag:noindex
X-PUBLISHED-TTL:PT1H
BEGIN:VTIMEZONE
TZID:UTC
BEGIN:STANDARD
TZOFFSETFROM:+0000
TZOFFSETTO:+0000
TZNAME:UTC
DTSTART:20220101T000000
END:STANDARD
END:VTIMEZONE
BEGIN:VEVENT
DTSTART;TZID=UTC:20230926T080000
DTEND;TZID=UTC:20230927T170000
DTSTAMP:20260426T023846
CREATED:20230914T143706Z
LAST-MODIFIED:20230914T143832Z
UID:3341-1695715200-1695834000@classicalreception.org
SUMMARY:Re-Imagining Tragedy Across Africa and the Global South
DESCRIPTION:February 25-26\, 2027 at the French School of Athens ERC Advanced Grant AGRELITA The Reception… Continue reading From imagination to remains\, from remains to imagination: literary representations of ancient Greece in its materiality (14th-19th centuries)
URL:https://classicalreception.org/event/re-imagining-tragedy-across-africa-and-the-global-south/
CATEGORIES:Conference
ATTACH;FMTTYPE=image/jpeg:https://classicalreception.org/wp-content/uploads/2023/09/6787-AC53-40C6-86D7-0338.jpg
END:VEVENT
END:VCALENDAR