BEGIN:VCALENDAR
VERSION:2.0
PRODID:-//CRSN - ECPv6.15.20//NONSGML v1.0//EN
CALSCALE:GREGORIAN
METHOD:PUBLISH
X-ORIGINAL-URL:https://classicalreception.org
X-WR-CALDESC:Events for CRSN
REFRESH-INTERVAL;VALUE=DURATION:PT1H
X-Robots-Tag:noindex
X-PUBLISHED-TTL:PT1H
BEGIN:VTIMEZONE
TZID:UTC
BEGIN:STANDARD
TZOFFSETFROM:+0000
TZOFFSETTO:+0000
TZNAME:UTC
DTSTART:20240101T000000
END:STANDARD
END:VTIMEZONE
BEGIN:VEVENT
DTSTART;TZID=UTC:20250703T080000
DTEND;TZID=UTC:20250703T170000
DTSTAMP:20260424T012653
CREATED:20240711T110030Z
LAST-MODIFIED:20240711T110030Z
UID:3611-1751529600-1751562000@classicalreception.org
SUMMARY:CFP: STAGING SILENCE FROM ANTIQUITY TO THE RENAISSANCE\, deadline 9/1/25
DESCRIPTION:February 25-26\, 2027 at the French School of Athens ERC Advanced Grant AGRELITA The Reception… Continue reading From imagination to remains\, from remains to imagination: literary representations of ancient Greece in its materiality (14th-19th centuries)
URL:https://classicalreception.org/event/cfp-staging-silence-from-antiquity-to-the-renaissance-deadline-9-1-25/
LOCATION:University of Cambridge
CATEGORIES:Conference
END:VEVENT
BEGIN:VEVENT
DTSTART;VALUE=DATE:20250715
DTEND;VALUE=DATE:20250719
DTSTAMP:20260424T012653
CREATED:20241124T182824Z
LAST-MODIFIED:20241124T182824Z
UID:3707-1752537600-1752883199@classicalreception.org
SUMMARY:Call for Papers: Odysseus in the 21st Century - deadline 20/01/25
DESCRIPTION:February 25-26\, 2027 at the French School of Athens ERC Advanced Grant AGRELITA The Reception… Continue reading From imagination to remains\, from remains to imagination: literary representations of ancient Greece in its materiality (14th-19th centuries)
URL:https://classicalreception.org/event/call-for-papers-odysseus-in-the-21st-century-deadline-20-01-25/
LOCATION:University of Coimbra\, Coimbra\, Portugal
CATEGORIES:Conference
END:VEVENT
END:VCALENDAR